Workbook

Sheet Group Heuristic Evaluation
A1: Prototype Description: | B1: EKG collects both static and dynamic student information to be shared with teachers and offers suggested activities to improve teacher & student relationships
A4: Simple Task | B4: "Teacher views student information"
A5: Moderate Task | B5: 1) Teacher runs a game to collect student information 2) Teacher receives AI generated alerts about students
A6: Complex Task | B6: Teacher codesigns a game with an AI chat bot
I8: I changed severities + clarification
E9: *attach images here if helpful
A10: Problem # | B10: Heuristic | C10: Task | D10: Severity | E10: Description | F10: Rationale | G10: Fix | H10: Found by | I10: CA Comments | J10: Team Comments
A11: =ROW() - 8 -> 3 | B11: H10: Help & Documentation | C11: 1. Simple Task | D11: 4 | E11: On the student page, a lack of context about when the summary was created could lead to confusion or outdated information. When is the summary created and based on which questions / games? | F11: summary might be outdated / confusing if teacher is unsure when it was written | G11: Add a timestamp to the summary so teachers can see when it was created or last updated. | H11: A, C | I11: on "student profile" page where you can see summary and general information, how is this info populated?
A12: =ROW() - 8 -> 4 | B12: H7: Flexibility & Efficiency of Use | C12: 1. Simple Task | D12: 4 | E12: The back button after viewing Christina Joo returns users to the choose class page, which interrupts their workflow when trying to view another student. | F12: Teachers need to navigate between student profiles quickly. It may cause frustration and time spent searching through repeated actions | G12: Make the back button return to the student list, allowing users to easily switch between student profiles. | H12: C, B, A | I12: higher sev
A13: =ROW() - 10 -> 3 | B13: H1: Visibility of System Status | C13: 1. Simple Task | D13: 4 | E13: There's no visual feedback indicating that a notification action like "Save" or "Dismiss" was successful in a classes view on a student card | F13: Users may not know if their action has been completed, creating uncertainty about whether they need to repeat the action or if they took some action | G13: Have a confirmation message or animation (ex. “Saved!” or “Dismissed!”) after each action to confirm success | H13: B | I13: higher sev
A14: 1 | B14: H4: Consistency & Standards | C14: 1. Simple Task | D14: 2 | E14: Redundant notifications for the same student. Christina Joo is repeated for under both Notifications and Students tab | F14: I am unsure sure why the same student is repeated in both Notification & Students if clicking on either student tab brings me to the same next page | G14: Consider collapsing notifications and student lists. Highlight students in [colour] instead of using duplicate notifications. | H14: C
A15: =ROW() - 8 -> 7 | B15: H8: Aesthetic & Minimalist Design | C15: 1. Simple Task | D15: 2 | E15: Duplicate notifications create confusion about whether they refer to the same information. "Notifications" appeared twice. One as an icon at the bottom of page, another at the top of the class page. Do they refer to the same thing? | F15: Redundant information can overwhelm the user and lead to confusion. | G15: Remove one instance of the notification to reduce redundancy. | H15: C
A16: =ROW() - 8 -> 8 | B16: H6: Recognition not Recall | C16: 1. Simple Task | D16: 2 | E16: In the student information page, under the students picture, it says the students nme and in which period they belong. It does not mention anything about which class they are in or what grade they are in. | F16: The user has to remember from previous pages what class the student belongs in and what grade they are as this information is not displayes in the student information page. | G16: Display this information in the stiudent info page | H16: A
A17: =ROW() - 8 -> 9 | B17: H1: Visibility of System Status | C17: 1. Simple Task | D17: 2 | E17: Could link a notification on a student's profile so you can see what is going on with them in one place instead of having to navigate to two tabs | F17: Teachers might miss notifications if they aren't looking for it. Classified as 2 because it could impact the experience of teachers in the app. | G17: Add notifications to the student profile | H17: D
A18: =ROW() - 10 -> 8 | B18: H9: Help Users with Errors | C18: 1. Simple Task | D18: 2 | E18: Header for clicking a class is the period not the subject. Could help users prevent errors by making the class (more identifiable) the header. | F18: Especially at the start of a term teachers might not have periods memorized but can remember class types | G18: Change period to class type. | H18: D
A19: =ROW() - 10 -> 9 | B19: H12: Value Alignment & Inclusion | C19: 1. Simple Task | D19: 2 | E19: Not clear how to sort students. | F19: Some students might end up getting more attention if it is strictly alphabetical | G19: Create sorting options for students. | H19: D
A20: =ROW() - 8 -> 12 | B20: H4: Consistency & Standards | C20: 1. Simple Task | D20: 2 | E20: 1st period stated on page but without timing | F20: Lack of timing information can lead to confusion, especially for teachers managing multiple periods. | G20: Include the lesson time alongside the period information for each class. | H20: D, C | I20: Period + time of period? like high school schedule
A21: =ROW() - 8 -> 13 | B21: H1: Visibility of System Status | C21: 1. Simple Task | D21: 2 | E21: Have a notification number in the nav bar | F21: Lets teachers know they have new student notifications. This is a 1 because the app is fully functional without it and it doesn't directly effect usability. | G21: Add a number bubble for the notifications | H21: D | I21: higher sev
A22: =ROW() - 8 -> 14 | B22: H4: Consistency & Standards | C22: 1. Simple Task | D22: 1 | E22: On the home page, timing of classes are the same / no period number stated for last 2 classes | F22: Inconsistent class timings and missing period information can cause confusion. | G22: Ensure each class has clear timings and period details for consistency & flag out any clashes or overlaps | H22: C, A
A23: =ROW() - 8 -> 15 | B23: H7: Flexibility & Efficiency of Use | C23: 1. Simple Task | D23: 1 | E23: On home page, the classes are arranged in the order of periods - I am assuming | F23: The order of classes may not align with a teacher’s preferred way of organizing them. | G23: Add a sort button to allow teachers to customize the order of their classes. | H23: C
A24: =ROW() - 8 -> 16 | B24: H8: Aesthetic & Minimalist Design | C24: 1. Simple Task | D24: 1 | E24: Classes in the home page are all in the same colour | F24: All classes being the same color makes it hard to distinguish between them, especially when managing multiple classes. | G24: Use different colors to represent different subjects or levels for clearer differentiation. | H24: C, D
A25: =ROW() - 8 -> 17 | B25: H8: Aesthetic & Minimalist Design | C25: 1. Simple Task | D25: 1 | E25: In the home page, "select a class" & "classes" are listed one after another | F25: The repetition of instructions and headers adds unnecessary clutter to the homepage. | G25: remove "classes" | H25: C
A26: =ROW() - 8 -> 18 | B26: H8: Aesthetic & Minimalist Design | C26: 1. Simple Task | D26: 1 | E26: when I view student list during the student search, I am unsure how the names are sorted | F26: The lack of clarity about how student names are sorted can create confusion for users trying to locate a specific student. | G26: Sort student names alphabetically by default, or offer an option for teachers to sort them as needed. | H26: C, D
A27: =ROW() - 10 -> 17 | B27: H8: Aesthetic & Minimalist Design | C27: 1. Simple Task | D27: 1 | E27: The student information page contains a large amount of white space, particularly below the Summary and General Information cards | F27: Excessive white space may cause important information to appear less prominent, leading to less efficient use of the screen | G27: Make use of white space here by adding more information about a student, perhaps assignments, tardies, or other useful metrics | H27: B
A28: =ROW() - 10 -> 18 | B28: H4: Consistency & Standards | C28: 1. Simple Task | D28: 1 | E28: "Save" and "Dismiss" buttons have the same color (white) under a student card | F28: When two buttons have opposite outcomes but are styled in the same color this may cause confusion where users have to double-check their actions | G28: Differentiate these buttons with icons, color or outlines. A heart is popular for saving and an 'x' for dismissing are possible options | H28: B
A29: =ROW() - 8 -> 21 | B29: H4: Consistency & Standards | C29: 1. Simple Task | D29: 1 | E29: Student information one-liner differs across pages | F29: In the student information page the information below the students name is the period the student belongs in where as in the students list of a class in the previous page, the information under a students name is what grade they are in. This is inconsistent. | G29: Display the same information for the students everywhere | H29: A
A30: =ROW() - 8 -> 22 | B30: H2: Match b/w System & World | C30: 1. Simple Task | D30: 1 | E30: "Intermediate" reading level can mean different things to different people. | F30: Having a concrete metric such as "9th grade level reading" could be more descriptive | G30: Change to more granular/informative reading level. | H30: D
A31: =ROW() - 10 -> 21 | B31: H8: Aesthetic & Minimalist Design | C31: 1. Simple Task | D31: 1 | E31: Book icon is not clearly a book | F31: Users who have trouble reading or a language barrier might be confused | G31: Choose a different book icon | H31: D
A32: =ROW() - 8 -> 24 | B32: H4: Consistency & Standards | C32: 1. Simple Task | D32: 0 | E32: iPad is capitalized wrong | F32: For uniformity it should be capitalized the way Apple writes it. A non-native English speaker might think it says "L-pad". This is a 0 because it doesn't effect usability. | G32: Change to iPad | H32: D | I32: ha
A33: =ROW() - 8 -> 25 | B33: H6: Recognition not Recall | C33: 1. Simple Task | D33: 3 | E33: Lack of subject/level details can lead to confusion about which class is being referenced. If user searches for the student via the search icon - 1st period is stated, but there is no indication of the subject / level | F33: Teachers may not remember the additional details of the class they are teaching. | G33: Add the subject and level below the period for clarity. | H33: C, A | I33: Subject AND period, higher sev
A34: =ROW() - 10 -> 24 | B34: H6: Recognition not Recall | C34: 1. Simple Task | D34: 3 | E34: There's no label or icons that indicate that a user can click on student cards for more information when searching for students or in a class view | F34: Without labels or icons indicating more information, users may not realize they can click on each student to view additional details and may miss important information | G34: Add a subtle arrow or icon next to each student's name to indicate that it's clickable, reducing a need to remember this functionality | H34: B | I34: higher sev
A35: =ROW() - 8 -> 27 | B35: H4: Consistency & Standards | C35: 1. Simple Task | D35: 3 | E35: Inconsistency between "Student Alert" and "1st Period Alert" | F35: Unclear if Student Alert means the student is in multiple periods. | G35: Change to the subject (can list multiple) | H35: D | I35: higher sev
A36: =ROW() - 8 -> 28 | B36: H5: Error Prevention | C36: 1. Simple Task | D36: 3 | E36: Having an edit button on the student profile from teacher view | F36: Teachers might think they can edit a student profile | G36: Remove edit button or put an info icon explaining what it means. | H36: D | I36: higher sev
A37: =ROW() - 10 -> 27 | B37: H6: Recognition not Recall | C37: 1. Simple Task | D37: 3 | E37: Header and "Start a Game" scroll with notifications when inside of a class view | F37: If a user has a lot of students and/or notifications and they scroll down, the header and button are no longer visible, so they have to remember the period and that it's there | G37: Have the period and button stay fixed to the top of the screen while the Notifications and Students sections are scrollable | H37: B | I37: higher sev
A38: =ROW() - 8 -> 30 | B38: H4: Consistency & Standards | C38: 2. Moderate Task | D38: 4 | E38: The wording "Start Game" is unclear and misleading. Choice of words "start game" - may suggest that game will be started after clicking on the button. | F38: Start game also appears in the next page - but they actually don't mean the same thing. First "start game" seems to refer to "build / create your game" instead of actually "starting the game" | G38: Replace "Start Game" with "Build Game" or "Create Game" to clearly indicate the action. | H38: C | I38: higher sev
A39: =ROW() - 8 -> 31 | B39: H12: Value Alignment & Inclusion | C39: 2. Moderate Task | D39: 4 | E39: There is no prompt to get teachers to check/review their responses before starting the game. Teachers may ask questions that are too personal or sensitive without realizing it. | F39: While this can be a light-hearted way to get to know students, teachers should be more measured / considered / think more carefully when they ask more serious questions i.e what are the challenges you faced this week, because some of these questions may make certain students uncomfortable. | G39: Add a prompt encouraging teachers to review their questions before starting the game, especially those that may touch on sensitive topics. | H39: C | I39: higher sev
A40: =ROW() - 8 -> 32 | B40: H4: Consistency & Standards | C40: 2. Moderate Task | D40: 4 | E40: after responses are generated, clicking on the student response directs user to their profile | F40: sometimes, the teacher may want to read the game responses more carefully - instead of going straight to student profile | G40: Direct the user to the responses page first, allowing them to review the answers before navigating to the student profile. | H40: C | I40: higher sev
A41: =ROW() - 8 -> 33 | B41: H3: User Control & Freedom | C41: 2. Moderate Task | D41: 4 | E41: There is no way to delete games from the previous games page | F41: The user does not have the freedom to delete games from the previous games page | G41: Have a way to delete games in the previous gae page | H41: A | I41: higher sev
A42: =ROW() - 8 -> 34 | B42: H5: Error Prevention | C42: 2. Moderate Task | D42: 3 | E42: Allowing multiple game selections at once can confuse users. I am able to select all three games (truth or dare / 2 truths 1 lie / custom activity) at the same time to start the game | F42: Ensure the teacher knows exactly which game they are starting, preventing mistakes and confusion. | G42: Limit the selection to one game at a time. | H42: C, A, B | I42: can be fixed in hi-fi
A43: =ROW() - 10 -> 33 | B43: H1: Visibility of System Status | C43: 2. Moderate Task | D43: 3 | E43: There is no indicator showing if each notification has been read or acknowledged | F43: Having no clear indicators as to which notifications have been read or acknowledged forces the user to remember these details, which causes a lot of cognitive overhead | G43: Add a "Read" or similar functionality to notifications for user acknowledgment | H43: B
A44: =ROW() - 8 -> 36 | B44: H1: Visibility of System Status | C44: 2. Moderate Task | D44: 3 | E44: It is unclear what the save, dismiss and alert options do | F44: The user might not understand at first what these buttons do | G44: Add documentation to explain what these buttons do | H44: A
A45: =ROW() - 8 -> 37 | B45: H1: Visibility of System Status | C45: 2. Moderate Task | D45: 3 | E45: In the notifications page it is unclear where the notifications are coming from | F45: It is unclear to the user where the notifications are coming from | G45: Mention the source of the notifications. Maybe make them expandable with more information | H45: A | I45: unclear what this means, maybe who the notifications are coming from, is it from teacher or system?
A46: =ROW() - 8 -> 38 | B46: H1: Visibility of System Status | C46: 2. Moderate Task | D46: 3 | E46: while waiting for game response, I am unsure about how the game is progressing. I only see numbers increasing. No countdown or quick exit after starting game without notifying students | F46: Teachers are unsure of the game’s progress without knowing how many students have completed the task or how much time is remaining. Without a countdown or quick exit, users might accidentally start a game and have to notify students. A countdown before the game starts (like 5...4...3) with a cancel option can give users more control if they make mistakes | G46: consider adding a detail to show how many students were present in the class - so that the teacher knows when to end the game. Add a countdown after clicking "Start Game" and add the option to cancel as a form of confirmation | H46: C, B | I46: higher sev
A47: =ROW() - 8 -> 39 | B47: H2: Match b/w System & World | C47: 2. Moderate Task | D47: 3 | E47: after game is played - there is a dismiss function when i click on individual function In the settings page, the checkbox labels such as “Technology Access” and “Computer Proficiency” might use terminology that's more system-oriented | F47: The "dismiss" function is ambiguous and doesn't clearly communicate its purpose. Unsure what dismiss means. Does it mean I delete the response? or does it mean i just close the tab and can click onto next student? Users may not immediately recognize what “Computer Proficiency” or “Technology Access” mean in this context and there are no other options besides checking these | G47: Replace "dismiss" with a more intuitive label such as "Close" Be clearer as to what different terminology means. Perhaps for technology access use "devices" as the terminology instead, but this is subjective | H47: A, C | I47: higher sev
A48: =ROW() - 8 -> 40 | B48: H3: User Control & Freedom | C48: 2. Moderate Task | D48: 3 | E48: Back button missing on games page | F48: Missing back functionality makes it difficult for teachers to return to the previous page or section. | G48: Add back button | H48: A, D, B, C | I48: higher sev
A49: =ROW() - 8 -> 41 | B49: H6: Recognition not Recall | C49: 2. Moderate Task | D49: 3 | E49: Lack of class details during game setup can confuse the teacher. 1st period in game page does not indicate to user which class they are teaching | F49: Teachers may be juggling multiple classes & this may cause some confusion | G49: Display the class name or subject alongside the period to provide better context. | H49: C, D | I49: higher sev
A50: =ROW() - 8 -> 42 | B50: H6: Recognition not Recall | C50: 2. Moderate Task | D50: 3 | E50: There is game history in the previous page - but no question history for truth or dare. | F50: Lack of a history of questions asked during Truth or Dare may result in repetition. Sometimes the teachers ask questions that have been asked before. | G50: Add a question history bank to allow teachers to view questions that have already been asked. | H50: C | I50: good idea
A51: =ROW() - 8 -> 43 | B51: H10: Help & Documentation | C51: 2. Moderate Task | D51: 3 | E51: Not clear user needs to enter truth and dare | F51: Users might think they can enter just one. Categorized as level 2 because it can impact usability if a user can't progress. | G51: Have a text box telling users to enter one of each | H51: D | I51: Instructions that tell user to enter both truth AND dare, higher sev
A52: =ROW() - 10 -> 42 | B52: H6: Recognition not Recall | C52: 2. Moderate Task | D52: 3 | E52: Once you finish a game, it doesn't say what the truth or dare was. | F52: Teachers might forget what they asked. | G52: Include truth + dare at the top. | H52: D | I52: higher sev
A53: =ROW() - 10 -> 43 | B53: H4: Consistency & Standards | C53: 2. Moderate Task | D53: 3 | E53: AI Help" and "Start Game" buttons are the same color and could be close to each other during game creation | F53: The presence of two different orange buttons could confuse users about their purpose if they perform different actions and if are potentially close to each other | G53: Change the color of the "AI Help" button or differentiate it with icons etc. | H53: B | I53: higher sev
A54: =ROW() - 10 -> 44 | B54: H6: Recognition not Recall | C54: 2. Moderate Task | D54: 3 | E54: Each entry in the "Previous Games" page displays basic information but does not summarize the outcome or key results of past games | F54: Users may have to recall the details of each session if they’re only given basic identifiers like the class name and date, which may be enough | G54: Add a brief summary or outcome indicator (ex. "Summary Available”) for each entry to reduce cognitive load for users | H54: B | I54: higher sev
A55: =ROW() - 8 -> 47 | B55: H11: Accessible Design | C55: 2. Moderate Task | D55: 3 | E55: In the games page, to select agame one must click the litle selection circle at the right of the box, and clicking the box does not select the game | F55: Someone with reduced finger mobility or vision might find it challenging to select a game | G55: Make sure that a user can select a game by clicking the game box. I.e make the game box clickable, not just the little circle | H55: A, B | I55: make clickable area bigger, not just radio button
A56: =ROW() - 8 -> 48 | B56: H3: User Control & Freedom | C56: 2. Moderate Task | D56: 3 | E56: The user is not given a choice on game management after a game ends | F56: The user doesnt have the freedom to decide weather a game is saved in previous games or disgarded | G56: Put a save game and disgard game buttons at the end of the game summary page | H56: A | I56: higher sev
A57: =ROW() - 10 -> 47 | B57: H3: User Control & Freedom | C57: 2. Moderate Task | D57: 3 | E57: The notifications screen doesn't have an option to mark notifications, delete them, or take an action directly from a notification card | F57: Users might want more control over their notifications, such as clearing alerts, mark as read, or saving them for a future use | G57: Add swipe actions on each notification (ex. swipe left to delete or mark as read) or buttons for these actions on each notification card | H57: B | I57: higher sev
A58: =ROW() - 10 -> 48 | B58: H6: Recognition not Recall | C58: 2. Moderate Task | D58: 3 | E58: There's no clear differentiations between alerts for each notification type, requiring users to recall the context of each alert | F58: Users might not immediately recognize a notification type without carefully reading it, which may slow down their ability to address them | G58: Add recognizable icons to each notification card or use a color-coding system to allow users to quickly recognize alert types | H58: B | I58: icons >> color
A59: =ROW() - 8 -> 51 | B59: H4: Consistency & Standards | C59: 2. Moderate Task | D59: 2 | E59: The change in the student's response raises concerns about the accuracy and consistency of the data. Christina Joo's response during the game changed from eating ice cream to lost my pet and made me sad & the final version when I clicked on her profile is that she lost her dog | F59: I am not sure whether this was intentional - but may want to consider whether the AI is behind the edits - would this spread any misinformation / create some kind of confusion if the AI generalizes / make assumptions | G59: Ensure that responses remain consistent across views. If AI makes edits, clarify that those changes are intentional, and avoid assumptions. | H59: C | I59: can be fixed in hi-fi, lower sev
A60: =ROW() - 8 -> 52 | B60: H12: Value Alignment & Inclusion | C60: 2. Moderate Task | D60: 2 | E60: The "Two Truths and a Lie" game may raise concerns about encouraging students to lie. | F60: could there be an argument against teachers encouraging students to "lie" - their values are about building human connection | G60: Consider offering an alternative game that doesn’t promote dishonesty or provide a clearer educational purpose. | H60: C | I60: interesting!
A61: =ROW() - 8 -> 53 | B61: H12: Value Alignment & Inclusion | C61: 2. Moderate Task | D61: 2 | E61: The tasks may be too direct or difficult for some students to complete comfortably. Students need to do either truth or dare task | F61: students may not be up to do the tasks. Truths may be too direct, dares may be too difficult to do | G61: Allow students to choose their response format (e.g., free response, mood meter) to offer more flexibility and avoid discomfort. | H61: B, C | I61: interesting!
A62: =ROW() - 8 -> 54 | B62: H3: User Control & Freedom | C62: 2. Moderate Task | D62: 2 | E62: The broken back button can leave the teacher unable to navigate away from the page. Back button does not work in the truth or dare page | F62: If teacher wants to change to another class, they would be stuck | G62: Add a working back button to the Truth or Dare page to allow users to return to the previous screen. | H62: A, C
A63: =ROW() - 8 -> 55 | B63: H6: Recognition not Recall | C63: 2. Moderate Task | D63: 2 | E63: Once the teacher exits the AI chatbot, they may lose important context or suggestions. After speaking to AI chatbot, back button brings teacher back to previous page, but what if the teacher needs to refer to the prompts that the chatbot provided? | F63: Teacher may not remember the given inputs by AI / teacher may want to refer back to chat history | G63: Provide an option for teachers to review the chat history or prompt summary or a use button in the chat bot | H63: C, B, D, A | I63: fix in hi-fi
A64: =ROW() - 8 -> 56 | B64: H12: Value Alignment & Inclusion | C64: 2. Moderate Task | D64: 2 | E64: Have a call to action or something to motivate teachers to start a game | F64: Making the app values clear could inspire teachers to connect with students. This is slightly higher than cosmetic because it has the power to effect how users interact with their students and the context of building connections. | G64: Have a fun icon or text on the game page to encourage teachers. | H64: D
A65: =ROW() - 10 -> 55 | B65: H5: Error Prevention | C65: 2. Moderate Task | D65: 2 | E65: The "Start Game" button is clickable when no game options are selected | F65: Allowing users to start a game without selecting one can lead to confusion as to what they pressed | G65: Grey out the button or make it unclickable unless a game option is selected | H65: B | I65: disable 'start game' button
A66: =ROW() - 10 -> 56 | B66: H3: User Control & Freedom | C66: 2. Moderate Task | D66: 2 | E66: There's no visible way to clear the input fields if users want to reset their Truth or Dare prompts | F66: Users may want the freedom to quickly clear both fields and start over without manually deleting text | G66: Add a “Clear” button next to each text box, allowing users to reset their inputs with a single click | H66: B | J66: Not in MVP
A67: =ROW() - 10 -> 57 | B67: H9: Help Users with Errors | C67: 2. Moderate Task | D67: 2 | E67: From a students POV, there is no way to correct or edit a response to a game if an error was made | F67: Users might want to modify or correct their responses, especially if a mistake was made during game inputs | G67: For students, add an “Edit” button for each response to allow making changes if needed, or provide a confirmation before submission | H67: B
A68: =ROW() - 8 -> 60 | B68: H2: Match b/w System & World | C68: 2. Moderate Task | D68: 2 | E68: Inconsistent descriptions of games could confuse teachers about how each game works. Truth or dare "description" is different from custom activity. One is a call to action, another is instruction on how to do the activity | F68: there should be some standardization - custom activity description is an explanation of how the AI is used - whereas truth or dare is just a statement to encourage people to use the game. teachers may not understand what the game is about | G68: Standardize the descriptions for all games, providing clear, concise explanations of how they work. | H68: C | I68: higher sev
A69: =ROW() - 8 -> 61 | B69: H4: Consistency & Standards | C69: 2. Moderate Task | D69: 2 | E69: The AI help prompt is irrelevant and detracts from the intended task. AI help for truth / dare should be immediately linked to truth or dare - unsure why the chatbot gave the option about another type of game as well | F69: Irrelevant options distract from the task at hand and can confuse users. Directly linking the help to the current game ensures users get the assistance they need without unnecessary decisions. | G69: Remove the phrase for other games and link AI help directly to Truth or Dare. | H69: A, C | I69: higher sev
A70: =ROW() - 8 -> 62 | B70: H8: Aesthetic & Minimalist Design | C70: 2. Moderate Task | D70: 2 | E70: "Start a Game" / Games icon on the home page bring me to the same page | F70: Duplication of functions in UI elements leads to decision fatigue and confusion | G70: Remove one of the icons or move the games page to a different location to reduce redundancy. | H70: C | I70: higher sev
A71: =ROW() - 8 -> 63 | B71: H8: Aesthetic & Minimalist Design | C71: 2. Moderate Task | D71: 2 | E71: The visual design (similar colors and fonts) makes it hard to distinguish between critical information. Colour and font size of response, truth & dare are similar if not the same | F71: teachers may gloss over the important information - in this case probably the number of students who picked truth | G71: Use contrasting colors or font sizes to highlight key information, like the number of students who picked "Truth." | H71: C, B | I71: higher sev
A72: =ROW() - 8 -> 64 | B72: H8: Aesthetic & Minimalist Design | C72: 2. Moderate Task | D72: 2 | E72: The label "current class" in the games page may be restrictive, implying that only the current class can be used for creating games. | F72: could the teacher want to create games for other classes instead? | G72: Replace "current class" with a more general term like "select class" to allow teachers to choose from multiple classes when creating games. | H72: C | I72: higher sev
A73: =ROW() - 8 -> 65 | B73: H10: Help & Documentation | C73: 2. Moderate Task | D73: 2 | E73: In the games page the information icon displays information about what games are offered but nothing else. There is no informationa about what each game does, how its played or how to create it. | F73: The documentation for games is lacking crucial information | G73: Describe the games better in the information section | H73: A | I73: TLDR: wants info about what each game does, how its played or how to create it. tutorial
A74: =ROW() - 8 -> 66 | B74: H11: Accessible Design | C74: 2. Moderate Task | D74: 1 | E74: it seems like the game is mostly done via text / writing | F74: Limiting responses to text may not fully capture the variety of ways students want to engage with the game. | G74: Allow students to submit responses in multiple formats (e.g., images, videos, voice recordings). | H74: C | I74: nice to have, good idea, but not necessary, lower sev | J74: Not in MVP
A75: =ROW() - 8 -> 67 | B75: H3: User Control & Freedom | C75: 2. Moderate Task | D75: 1 | E75: Notifications cant be sorted or filtered | F75: The user cannot easily find a notification they are looking for. | G75: Add filtering and search functionality to notifications page | H75: A | J75: Not in MVP
A76: =ROW() - 10 -> 66 | B76: H8: Aesthetic & Minimalist Design | C76: 2. Moderate Task | D76: 1 | E76: The white space around the text within the information popup is excessive, making the text look sparse | F76: Excessive white space can reduce the information density, being an ineffective use of space. Users would have to click at the very button to exit | G76: Reduce the size of the pop-up such that it's as big as it needs to be (close to where the words end) | H76: B
A77: =ROW() - 8 -> 69 | B77: H4: Consistency & Standards | C77: 2. Moderate Task | D77: 1 | E77: In the game summary page the number of responses is orange bolded and really big in a way that seems inconsistent with the rest of the app. | F77: Boldness of number of responses seems inconsistent with rest of app | G77: Make it less bold | H77: A
A78: =ROW() - 8 -> 70 | B78: H6: Recognition not Recall | C78: 2. Moderate Task | D78: 1 | E78: In the game summary page there is no information about what kind of game was played | F78: User has to remember what kind of game the summary os about | G78: Display the game type in the game summary page | H78: A
A79: =ROW() - 8 -> 71 | B79: H4: Consistency & Standards | C79: 2. Moderate Task | D79: 0 | E79: The dares contain examples that are inconsistent with the subject of the class. Examples given for dares are of math questions / english literature | F79: Teachers would expect subject-specific tasks, so keeping the examples aligned with the subject matter helps avoid confusion. Then again, I cannot tell whether your design choice is intentional | G79: Ensure that all dare examples are related to the class subject (e.g., science-related for a biology class). | H79: C | I79: not important, just examples | J79: Not worth customization in the MVP
A80: =ROW() - 8 -> 72 | B80: H10: Help & Documentation | C80: 2. Moderate Task | D80: 0 | E80: Have info icon for previous games to give users a short summary about what the data is and what they can do with it | F80: Teachers that aren't tech savvy might not see it or know how to interact with it. This is a 0 because it can improve the user experience but isn't a usability problem. | G80: Add an info icon | H80: D
A81: =ROW() - 8 -> 73 | B81: H8: Aesthetic & Minimalist Design | C81: 2. Moderate Task | D81: 3 | E81: after game is played - there is an alert and save function when I click on individual student | F81: The alert and save functions are redundant and unclear, making it difficult for teachers to understand the difference between them. Alert and save may refer to the same thing. if I want to alert myself to it, I should also want to save the info | G81: Clarify the functions of these buttons by combining them into one action (e.g., "Save and Alert") or providing distinct, clear icons that indicate their separate functions. | H81: C | I81: higher sev, lost of confusion about these buttons, repeat
A82: =ROW() - 10 -> 72 | B82: H7: Flexibility & Efficiency of Use | C82: 2. Moderate Task | D82: 3 | E82: The "View all responses" link in the game results page is only accessible after scrolling to the bottom | F82: The page should have this link always accessible without having to scroll all the way to to bottom for ease of use and as a shortcut for experienced users | G82: Have the "View all Responses" fixed to the bottom of the screen while having only responses scrollable | H82: B | I82: higher sev
A83: =ROW() - 8 -> 75 | B83: H10: Help & Documentation | C83: 3. Complex Task | D83: 4 | E83: AI Help - does not actually explain anything to the user on how the AI will be used | F83: The AI Help button is unclear in its purpose and doesn't explain how it can assist the teacher. | G83: Revise the button label to something more descriptive, such as "Generate Prompt with AI" or "Ask AI for Assistance." | H83: B, C | I83: higher sev
A84: =ROW() - 8 -> 76 | B84: H4: Consistency & Standards | C84: 3. Complex Task | D84: 2 | E84: Confusing font sizes and icon placement make it unclear which action to prioritize. AI Help & start game fonts are different. AI Help seems to be bolded & bigger than the start game icon. | F84: Teacher might feel compelled to click on the AI help / unsure whether they should click on the start game to continue to the next step of the game creation. AI help seems to be an additional step & should be placed maybe at the bottom / corner of the page | G84: Prioritizing actions (like starting the game) over supplementary options (like AI Help) makes the user flow more intuitive. change the fonts / standardize swap the order - start game on top, AI help below | H84: C | I84: lots of fixes here but essentially about using visual hierarchy to make more important actions bolder
A85: =ROW() - 10 -> 75 | B85: H7: Flexibility & Efficiency of Use | C85: 3. Complex Task | D85: 1 | E85: Would be nice to create a quick touch to use feature for AI suggested questions | F85: Could expedite the task completion time | G85: Make quick add common questions | H85: D | I85: nice to have but not necessary, lower sev
A86: =ROW() - 10 -> 76 | B86: H9: Help Users with Errors | C86: 3. Complex Task | D86: 1 | E86: There's no edit message button or a similar functionality available | F86: Users might want to edit their inputs if they decide to change their mind, if they made a mistake, or don't like the generated message | G86: Add an edit icon to user sent messages where they are able to edit the message and re-submit | H86: B | I86: repeat
A87: =ROW() - 10 -> 77 | B87: H4: Consistency & Standards | C87: 3. Complex Task | D87: 1 | E87: The chat messages have inconsistent alignment and fonts, with AI chat messages having inconsistent designs | F87: Users might expect a more standardized chat format and should expect the same format regardless of the message (bullet points are fine but have consistent fonts, sizes etc.) | G87: Standardize AI generated messages. Have these all be contained in text boxes that are the same size (span the width of the entire text-box before indenting) and use the same font/font-size as well | H87: B | J87: Standardized text boxes are not the norm in AI chat experiences
A88: =ROW() - 8 -> 80 | B88: H6: Recognition not Recall | C88: 3. Complex Task | D88: 3 | E88: User has to remember truths and dare. Would be nice to one click copy + paste | F88: Users might have a hard time navigating back and forth and would want to write down the dare or highlight and try to copy + paste | G88: Make text click to copy for the suggestions | H88: D | I88: click 'COPY' to copy AI suggestions easily
A89: =ROW() - 10 -> 79 | B89: H12: Value Alignment & Inclusion | C89: 4. All Tasks | D89: 2 | E89: No language select in settings page | F89: From a students POV, not having access to different language options can exclude them, especially those who may not know English that well | G89: Provide the option to change languages in the setting page for students | H89: B | I89: important but not in scope of this class | J89: There is no student setting page.
A90: =ROW() - 10 -> 80 | B90: H10: Help & Documentation | C90: 4. All Tasks | D90: 2 | E90: Not all information icons show information regarding the functionality of the screen their on | F90: Users should expect to always see information displayed from these icons and this documentation should be available for each major screen (missing from notifications, settings, student profiles, etc...) | G90: Ensure all notification icons display information and make sure they appear in every major screen of the app | H90: B | I90: fix in hi-fi
A91: =ROW() - 10 -> 81 | B91: H8: Aesthetic & Minimalist Design | C91: 4. All Tasks | D91: 2 | E91: The layout has considerable white space, especially on the left and right sides of the class cards and in other pages | F91: While minimalism is generally good, this much space could make it feel like there is a lack of information density | G91: Reduce white space within individual cards (like the classes cards), display more information to utilize unused white space (to a certain amount without being overwhelming), make cards larger or span the screen | H91: B | I91: higher sev
A92: =ROW() - 8 -> 84 | B92: H12: Value Alignment & Inclusion | C92: 4. All Tasks | D92: 1 | E92: Could put something on the homepage to motivate the values (a tagline or image). | F92: Inspire users to interact with the app and reinforce app values. This is mostly cosmetic imo to improve branding. | G92: Add a quote or call to action that reinforces your mission. | H92: D | I92: important!
A93: =ROW() - 10 -> 83 | B93: H8: Aesthetic & Minimalist Design | C93: 4. All Tasks | D93: 1 | E93: Cells could be spaced/scaled to take up more of the screen to create a more balanced/uniform design | F93: Fuller screens could reduce conginitive load if everything looks more uniform | G93: Make cells bigger on screen | H93: D
A94: =ROW() - 10 -> 84 | B94: H1: Visibility of System Status | C94: 4. All Tasks | D94: 1 | E94: Even though I eventually saw bolded icons in the navigation menu, it's difficult to see where I'm in the app | F94: Absence of clear indicators of where a user is in the app might make it difficult for navigation | G94: Make indicators clearer, perhaps a fill instead of outline | H94: B
A95: =ROW() - 10 -> 85 | B95: H4: Consistency & Standards | C95: 4. All Tasks | D95: 1 | E95: The "Start a Game" button appears in different locations across the app. In classes it's uncentered and in other sections it's centered | F95: The main button placement should be consistent and follow established standards. If the button changes position across screens it may make learnability more difficult | G95: Keep the placement of the "Start a Game" button consistent (centered) across the app | H95: B | J95: Will be fixed in hi-fi
A96: =ROW() - 8 -> 88 | B96: H1: Visibility of System Status | C96: 5. Extra Violations | D96: 4 | E96: These is no mention of EKG | F96: The user forgets the name of the app | G96: Put the app logo or symbol in pages | H96: A | I96: important!!
A97: =ROW() - 8 -> 89 | B97: H10: Help & Documentation | C97: 5. Extra Violations | D97: 3 | E97: On the home page, search bar placement is misleading, making teachers think they are searching for classes instead of students. | F97: on first look, I thought that the search was to search for classes - but when I clicked, the student list came up. Nothing on the homepage told me that the search was for students | G97: Clearly label the search bar as "Search Students" or add an icon to differentiate it from class-related searches. | H97: C | I97: higher sev
A98: =ROW() - 8 -> 90 | B98: H5: Error Prevention | C98: 5. Extra Violations | D98: 3 | E98: The placement of the edit button makes the function unclear and may lead to confusion. | F98: UI elements need to be placed in intuitive locations that match user expectations. May be difficult for user to know that the edit button is used for | G98: Move the "Edit" button? or just remove altogether. Not sure if there is a need to edit the student profile | H98: C, B
A99: =ROW() - 8 -> 91 | B99: H8: Aesthetic & Minimalist Design | C99: 5. Extra Violations | D99: 2 | E99: Reading level may not be relevant to a biology class. Why is the reading level necessary for a biology class? Does reading refer to language ability? | F99: Teachers expect data to be directly relevant to the subject they’re teaching. | G99: Replace "reading level" with something more subject-specific (e.g., "biological comprehension level") or remove it if unnecessary - does it really help in understanding the student? | H99: C, D | J99: Reading level is pertinent for all classes >3rd grade. Research has shown that reading level predicts ability to engage in all classes given information (even in biology) is consumed via reading. All teachers selected reading level as information they wanted
A100: =ROW() - 10 -> 90 | B100: H7: Flexibility & Efficiency of Use | C100: 5. Extra Violations | D100: 2 | E100: The lack of personalization in the settings page, not being able to quickly edit the profile picture or text below this picture | F100: The lack of customization options can be limiting for some users and those with specific needs | G100: Have more options for customization in the settings page and a quick edit for the profile picture/title information | H100: B
A101: =ROW() - 10 -> 91 | B101: H11: Accessible Design | C101: 5. Extra Violations | D101: 2 | E101: The small size of the checkboxes and their labels may be challenging for users with motor impairments or low vision | F101: Small touch targets are harder to interact with, especially on mobile devices, which can lead to usability issues for users with accessibility needs | G101: Increase the size of the checkboxes and labels or add more spacing around each option to make them easier to click | H101: B
A102: =ROW() - 8 -> 94 | B102: H4: Consistency & Standards | C102: 5. Extra Violations | D102: 2 | E102: Inconsistent use of arrow directions can confuse users about navigation. Arrow points up for "previous games", but once the screen comes up, arrow points to the left to return to previous screen. | F102: confusing for user - we would expect arrow down if the preceeding action is an arrow up | G102: Use a downward-pointing arrow when showing previous games, and a leftward arrow when navigating back to the previous screen for consistency. | H102: C | I102: higher sev
A103: =ROW() - 8 -> 95 | B103: H4: Consistency & Standards | C103: 5. Extra Violations | D103: 2 | E103: Under the settings tab, there are icons that are the same. I.e reading & math level, computer proficiency & tech access | F103: Similar icons representing different things can create confusion for teachers trying to interpret notifications. | G103: Use more distinct icons or add labels next to them to clarify their meaning (e.g., "Reading Level" and "Math Proficiency"). | H103: C, D, B | I103: higher sev
...

Sheet Summary of Evaluations
A1: Heuristic | B1: # Viol. (sev 0) | C1: # Viol. (sev 1) | D1: # Viol. (sev 2) | E1: # Viol. (sev 3) | F1: # Viol. (sev 4) | G1: # Viol. (total)
A2: H1: Visibility of System Status | B2: =COUNTIFS('Group Heuristic Evaluation'!B:B, "H1: Visibility of System Status", 'Group Heuristic Evaluation'!D:D, 0) -> 0 | C2: =COUNTIFS('Group Heuristic Evaluation'!B:B, "H1: Visibility of System Status", 'Group Heuristic Evaluation'!D:D, 1) -> 1 | D2: =COUNTIFS('Group Heuristic Evaluation'!B:B, "H1: Visibility of System Status", 'Group Heuristic Evaluation'!D:D, 2) -> 2 | E2: =COUNTIFS('Group Heuristic Evaluation'!B:B, "H1: Visibility of System Status", 'Group Heuristic Evaluation'!D:D, 3) -> 4 | F2: =COUNTIFS('Group Heuristic Evaluation'!B:B, "H1: Visibility of System Status", 'Group Heuristic Evaluation'!D:D, 4) -> 2 | G2: =SUM(B2:F2) -> 9
A3: H2: Match b/w System & World | B3: =COUNTIFS('Group Heuristic Evaluation'!B:B, "H2: Match b/w System & World", 'Group Heuristic Evaluation'!D:D, 0) -> 1 | C3: =COUNTIFS('Group Heuristic Evaluation'!B:B, "H2: Match b/w System & World", 'Group Heuristic Evaluation'!D:D, 1) -> 1 | D3: =COUNTIFS('Group Heuristic Evaluation'!B:B, "H2: Match b/w System & World", 'Group Heuristic Evaluation'!D:D, 2) -> 1 | E3: =COUNTIFS('Group Heuristic Evaluation'!B:B, "H2: Match b/w System & World", 'Group Heuristic Evaluation'!D:D, 3) -> 1 | F3: =COUNTIFS('Group Heuristic Evaluation'!B:B, "H2: Match b/w System & World", 'Group Heuristic Evaluation'!D:D, 4) -> 0 | G3: =SUM(B3:F3) -> 4
A4: H3: User Control & Freedom | B4: =COUNTIFS('Group Heuristic Evaluation'!B:B, "H3: User Control & Freedom", 'Group Heuristic Evaluation'!D:D, 0) -> 0 | C4: =COUNTIFS('Group Heuristic Evaluation'!B:B, "H3: User Control & Freedom", 'Group Heuristic Evaluation'!D:D, 1) -> 1 | D4: =COUNTIFS('Group Heuristic Evaluation'!B:B, "H3: User Control & Freedom", 'Group Heuristic Evaluation'!D:D, 2) -> 2 | E4: =COUNTIFS('Group Heuristic Evaluation'!B:B, "H3: User Control & Freedom", 'Group Heuristic Evaluation'!D:D, 3) -> 3 | F4: =COUNTIFS('Group Heuristic Evaluation'!B:B, "H3: User Control & Freedom", 'Group Heuristic Evaluation'!D:D, 4) -> 1 | G4: =SUM(B4:F4) -> 7
A5: H4: Consistency & Standards | B5: =COUNTIFS('Group Heuristic Evaluation'!B:B, "H4: Consistency & Standards", 'Group Heuristic Evaluation'!D:D, 0) -> 2 | C5: =COUNTIFS('Group Heuristic Evaluation'!B:B, "H4: Consistency & Standards", 'Group Heuristic Evaluation'!D:D, 1) -> 7 | D5: =COUNTIFS('Group Heuristic Evaluation'!B:B, "H4: Consistency & Standards", 'Group Heuristic Evaluation'!D:D, 2) -> 7 | E5: =COUNTIFS('Group Heuristic Evaluation'!B:B, "H4: Consistency & Standards", 'Group Heuristic Evaluation'!D:D, 3) -> 2 | F5: =COUNTIFS('Group Heuristic Evaluation'!B:B, "H4: Consistency & Standards", 'Group Heuristic Evaluation'!D:D, 4) -> 2 | G5: =SUM(B5:F5) -> 20
A6: H5: Error Prevention | B6: =COUNTIFS('Group Heuristic Evaluation'!B:B, "H5: Error Prevention", 'Group Heuristic Evaluation'!D:D, 0) -> 0 | C6: =COUNTIFS('Group Heuristic Evaluation'!B:B, "H5: Error Prevention", 'Group Heuristic Evaluation'!D:D, 1) -> 0 | D6: =COUNTIFS('Group Heuristic Evaluation'!B:B, "H5: Error Prevention", 'Group Heuristic Evaluation'!D:D, 2) -> 1 | E6: =COUNTIFS('Group Heuristic Evaluation'!B:B, "H5: Error Prevention", 'Group Heuristic Evaluation'!D:D, 3) -> 3 | F6: =COUNTIFS('Group Heuristic Evaluation'!B:B, "H5: Error Prevention", 'Group Heuristic Evaluation'!D:D, 4) -> 0 | G6: =SUM(C6:F6) -> 4
A7: H6: Recognition not Recall | B7: =COUNTIFS('Group Heuristic Evaluation'!B:B, "H6: Recognition not Recall", 'Group Heuristic Evaluation'!D:D, 0) -> 0 | C7: =COUNTIFS('Group Heuristic Evaluation'!B:B, "H6: Recognition not Recall", 'Group Heuristic Evaluation'!D:D, 1) -> 1 | D7: =COUNTIFS('Group Heuristic Evaluation'!B:B, "H6: Recognition not Recall", 'Group Heuristic Evaluation'!D:D, 2) -> 2 | E7: =COUNTIFS('Group Heuristic Evaluation'!B:B, "H6: Recognition not Recall", 'Group Heuristic Evaluation'!D:D, 3) -> 9 | F7: =COUNTIFS('Group Heuristic Evaluation'!B:B, "H6: Recognition not Recall", 'Group Heuristic Evaluation'!D:D, 4) -> 0 | G7: =SUM(B7:F7) -> 12
A8: H7: Flexibility & Efficiency of Use | B8: =COUNTIFS('Group Heuristic Evaluation'!B:B, "H7: Flexibility & Efficiency of Use", 'Group Heuristic Evaluation'!D:D, 0) -> 0 | C8: =COUNTIFS('Group Heuristic Evaluation'!B:B, "H7: Flexibility & Efficiency of Use", 'Group Heuristic Evaluation'!D:D, 1) -> 2 | D8: =COUNTIFS('Group Heuristic Evaluation'!B:B, "H7: Flexibility & Efficiency of Use", 'Group Heuristic Evaluation'!D:D, 2) -> 1 | E8: =COUNTIFS('Group Heuristic Evaluation'!B:B, "H7: Flexibility & Efficiency of Use", 'Group Heuristic Evaluation'!D:D, 3) -> 1 | F8: =COUNTIFS('Group Heuristic Evaluation'!B:B, "H7: Flexibility & Efficiency of Use", 'Group Heuristic Evaluation'!D:D, 4) -> 1 | G8: =SUM(B8:F8) -> 5
A9: H8: Aesthetic & Minimalist Design | B9: =COUNTIFS('Group Heuristic Evaluation'!B:B, "H8: Aesthetic & Minimalist Design", 'Group Heuristic Evaluation'!D:D, 0) -> 0 | C9: =COUNTIFS('Group Heuristic Evaluation'!B:B, "H8: Aesthetic & Minimalist Design", 'Group Heuristic Evaluation'!D:D, 1) -> 9 | D9: =COUNTIFS('Group Heuristic Evaluation'!B:B, "H8: Aesthetic & Minimalist Design", 'Group Heuristic Evaluation'!D:D, 2) -> 7 | E9: =COUNTIFS('Group Heuristic Evaluation'!B:B, "H8: Aesthetic & Minimalist Design", 'Group Heuristic Evaluation'!D:D, 3) -> 1 | F9: =COUNTIFS('Group Heuristic Evaluation'!B:B, "H8: Aesthetic & Minimalist Design", 'Group Heuristic Evaluation'!D:D, 4) -> 0 | G9: =SUM(B9:F9) -> 17
A10: H9: Help Users with Errors | B10: =COUNTIFS('Group Heuristic Evaluation'!B:B, "H9: Help Users with Errors", 'Group Heuristic Evaluation'!D:D, 0) -> 0 | C10: =COUNTIFS('Group Heuristic Evaluation'!B:B, "H9: Help Users with Errors", 'Group Heuristic Evaluation'!D:D, 1) -> 1 | D10: =COUNTIFS('Group Heuristic Evaluation'!B:B, "H9: Help Users with Errors", 'Group Heuristic Evaluation'!D:D, 2) -> 2 | E10: =COUNTIFS('Group Heuristic Evaluation'!B:B, "H9: Help Users with Errors", 'Group Heuristic Evaluation'!D:D, 3) -> 0 | F10: =COUNTIFS('Group Heuristic Evaluation'!B:B, "H9: Help Users with Errors", 'Group Heuristic Evaluation'!D:D, 4) -> 0 | G10: =SUM(B10:F10) -> 3
A11: H10: Help & Documentation | B11: =COUNTIFS('Group Heuristic Evaluation'!B:B, "H10: Help & Documentation", 'Group Heuristic Evaluation'!D:D, 0) -> 1 | C11: =COUNTIFS('Group Heuristic Evaluation'!B:B, "H10: Help & Documentation", 'Group Heuristic Evaluation'!D:D, 1) -> 0 | D11: =COUNTIFS('Group Heuristic Evaluation'!B:B, "H10: Help & Documentation", 'Group Heuristic Evaluation'!D:D, 2) -> 2 | E11: =COUNTIFS('Group Heuristic Evaluation'!B:B, "H10: Help & Documentation", 'Group Heuristic Evaluation'!D:D, 3) -> 2 | F11: =COUNTIFS('Group Heuristic Evaluation'!B:B, "H10: Help & Documentation", 'Group Heuristic Evaluation'!D:D, 4) -> 2 | G11: =SUM(B11:F11) -> 7
A12: H11: Accessible Design | B12: =COUNTIFS('Group Heuristic Evaluation'!B:B, "H11: Accessible Design", 'Group Heuristic Evaluation'!D:D, 0) -> 0 | C12: =COUNTIFS('Group Heuristic Evaluation'!B:B, "H11: Accessible Design", 'Group Heuristic Evaluation'!D:D, 1) -> 1 | D12: =COUNTIFS('Group Heuristic Evaluation'!B:B, "H11: Accessible Design", 'Group Heuristic Evaluation'!D:D, 2) -> 1 | E12: =COUNTIFS('Group Heuristic Evaluation'!B:B, "H11: Accessible Design", 'Group Heuristic Evaluation'!D:D, 3) -> 1 | F12: =COUNTIFS('Group Heuristic Evaluation'!B:B, "H11: Accessible Design", 'Group Heuristic Evaluation'!D:D, 4) -> 0 | G12: =SUM(B12:F12) -> 3
A13: H12. ​​Value Alignment & Inclusion | B13: =COUNTIFS('Group Heuristic Evaluation'!B:B, "H12: Value Alignment & Inclusion", 'Group Heuristic Evaluation'!D:D, 0) -> 0 | C13: =COUNTIFS('Group Heuristic Evaluation'!B:B, "H12: Value Alignment & Inclusion", 'Group Heuristic Evaluation'!D:D, 1) -> 1 | D13: =COUNTIFS('Group Heuristic Evaluation'!B:B, "H12: Value Alignment & Inclusion", 'Group Heuristic Evaluation'!D:D, 2) -> 5 | E13: =COUNTIFS('Group Heuristic Evaluation'!B:B, "H12: Value Alignment & Inclusion", 'Group Heuristic Evaluation'!D:D, 3) -> 0 | F13: =COUNTIFS('Group Heuristic Evaluation'!B:B, "H12: Value Alignment & Inclusion", 'Group Heuristic Evaluation'!D:D, 4) -> 1 | G13: =SUM(B13:F13) -> 7
A14: Total Violations | B14: =SUM(B2:B13) -> 4 | C14: =SUM(C1:C13) -> 25 | D14: =SUM(D1:D13) -> 33 | E14: =SUM(E2:E13) -> 27 | F14: =SUM(F2:F13) -> 9 | G14: =SUM(G2:G13) -> 98

Sheet Evaluation Statistics
A1: * for this to calculate properly, delete any unused rows from your 'Group Heuristic Evaluation' chart!
A2: Severity | B2: Evaluator A | C2: Evaluator B | D2: Evaluator C | E2: Evaluator D
A3: 0 | B3: =COUNTIFS('Group Heuristic Evaluation'!H11:H1001, "*A*",'Group Heuristic Evaluation'!D11:D1001, 0)/COUNTA('Group Heuristic Evaluation'!B:B) -> 0 | C3: =COUNTIFS('Group Heuristic Evaluation'!H:H, "*B*",'Group Heuristic Evaluation'!D:D, 0)/COUNTA('Group Heuristic Evaluation'!B:B) -> 0 | D3: =COUNTIFS('Group Heuristic Evaluation'!H:H, "*C*",'Group Heuristic Evaluation'!D:D, 0)/COUNTA('Group Heuristic Evaluation'!B11:B1001) -> 0.020408163 | E3: =COUNTIFS('Group Heuristic Evaluation'!H:H, "*D*",'Group Heuristic Evaluation'!D:D, 0)/COUNTA('Group Heuristic Evaluation'!B11:B1001) -> 0.020408163 | F3: =COUNTIFS('Group Heuristic Evaluation'!D11:D1001, 0)/COUNTA('Group Heuristic Evaluation'!B:B) -> 0.038834951
A4: 1 | B4: =COUNTIFS('Group Heuristic Evaluation'!H:H, "*A*",'Group Heuristic Evaluation'!D:D, 1)/COUNTA('Group Heuristic Evaluation'!B11:B1001) -> 0.051020408 | C4: =COUNTIFS('Group Heuristic Evaluation'!H:H, "*B*",'Group Heuristic Evaluation'!D:D, 1)/COUNTA('Group Heuristic Evaluation'!B11:B1001) -> 0.081632653 | D4: =COUNTIFS('Group Heuristic Evaluation'!H:H, "*C*",'Group Heuristic Evaluation'!D:D, 1)/COUNTA('Group Heuristic Evaluation'!B11:B1001) -> 0.091836735 | E4: =COUNTIFS('Group Heuristic Evaluation'!H:H, "*D*",'Group Heuristic Evaluation'!D:D, 1)/COUNTA('Group Heuristic Evaluation'!B11:B1001) -> 0.071428571 | F4: =COUNTIFS('Group Heuristic Evaluation'!D11:D1001, 1)/COUNTA('Group Heuristic Evaluation'!B:B) -> 0.24271845
A5: 2 | B5: =COUNTIFS('Group Heuristic Evaluation'!H:H, "*A*",'Group Heuristic Evaluation'!D:D, 2)/COUNTA('Group Heuristic Evaluation'!B11:B1001) -> 0.051020408 | C5: =COUNTIFS('Group Heuristic Evaluation'!H:H, "*B*",'Group Heuristic Evaluation'!D:D, 2)/COUNTA('Group Heuristic Evaluation'!B11:B1001) -> 0.12244898 | D5: =COUNTIFS('Group Heuristic Evaluation'!H:H, "*C*",'Group Heuristic Evaluation'!D:D, 2)/COUNTA('Group Heuristic Evaluation'!B11:B1001) -> 0.18367347 | E5: =COUNTIFS('Group Heuristic Evaluation'!H:H, "*D*",'Group Heuristic Evaluation'!D:D, 2)/COUNTA('Group Heuristic Evaluation'!B11:B1001) -> 0.091836735 | F5: =COUNTIFS('Group Heuristic Evaluation'!D11:D1001, 2)/COUNTA('Group Heuristic Evaluation'!B:B) -> 0.32038835
A6: 3 | B6: =COUNTIFS('Group Heuristic Evaluation'!H:H, "*A*",'Group Heuristic Evaluation'!D:D, 3)/COUNTA('Group Heuristic Evaluation'!B11:B1001) -> 0.081632653 | C6: =COUNTIFS('Group Heuristic Evaluation'!H:H, "*B*",'Group Heuristic Evaluation'!D:D, 3)/COUNTA('Group Heuristic Evaluation'!B11:B1001) -> 0.13265306 | D6: =COUNTIFS('Group Heuristic Evaluation'!H:H, "*C*",'Group Heuristic Evaluation'!D:D, 3)/COUNTA('Group Heuristic Evaluation'!B11:B1001) -> 0.10204082 | E6: =COUNTIFS('Group Heuristic Evaluation'!H:H, "*D*",'Group Heuristic Evaluation'!D:D, 3)/COUNTA('Group Heuristic Evaluation'!B11:B1001) -> 0.071428571 | F6: =COUNTIFS('Group Heuristic Evaluation'!D11:D1001, 3)/COUNTA('Group Heuristic Evaluation'!B:B) -> 0.26213592
A7: 4 | B7: =COUNTIFS('Group Heuristic Evaluation'!H:H, "*A*",'Group Heuristic Evaluation'!D:D, 4)/COUNTA('Group Heuristic Evaluation'!B:B) -> 0.038834951 | C7: =COUNTIFS('Group Heuristic Evaluation'!H:H, "*B*",'Group Heuristic Evaluation'!D:D, 4)/COUNTA('Group Heuristic Evaluation'!B:B) -> 0.029126214 | D7: =COUNTIFS('Group Heuristic Evaluation'!H:H, "*C*",'Group Heuristic Evaluation'!D:D, 4)/COUNTA('Group Heuristic Evaluation'!B:B) -> 0.058252427 | E7: =COUNTIFS('Group Heuristic Evaluation'!H:H, "*D*",'Group Heuristic Evaluation'!D:D, 4)/COUNTA('Group Heuristic Evaluation'!B:B) -> 0 | F7: =COUNTIFS('Group Heuristic Evaluation'!D11:D1001, 4)/COUNTA('Group Heuristic Evaluation'!B:B) -> 0.087378641
A8: Total (sevs. 3 & 4) | B8: =SUM(B6:B7) -> 0.1204676 | C8: =SUM(C6:C7) -> 0.16177927 | D8: =SUM(D6:D7) -> 0.16029324 | E8: =SUM(E6:E7) -> 0.071428571
A9: Total (all sevs) | B9: =SUM(B3:B7) -> 0.22250842 | C9: =SUM(C3:C7) -> 0.36586091 | D9: =SUM(D3:D7) -> 0.45621161 | E9: =SUM(E3:E7) -> 0.25510204
B11: =COUNTIF(Group_Heuristic_Evaluations[Found by], "*A*") -> 22 | C11: =COUNTIF(Group_Heuristic_Evaluations[Found by], "*B*") -> 36 | D11: =COUNTIF(Group_Heuristic_Evaluations[Found by], "*C*") -> 45 | E11: =COUNTIF(Group_Heuristic_Evaluations[Found by], "*D*") -> 25

Sheet Summary Recommendations
A1: Summary Recommendations [merge the general recommendations you made here]
A2: Interface Organization and Clarity The feedback emphasizes the need for improved organization and consistency across the app’s interface. There were some redundant notifications and unclear class details, such as missing subject or period information. Clearer navigation, such as fixed headers for class information and options to sort students or customize class order, would improve usability. Additionally, game setup and response options require more intuitive labeling and better instructions to ensure that teachers can easily understand and control the flow of activities. To make the app more user-friendly, the interface should also highlight clickable elements, reduce visual clutter, and present relevant student information more efficiently. Accessibility and User Feedback We also suggested enhancements to accessibility and feedback mechanisms within the app. This includes offering more customization options in settings, improving search functionality, and providing clear indicators of actions, such as saving or dismissing notifications. Suggestions like adding language options and allowing for easier navigation between student profiles and notifications were also mentioned. To further streamline user interaction, we wanted to see more responsive features like visual cues to confirm actions, editable student responses for games, and a way to track game progress. Ultimately, these updates would improve the overall experience, making the app more efficient, intuitive, and inclusive for all users.
