Workbook

Sheet Group Heuristic Evaluation
A1: Prototype Description: | B1: EKG collects both static and dynamic student information to be shared with teachers and offers suggested activities to improve teacher & student relationships
A4: Simple Task | B4: "Teacher views student information"
A5: Moderate Task | B5: 1) Teacher runs a game to collect student information 2) Teacher receives AI generated alerts about students
A6: Complex Task | B6: Teacher codesigns a game with an AI chat bot
I8: I changed severities + clarification
E9: *attach images here if helpful
A10: Problem # | B10: Heuristic | C10: Task | D10: Severity | E10: Description | F10: Rationale | G10: Fix | H10: Found by | I10: CA Comments | J10: Team Comments
A11: =ROW() - 8 -> 3 | B11: H10: Help & Documentation | C11: 1. Simple Task | D11: 4 | E11: On the student page, a lack of context about when the summary was created could lead to confusion or outdated information. When is the summary created and based on which questions / games? | F11: summary might be outdated / confusing if teacher is unsure when it was written | G11: Add a timestamp to the summary so teachers can see when it was created or last updated. | H11: A, C | I11: on "student profile" page where you can see summary and general information, how is this info populated?
A12: =ROW() - 8 -> 4 | B12: H7: Flexibility & Efficiency of Use | C12: 1. Simple Task | D12: 4 | E12: The back button after viewing Christina Joo returns users to the choose class page, which interrupts their workflow when trying to view another student. | F12: Teachers need to navigate between student profiles quickly. It may cause frustration and time spent searching through repeated actions | G12: Make the back button return to the student list, allowing users to easily switch between student profiles. | H12: C, B, A | I12: higher sev
A13: =ROW() - 10 -> 3 | B13: H1: Visibility of System Status | C13: 1. Simple Task | D13: 4 | E13: There's no visual feedback indicating that a notification action like "Save" or "Dismiss" was successful in a classes view on a student card | F13: Users may not know if their action has been completed, creating uncertainty about whether they need to repeat the action or if they took some action | G13: Have a confirmation message or animation (ex. “Saved!” or “Dismissed!”) after each action to confirm success | H13: B | I13: higher sev
A14: 1 | B14: H4: Consistency & Standards | C14: 1. Simple Task | D14: 2 | E14: Redundant notifications for the same student. Christina Joo is repeated for under both Notifications and Students tab | F14: I am unsure sure why the same student is repeated in both Notification & Students if clicking on either student tab brings me to the same next page | G14: Consider collapsing notifications and student lists. Highlight students in [colour] instead of using duplicate notifications. | H14: C
A15: =ROW() - 8 -> 7 | B15: H8: Aesthetic & Minimalist Design | C15: 1. Simple Task | D15: 2 | E15: Duplicate notifications create confusion about whether they refer to the same information. "Notifications" appeared twice. One as an icon at the bottom of page, another at the top of the class page. Do they refer to the same thing? | F15: Redundant information can overwhelm the user and lead to confusion. | G15: Remove one instance of the notification to reduce redundancy. | H15: C
A16: =ROW() - 8 -> 8 | B16: H6: Recognition not Recall | C16: 1. Simple Task | D16: 2 | E16: In the student information page, under the students picture, it says the students nme and in which period they belong. It does not mention anything about which class they are in or what grade they are in. | F16: The user has to remember from previous pages what class the student belongs in and what grade they are as this information is not displayes in the student information page. | G16: Display this information in the stiudent info page | H16: A
A17: =ROW() - 8 -> 9 | B17: H1: Visibility of System Status | C17: 1. Simple Task | D17: 2 | E17: Could link a notification on a student's profile so you can see what is going on with them in one place instead of having to navigate to two tabs | F17: Teachers might miss notifications if they aren't looking for it. Classified as 2 because it could impact the experience of teachers in the app. | G17: Add notifications to the student profile | H17: D
A18: =ROW() - 10 -> 8 | B18: H9: Help Users with Errors | C18: 1. Simple Task | D18: 2 | E18: Header for clicking a class is the period not the subject. Could help users prevent errors by making the class (more identifiable) the header. | F18: Especially at the start of a term teachers might not have periods memorized but can remember class types | G18: Change period to class type. | H18: D
A19: =ROW() - 10 -> 9 | B19: H12: Value Alignment & Inclusion | C19: 1. Simple Task | D19: 2 | E19: Not clear how to sort students. | F19: Some students might end up getting more attention if it is strictly alphabetical | G19: Create sorting options for students. | H19: D
A20: =ROW() - 8 -> 12 | B20: H4: Consistency & Standards | C20: 1. Simple Task | D20: 2 | E20: 1st period stated on page but without timing | F20: Lack of timing information can lead to confusion, especially for teachers managing multiple periods. | G20: Include the lesson time alongside the period information for each class. | H20: D, C | I20: Period + time of period? like high school schedule
A21: =ROW() - 8 -> 13 | B21: H1: Visibility of System Status | C21: 1. Simple Task | D21: 2 | E21: Have a notification number in the nav bar | F21: Lets teachers know they have new student notifications. This is a 1 because the app is fully functional without it and it doesn't directly effect usability. | G21: Add a number bubble for the notifications | H21: D | I21: higher sev
A22: =ROW() - 8 -> 14 | B22: H4: Consistency & Standards | C22: 1. Simple Task | D22: 1 | E22: On the home page, timing of classes are the same / no period number stated for last 2 classes | F22: Inconsistent class timings and missing period information can cause confusion. | G22: Ensure each class has clear timings and period details for consistency & flag out any clashes or overlaps | H22: C, A
A23: =ROW() - 8 -> 15 | B23: H7: Flexibility & Efficiency of Use | C23: 1. Simple Task | D23: 1 | E23: On home page, the classes are arranged in the order of periods - I am assuming | F23: The order of classes may not align with a teacher’s preferred way of organizing them. | G23: Add a sort button to allow teachers to customize the order of their classes. | H23: C
A24: =ROW() - 8 -> 16 | B24: H8: Aesthetic & Minimalist Design | C24: 1. Simple Task | D24: 1 | E24: Classes in the home page are all in the same colour | F24: All classes being the same color makes it hard to distinguish between them, especially when managing multiple classes. | G24: Use different colors to represent different subjects or levels for clearer differentiation. | H24: C, D
A25: =ROW() - 8 -> 17 | B25: H8: Aesthetic & Minimalist Design | C25: 1. Simple Task | D25: 1 | E25: In the home page, "select a class" & "classes" are listed one after another | F25: The repetition of instructions and headers adds unnecessary clutter to the homepage. | G25: remove "classes" | H25: C
A26: =ROW() - 8 -> 18 | B26: H8: Aesthetic & Minimalist Design | C26: 1. Simple Task | D26: 1 | E26: when I view student list during the student search, I am unsure how the names are sorted | F26: The lack of clarity about how student names are sorted can create confusion for users trying to locate a specific student. | G26: Sort student names alphabetically by default, or offer an option for teachers to sort them as needed. | H26: C, D
A27: =ROW() - 10 -> 17 | B27: H8: Aesthetic & Minimalist Design | C27: 1. Simple Task | D27: 1 | E27: The student information page contains a large amount of white space, particularly below the Summary and General Information cards | F27: Excessive white space may cause important information to appear less prominent, leading to less efficient use of the screen | G27: Make use of white space here by adding more information about a student, perhaps assignments, tardies, or other useful metrics | H27: B
A28: =ROW() - 10 -> 18 | B28: H4: Consistency & Standards | C28: 1. Simple Task | D28: 1 | E28: "Save" and "Dismiss" buttons have the same color (white) under a student card | F28: When two buttons have opposite outcomes but are styled in the same color this may cause confusion where users have to double-check their actions | G28: Differentiate these buttons with icons, color or outlines. A heart is popular for saving and an 'x' for dismissing are possible options | H28: B
A29: =ROW() - 8 -> 21 | B29: H4: Consistency & Standards | C29: 1. Simple Task | D29: 1 | E29: Student information one-liner differs across pages | F29: In the student information page the information below the students name is the period the student belongs in where as in the students list of a class in the previous page, the information under a students name is what grade they are in. This is inconsistent. | G29: Display the same information for the students everywhere | H29: A
A30: =ROW() - 8 -> 22 | B30: H2: Match b/w System & World | C30: 1. Simple Task | D30: 1 | E30: "Intermediate" reading level can mean different things to different people. | F30: Having a concrete metric such as "9th grade level reading" could be more descriptive | G30: Change to more granular/informative reading level. | H30: D
A31: =ROW() - 10 -> 21 | B31: H8: Aesthetic & Minimalist Design | C31: 1. Simple Task | D31: 1 | E31: Book icon is not clearly a book | F31: Users who have trouble reading or a language barrier might be confused | G31: Choose a different book icon | H31: D
A32: =ROW() - 8 -> 24 | B32: H4: Consistency & Standards | C32: 1. Simple Task | D32: 0 | E32: iPad is capitalized wrong | F32: For uniformity it should be capitalized the way Apple writes it. A non-native English speaker might think it says "L-pad". This is a 0 because it doesn't effect usability. | G32: Change to iPad | H32: D | I32: ha
A33: =ROW() - 8 -> 25 | B33: H6: Recognition not Recall | C33: 1. Simple Task | D33: 3 | E33: Lack of subject/level details can lead to confusion about which class is being referenced. If user searches for the student via the search icon - 1st period is stated, but there is no indication of the subject / level | F33: Teachers may not remember the additional details of the class they are teaching. | G33: Add the subject and level below the period for clarity. | H33: C, A | I33: Subject AND period, higher sev
A34: =ROW() - 10 -> 24 | B34: H6: Recognition not Recall | C34: 1. Simple Task | D34: 3 | E34: There's no label or icons that indicate that a user can click on student cards for more information when searching for students or in a class view | F34: Without labels or icons indicating more information, users may not realize they can click on each student to view additional details and may miss important information | G34: Add a subtle arrow or icon next to each student's name to indicate that it's clickable, reducing a need to remember this functionality | H34: B | I34: higher sev
A35: =ROW() - 8 -> 27 | B35: H4: Consistency & Standards | C35: 1. Simple Task | D35: 3 | E35: Inconsistency between "Student Alert" and "1st Period Alert" | F35: Unclear if Student Alert means the student is in multiple periods. | G35: Change to the subject (can list multiple) | H35: D | I35: higher sev
A36: =ROW() - 8 -> 28 | B36: H5: Error Prevention | C36: 1. Simple Task | D36: 3 | E36: Having an edit button on the student profile from teacher view | F36: Teachers might think they can edit a student profile | G36: Remove edit button or put an info icon explaining what it means. | H36: D | I36: higher sev
A37: =ROW() - 10 -> 27 | B37: H6: Recognition not Recall | C37: 1. Simple Task | D37: 3 | E37: Header and "Start a Game" scroll with notifications when inside of a class view | F37: If a user has a lot of students and/or notifications and they scroll down, the header and button are no longer visible, so they have to remember the period and that it's there | G37: Have the period and button stay fixed to the top of the screen while the Notifications and Students sections are scrollable | H37: B | I37: higher sev
A38: =ROW() - 8 -> 30 | B38: H4: Consistency & Standards | C38: 2. Moderate Task | D38: 4 | E38: The wording "Start Game" is unclear and misleading. Choice of words "start game" - may suggest that game will be started after clicking on the button. | F38: Start game also appears in the next page - but they actually don't mean the same thing. First "start game" seems to refer to "build / create your game" instead of actually "starting the game" | G38: Replace "Start Game" with "Build Game" or "Create Game" to clearly indicate the action. | H38: C | I38: higher sev
A39: =ROW() - 8 -> 31 | B39: H12: Value Alignment & Inclusion | C39: 2. Moderate Task | D39: 4 | E39: There is no prompt to get teachers to check/review their responses before starting the game. Teachers may ask questions that are too personal or sensitive without realizing it. | F39: While this can be a light-hearted way to get to know students, teachers should be more measured / considered / think more carefully when they ask more serious questions i.e what are the challenges you faced this week, because some of these questions may make certain students uncomfortable. | G39: Add a prompt encouraging teachers to review their questions before starting the game, especially those that may touch on sensitive topics. | H39: C | I39: higher sev
A40: =ROW() - 8 -> 32 | B40: H4: Consistency & Standards | C40: 2. Moderate Task | D40: 4 | E40: after responses are generated, clicking on the student response directs user to their profile | F40: sometimes, the teacher may want to read the game responses more carefully - instead of going straight to student profile | G40: Direct the user to the responses page first, allowing them to review the answers before navigating to the student profile. | H40: C | I40: higher sev
A41: =ROW() - 8 -> 33 | B41: H3: User Control & Freedom | C41: 2. Moderate Task | D41: 4 | E41: There is no way to delete games from the previous games page | F41: The user does not have the freedom to delete games from the previous games page | G41: Have a way to delete games in the previous gae page | H41: A | I41: higher sev
A42: =ROW() - 8 -> 34 | B42: H5: Error Prevention | C42: 2. Moderate Task | D42: 3 | E42: Allowing multiple game selections at once can confuse users. I am able to select all three games (truth or dare / 2 truths 1 lie / custom activity) at the same time to start the game | F42: Ensure the teacher knows exactly which game they are starting, preventing mistakes and confusion. | G42: Limit the selection to one game at a time. | H42: C, A, B | I42: can be fixed in hi-fi
A43: =ROW() - 10 -> 33 | B43: H1: Visibility of System Status | C43: 2. Moderate Task | D43: 3 | E43: There is no indicator showing if each notification has been read or acknowledged | F43: Having no clear indicators as to which notifications have been read or acknowledged forces the user to remember these details, which causes a lot of cognitive overhead | G43: Add a "Read" or similar functionality to notifications for user acknowledgment | H43: B
...

Sheet Summary of Evaluations
A1: Heuristic | B1: # Viol. (sev 0) | C1: # Viol. (sev 1) | D1: # Viol. (sev 2) | E1: # Viol. (sev 3) | F1: # Viol. (sev 4) | G1: # Viol. (total)
A2: H1: Visibility of System Status | B2: =COUNTIFS('Group Heuristic Evaluation'!B:B, "H1: Visibility of System Status", 'Group Heuristic Evaluation'!D:D, 0) -> 0 | C2: =COUNTIFS('Group Heuristic Evaluation'!B:B, "H1: Visibility of System Status", 'Group Heuristic Evaluation'!D:D, 1) -> 1 | D2: =COUNTIFS('Group Heuristic Evaluation'!B:B, "H1: Visibility of System Status", 'Group Heuristic Evaluation'!D:D, 2) -> 2 | E2: =COUNTIFS('Group Heuristic Evaluation'!B:B, "H1: Visibility of System Status", 'Group Heuristic Evaluation'!D:D, 3) -> 4 | F2: =COUNTIFS('Group Heuristic Evaluation'!B:B, "H1: Visibility of System Status", 'Group Heuristic Evaluation'!D:D, 4) -> 2 | G2: =SUM(B2:F2) -> 9
A3: H2: Match b/w System & World | B3: =COUNTIFS('Group Heuristic Evaluation'!B:B, "H2: Match b/w System & World", 'Group Heuristic Evaluation'!D:D, 0) -> 1 | C3: =COUNTIFS('Group Heuristic Evaluation'!B:B, "H2: Match b/w System & World", 'Group Heuristic Evaluation'!D:D, 1) -> 1 | D3: =COUNTIFS('Group Heuristic Evaluation'!B:B, "H2: Match b/w System & World", 'Group Heuristic Evaluation'!D:D, 2) -> 1 | E3: =COUNTIFS('Group Heuristic Evaluation'!B:B, "H2: Match b/w System & World", 'Group Heuristic Evaluation'!D:D, 3) -> 1 | F3: =COUNTIFS('Group Heuristic Evaluation'!B:B, "H2: Match b/w System & World", 'Group Heuristic Evaluation'!D:D, 4) -> 0 | G3: =SUM(B3:F3) -> 4
A4: H3: User Control & Freedom | B4: =COUNTIFS('Group Heuristic Evaluation'!B:B, "H3: User Control & Freedom", 'Group Heuristic Evaluation'!D:D, 0) -> 0 | C4: =COUNTIFS('Group Heuristic Evaluation'!B:B, "H3: User Control & Freedom", 'Group Heuristic Evaluation'!D:D, 1) -> 1 | D4: =COUNTIFS('Group Heuristic Evaluation'!B:B, "H3: User Control & Freedom", 'Group Heuristic Evaluation'!D:D, 2) -> 2 | E4: =COUNTIFS('Group Heuristic Evaluation'!B:B, "H3: User Control & Freedom", 'Group Heuristic Evaluation'!D:D, 3) -> 3 | F4: =COUNTIFS('Group Heuristic Evaluation'!B:B, "H3: User Control & Freedom", 'Group Heuristic Evaluation'!D:D, 4) -> 1 | G4: =SUM(B4:F4) -> 7
A5: H4: Consistency & Standards | B5: =COUNTIFS('Group Heuristic Evaluation'!B:B, "H4: Consistency & Standards", 'Group Heuristic Evaluation'!D:D, 0) -> 2 | C5: =COUNTIFS('Group Heuristic Evaluation'!B:B, "H4: Consistency & Standards", 'Group Heuristic Evaluation'!D:D, 1) -> 7 | D5: =COUNTIFS('Group Heuristic Evaluation'!B:B, "H4: Consistency & Standards", 'Group Heuristic Evaluation'!D:D, 2) -> 7 | E5: =COUNTIFS('Group Heuristic Evaluation'!B:B, "H4: Consistency & Standards", 'Group Heuristic Evaluation'!D:D, 3) -> 2 | F5: =COUNTIFS('Group Heuristic Evaluation'!B:B, "H4: Consistency & Standards", 'Group Heuristic Evaluation'!D:D, 4) -> 2 | G5: =SUM(B5:F5) -> 20
A6: H5: Error Prevention | B6: =COUNTIFS('Group Heuristic Evaluation'!B:B, "H5: Error Prevention", 'Group Heuristic Evaluation'!D:D, 0) -> 0 | C6: =COUNTIFS('Group Heuristic Evaluation'!B:B, "H5: Error Prevention", 'Group Heuristic Evaluation'!D:D, 1) -> 0 | D6: =COUNTIFS('Group Heuristic Evaluation'!B:B, "H5: Error Prevention", 'Group Heuristic Evaluation'!D:D, 2) -> 1 | E6: =COUNTIFS('Group Heuristic Evaluation'!B:B, "H5: Error Prevention", 'Group Heuristic Evaluation'!D:D, 3) -> 3 | F6: =COUNTIFS('Group Heuristic Evaluation'!B:B, "H5: Error Prevention", 'Group Heuristic Evaluation'!D:D, 4) -> 0 | G6: =SUM(C6:F6) -> 4
A7: H6: Recognition not Recall | B7: =COUNTIFS('Group Heuristic Evaluation'!B:B, "H6: Recognition not Recall", 'Group Heuristic Evaluation'!D:D, 0) -> 0 | C7: =COUNTIFS('Group Heuristic Evaluation'!B:B, "H6: Recognition not Recall", 'Group Heuristic Evaluation'!D:D, 1) -> 1 | D7: =COUNTIFS('Group Heuristic Evaluation'!B:B, "H6: Recognition not Recall", 'Group Heuristic Evaluation'!D:D, 2) -> 2 | E7: =COUNTIFS('Group Heuristic Evaluation'!B:B, "H6: Recognition not Recall", 'Group Heuristic Evaluation'!D:D, 3) -> 9 | F7: =COUNTIFS('Group Heuristic Evaluation'!B:B, "H6: Recognition not Recall", 'Group Heuristic Evaluation'!D:D, 4) -> 0 | G7: =SUM(B7:F7) -> 12
A8: H7: Flexibility & Efficiency of Use | B8: =COUNTIFS('Group Heuristic Evaluation'!B:B, "H7: Flexibility & Efficiency of Use", 'Group Heuristic Evaluation'!D:D, 0) -> 0 | C8: =COUNTIFS('Group Heuristic Evaluation'!B:B, "H7: Flexibility & Efficiency of Use", 'Group Heuristic Evaluation'!D:D, 1) -> 2 | D8: =COUNTIFS('Group Heuristic Evaluation'!B:B, "H7: Flexibility & Efficiency of Use", 'Group Heuristic Evaluation'!D:D, 2) -> 1 | E8: =COUNTIFS('Group Heuristic Evaluation'!B:B, "H7: Flexibility & Efficiency of Use", 'Group Heuristic Evaluation'!D:D, 3) -> 1 | F8: =COUNTIFS('Group Heuristic Evaluation'!B:B, "H7: Flexibility & Efficiency of Use", 'Group Heuristic Evaluation'!D:D, 4) -> 1 | G8: =SUM(B8:F8) -> 5
A9: H8: Aesthetic & Minimalist Design | B9: =COUNTIFS('Group Heuristic Evaluation'!B:B, "H8: Aesthetic & Minimalist Design", 'Group Heuristic Evaluation'!D:D, 0) -> 0 | C9: =COUNTIFS('Group Heuristic Evaluation'!B:B, "H8: Aesthetic & Minimalist Design", 'Group Heuristic Evaluation'!D:D, 1) -> 9 | D9: =COUNTIFS('Group Heuristic Evaluation'!B:B, "H8: Aesthetic & Minimalist Design", 'Group Heuristic Evaluation'!D:D, 2) -> 7 | E9: =COUNTIFS('Group Heuristic Evaluation'!B:B, "H8: Aesthetic & Minimalist Design", 'Group Heuristic Evaluation'!D:D, 3) -> 1 | F9: =COUNTIFS('Group Heuristic Evaluation'!B:B, "H8: Aesthetic & Minimalist Design", 'Group Heuristic Evaluation'!D:D, 4) -> 0 | G9: =SUM(B9:F9) -> 17
A10: H9: Help Users with Errors | B10: =COUNTIFS('Group Heuristic Evaluation'!B:B, "H9: Help Users with Errors", 'Group Heuristic Evaluation'!D:D, 0) -> 0 | C10: =COUNTIFS('Group Heuristic Evaluation'!B:B, "H9: Help Users with Errors", 'Group Heuristic Evaluation'!D:D, 1) -> 1 | D10: =COUNTIFS('Group Heuristic Evaluation'!B:B, "H9: Help Users with Errors", 'Group Heuristic Evaluation'!D:D, 2) -> 2 | E10: =COUNTIFS('Group Heuristic Evaluation'!B:B, "H9: Help Users with Errors", 'Group Heuristic Evaluation'!D:D, 3) -> 0 | F10: =COUNTIFS('Group Heuristic Evaluation'!B:B, "H9: Help Users with Errors", 'Group Heuristic Evaluation'!D:D, 4) -> 0 | G10: =SUM(B10:F10) -> 3
A11: H10: Help & Documentation | B11: =COUNTIFS('Group Heuristic Evaluation'!B:B, "H10: Help & Documentation", 'Group Heuristic Evaluation'!D:D, 0) -> 1 | C11: =COUNTIFS('Group Heuristic Evaluation'!B:B, "H10: Help & Documentation", 'Group Heuristic Evaluation'!D:D, 1) -> 0 | D11: =COUNTIFS('Group Heuristic Evaluation'!B:B, "H10: Help & Documentation", 'Group Heuristic Evaluation'!D:D, 2) -> 2 | E11: =COUNTIFS('Group Heuristic Evaluation'!B:B, "H10: Help & Documentation", 'Group Heuristic Evaluation'!D:D, 3) -> 2 | F11: =COUNTIFS('Group Heuristic Evaluation'!B:B, "H10: Help & Documentation", 'Group Heuristic Evaluation'!D:D, 4) -> 2 | G11: =SUM(B11:F11) -> 7
A12: H11: Accessible Design | B12: =COUNTIFS('Group Heuristic Evaluation'!B:B, "H11: Accessible Design", 'Group Heuristic Evaluation'!D:D, 0) -> 0 | C12: =COUNTIFS('Group Heuristic Evaluation'!B:B, "H11: Accessible Design", 'Group Heuristic Evaluation'!D:D, 1) -> 1 | D12: =COUNTIFS('Group Heuristic Evaluation'!B:B, "H11: Accessible Design", 'Group Heuristic Evaluation'!D:D, 2) -> 1 | E12: =COUNTIFS('Group Heuristic Evaluation'!B:B, "H11: Accessible Design", 'Group Heuristic Evaluation'!D:D, 3) -> 1 | F12: =COUNTIFS('Group Heuristic Evaluation'!B:B, "H11: Accessible Design", 'Group Heuristic Evaluation'!D:D, 4) -> 0 | G12: =SUM(B12:F12) -> 3
A13: H12. ​​Value Alignment & Inclusion | B13: =COUNTIFS('Group Heuristic Evaluation'!B:B, "H12: Value Alignment & Inclusion", 'Group Heuristic Evaluation'!D:D, 0) -> 0 | C13: =COUNTIFS('Group Heuristic Evaluation'!B:B, "H12: Value Alignment & Inclusion", 'Group Heuristic Evaluation'!D:D, 1) -> 1 | D13: =COUNTIFS('Group Heuristic Evaluation'!B:B, "H12: Value Alignment & Inclusion", 'Group Heuristic Evaluation'!D:D, 2) -> 5 | E13: =COUNTIFS('Group Heuristic Evaluation'!B:B, "H12: Value Alignment & Inclusion", 'Group Heuristic Evaluation'!D:D, 3) -> 0 | F13: =COUNTIFS('Group Heuristic Evaluation'!B:B, "H12: Value Alignment & Inclusion", 'Group Heuristic Evaluation'!D:D, 4) -> 1 | G13: =SUM(B13:F13) -> 7
A14: Total Violations | B14: =SUM(B2:B13) -> 4 | C14: =SUM(C1:C13) -> 25 | D14: =SUM(D1:D13) -> 33 | E14: =SUM(E2:E13) -> 27 | F14: =SUM(F2:F13) -> 9 | G14: =SUM(G2:G13) -> 98

Sheet Evaluation Statistics
A1: * for this to calculate properly, delete any unused rows from your 'Group Heuristic Evaluation' chart!
A2: Severity | B2: Evaluator A | C2: Evaluator B | D2: Evaluator C | E2: Evaluator D
A3: 0 | B3: =COUNTIFS('Group Heuristic Evaluation'!H11:H1001, "*A*",'Group Heuristic Evaluation'!D11:D1001, 0)/COUNTA('Group Heuristic Evaluation'!B:B) -> 0 | C3: =COUNTIFS('Group Heuristic Evaluation'!H:H, "*B*",'Group Heuristic Evaluation'!D:D, 0)/COUNTA('Group Heuristic Evaluation'!B:B) -> 0 | D3: =COUNTIFS('Group Heuristic Evaluation'!H:H, "*C*",'Group Heuristic Evaluation'!D:D, 0)/COUNTA('Group Heuristic Evaluation'!B11:B1001) -> 0.020408163 | E3: =COUNTIFS('Group Heuristic Evaluation'!H:H, "*D*",'Group Heuristic Evaluation'!D:D, 0)/COUNTA('Group Heuristic Evaluation'!B11:B1001) -> 0.020408163 | F3: =COUNTIFS('Group Heuristic Evaluation'!D11:D1001, 0)/COUNTA('Group Heuristic Evaluation'!B:B) -> 0.038834951
A4: 1 | B4: =COUNTIFS('Group Heuristic Evaluation'!H:H, "*A*",'Group Heuristic Evaluation'!D:D, 1)/COUNTA('Group Heuristic Evaluation'!B11:B1001) -> 0.051020408 | C4: =COUNTIFS('Group Heuristic Evaluation'!H:H, "*B*",'Group Heuristic Evaluation'!D:D, 1)/COUNTA('Group Heuristic Evaluation'!B11:B1001) -> 0.081632653 | D4: =COUNTIFS('Group Heuristic Evaluation'!H:H, "*C*",'Group Heuristic Evaluation'!D:D, 1)/COUNTA('Group Heuristic Evaluation'!B11:B1001) -> 0.091836735 | E4: =COUNTIFS('Group Heuristic Evaluation'!H:H, "*D*",'Group Heuristic Evaluation'!D:D, 1)/COUNTA('Group Heuristic Evaluation'!B11:B1001) -> 0.071428571 | F4: =COUNTIFS('Group Heuristic Evaluation'!D11:D1001, 1)/COUNTA('Group Heuristic Evaluation'!B:B) -> 0.24271845
A5: 2 | B5: =COUNTIFS('Group Heuristic Evaluation'!H:H, "*A*",'Group Heuristic Evaluation'!D:D, 2)/COUNTA('Group Heuristic Evaluation'!B11:B1001) -> 0.051020408 | C5: =COUNTIFS('Group Heuristic Evaluation'!H:H, "*B*",'Group Heuristic Evaluation'!D:D, 2)/COUNTA('Group Heuristic Evaluation'!B11:B1001) -> 0.12244898 | D5: =COUNTIFS('Group Heuristic Evaluation'!H:H, "*C*",'Group Heuristic Evaluation'!D:D, 2)/COUNTA('Group Heuristic Evaluation'!B11:B1001) -> 0.18367347 | E5: =COUNTIFS('Group Heuristic Evaluation'!H:H, "*D*",'Group Heuristic Evaluation'!D:D, 2)/COUNTA('Group Heuristic Evaluation'!B11:B1001) -> 0.091836735 | F5: =COUNTIFS('Group Heuristic Evaluation'!D11:D1001, 2)/COUNTA('Group Heuristic Evaluation'!B:B) -> 0.32038835
A6: 3 | B6: =COUNTIFS('Group Heuristic Evaluation'!H:H, "*A*",'Group Heuristic Evaluation'!D:D, 3)/COUNTA('Group Heuristic Evaluation'!B11:B1001) -> 0.081632653 | C6: =COUNTIFS('Group Heuristic Evaluation'!H:H, "*B*",'Group Heuristic Evaluation'!D:D, 3)/COUNTA('Group Heuristic Evaluation'!B11:B1001) -> 0.13265306 | D6: =COUNTIFS('Group Heuristic Evaluation'!H:H, "*C*",'Group Heuristic Evaluation'!D:D, 3)/COUNTA('Group Heuristic Evaluation'!B11:B1001) -> 0.10204082 | E6: =COUNTIFS('Group Heuristic Evaluation'!H:H, "*D*",'Group Heuristic Evaluation'!D:D, 3)/COUNTA('Group Heuristic Evaluation'!B11:B1001) -> 0.071428571 | F6: =COUNTIFS('Group Heuristic Evaluation'!D11:D1001, 3)/COUNTA('Group Heuristic Evaluation'!B:B) -> 0.26213592
A7: 4 | B7: =COUNTIFS('Group Heuristic Evaluation'!H:H, "*A*",'Group Heuristic Evaluation'!D:D, 4)/COUNTA('Group Heuristic Evaluation'!B:B) -> 0.038834951 | C7: =COUNTIFS('Group Heuristic Evaluation'!H:H, "*B*",'Group Heuristic Evaluation'!D:D, 4)/COUNTA('Group Heuristic Evaluation'!B:B) -> 0.029126214 | D7: =COUNTIFS('Group Heuristic Evaluation'!H:H, "*C*",'Group Heuristic Evaluation'!D:D, 4)/COUNTA('Group Heuristic Evaluation'!B:B) -> 0.058252427 | E7: =COUNTIFS('Group Heuristic Evaluation'!H:H, "*D*",'Group Heuristic Evaluation'!D:D, 4)/COUNTA('Group Heuristic Evaluation'!B:B) -> 0 | F7: =COUNTIFS('Group Heuristic Evaluation'!D11:D1001, 4)/COUNTA('Group Heuristic Evaluation'!B:B) -> 0.087378641
A8: Total (sevs. 3 & 4) | B8: =SUM(B6:B7) -> 0.1204676 | C8: =SUM(C6:C7) -> 0.16177927 | D8: =SUM(D6:D7) -> 0.16029324 | E8: =SUM(E6:E7) -> 0.071428571
A9: Total (all sevs) | B9: =SUM(B3:B7) -> 0.22250842 | C9: =SUM(C3:C7) -> 0.36586091 | D9: =SUM(D3:D7) -> 0.45621161 | E9: =SUM(E3:E7) -> 0.25510204
B11: =COUNTIF(Group_Heuristic_Evaluations[Found by], "*A*") -> 22 | C11: =COUNTIF(Group_Heuristic_Evaluations[Found by], "*B*") -> 36 | D11: =COUNTIF(Group_Heuristic_Evaluations[Found by], "*C*") -> 45 | E11: =COUNTIF(Group_Heuristic_Evaluations[Found by], "*D*") -> 25

Sheet Summary Recommendations
A1: Summary Recommendations [merge the general recommendations you made here]
A2: Interface Organization and Clarity The feedback emphasizes the need for improved organization and consistency across the app’s interface. There were some redundant notifications and unclear class details, such as missing subject or period information. Clearer navigation, such as fixed headers for class information and options to sort students or customize class order, would improve usability. Additionally, game setup and response options require more intuitive labeling and better instructions to ensure that teachers can easily understand and control the flow of activities. To make the app more user-friendly, the interface should also highlight clickable elements, reduce visual clutter, and present relevant student information more efficiently. Accessibility and User Feedback We also suggested enhancements to accessibility and feedback mechanisms within the app. This includes offering more customization options in settings, improving search functionality, and providing clear indicators of actions, such as saving or dismissing notifications. Suggestions like adding language options and allowing for easier navigation between student profiles and notifications were also mentioned. To further streamline user interaction, we wanted to see more responsive features like visual cues to confirm actions, editable student responses for games, and a way to track game progress. Ultimately, these updates would improve the overall experience, making the app more efficient, intuitive, and inclusive for all users.
