Workbook

Sheet Group Heuristic Evaluation
A1: Prototype Description: | B1: TA2I is a mobile app to help teachers provide AI generated feedback to their students
A3: Simple Task | B3: Viewing the progress of students
A4: Moderate Task | B4: Creating feedback on assignments with the help of AI and submitting it to the student
A5: Complex Task | B5: Creating a quiz for students to take and posting it to Canvas
E7: *attach images here if helpful | I7: I changed severities + clarification
A8: Column 1 | B8: Column 2 | C8: Column 3 | D8: Column 4 | E8: Column 5 | F8: Column 6 | G8: Column 7 | H8: Column 8 | I8: CA Comments
A9: 18 | B9: H3: User Control & Freedom | C9: 2. Moderate Task | D9: 0 | E9: There is no way to select "None" for an assignment/student once you have selected one | F9: If ever these fields were to be made optional, users might want a way to go back on their choice of selecting an option | G9: Add an empty option to each dropdown | H9: C
A10: 55 | B10: H8: Aesthetic & Minimalist Design | C10: 4. All Tasks | D10: 0 | E10: The tooltip text background is a dark enough gray that doesn't seem to fit with the other colors you've chosen (It isn't used anywhere else). This might not actually be an issue, I have red-green color deficiency so the gray might not look as weird with the other colors as it does to me. | F10: The shade of gray is distracting because it doesn't seem to fit with the rest of the color pallete | G10: Use a lighter gray that calls less attention (something that feels independent of any chosen color scheme and closer to the white background) | H10: C
A11: 77 | B11: H3: User Control & Freedom | C11: 5. Extra Violations | D11: 0 | E11: All class options lead to the 6th grade English Class | F11: Cannot actually view other class data, limiting user freedom | G11: Correctly link classes (or, for the sake of a prototype, only let one button be active) | H11: A | I11: limitation of prototype
A12: 64 | B12: H2: Match b/w System & World | C12: 5. Extra Violations | D12: 0 | E12: The app assumes familiarity with the term Canvas as a learning platform when that is not guaranteed. | F12: Not only do some teachers not know what Canvas is, the app (according to the tutorial pages) isn't limited to just syncing with Canvas. Some teachers (like the ones who use Google Classroom instead) may not realize that they can substitute the word "Canvas" for "Google Classroom" | G12: Remove the external-platform-specific wording from the UI or make it dynamic to which platform TAI is integrated with (Change "Post to Canvas" to "Post to Google Classroom") depending on the platform used. | H12: C, B, D
A13: 70 | B13: H8: Aesthetic & Minimalist Design | C13: 5. Extra Violations | D13: 0 | E13: There is a lack of text size hierarchy in the tutorial section. The heading on the first screen that says "Hi..." is bolded but it's the same size as the normal text | F13: It would be more aesthetic to have your heading pop out more from the paragraph text | G13: Make "Hi..." heading bigger than description text | H13: C, B
A14: 1 | B14: H1: Visibility of System Status | C14: 1. Simple Task | D14: 1 | E14: A lot of the information is fetched from Canvas, but we don't see a loading indicator in places where the app would have to download new data from the server | F14: Users might think the app is frozen while they are waiting for Canvas data to populate a page | G14: Add a "Syncing" icon where in the spot where remote content will go before it is loaded | H14: C
A15: 2 | B15: H4: Consistency & Standards | C15: 1. Simple Task | D15: 1 | E15: Navigating to English (6th) is the only class where the animation moves upward (the rest move sideways) | F15: Users' attention might be drawn to the difference in the animation when there doesn't appear to be anything special about English (6th) | G15: Make the navigation animations consistent for all classes | H15: C
A16: 13 | B16: H12: Value Alignment & Inclusion | C16: 1. Simple Task | D16: 1 | E16: There is not room for students with very long names or conjoined last names in the student section name field | F16: Students from other cultures or backgrounds may have names that do not conform to typical name length conventions and may be subject to increased errors and problems in grading from the misdisplay of their name | G16: Make the students name fields larger or allow text wrapping in the field | H16: B
A17: 6 | B17: H4: Consistency & Standards | C17: 1. Simple Task | D17: 1 | E17: Font weights for never-opened drop down menus is different than open/closed ones. | F17: Different font weights are inconsistent and create a slightly disorienting experience for the user. Ultimately, this can be fixed easily and does not impede usability, making it a minor cosmetic issue. | G17: Standardize drop-down styling | H17: A
A18: 9 | B18: H6: Recognition not Recall | C18: 1. Simple Task | D18: 1 | E18: Student name/profile picture goes away when scrolling down student metrics | F18: Relies on teachers remembering which student's page they are on when reviewing data | G18: Make student information a sticky header at the top of the student page | H18: A
A19: 12 | B19: H12: Value Alignment & Inclusion | C19: 1. Simple Task | D19: 1 | E19: The classes page does not seem to fit more than 5-6 classes | F19: Disadvantaged teachers who have to teach more than 5-6 classes at various schools or online programs may not be able to use TA2I for all of them, further disadvantaging them | G19: Leave room for more classes in the classes section or consider adding a scroll bar | H19: B | I19: higher sev
A20: 10 | B20: H12: Value Alignment & Inclusion | C20: 1. Simple Task | D20: 1 | E20: Students are reduced exclusively to numbers in the student profile pages | F20: Might dehumanize students by viewing them only as numbers instead of with any more qualitative data. | G20: Allow teachers to store qualitative data in the app | H20: A | I20: higher sev
A21: 17 | B21: H1: Visibility of System Status | C21: 2. Moderate Task | D21: 1 | E21: "Generating" content with AI has a slower animation to show that a background process is occuring. However, we don't get any feedback on how the loading process is going. | F21: If the AI is taking a while to finish generating, users might be left wondering if the AI will finish loading/if an error occurred. | G21: Add feedback text during the generation process, saying things like "Analyzing Student Responses," or "Generating Feedback (1 of x)" | H21: C, A
A22: 21 | B22: H12: Value Alignment & Inclusion | C22: 2. Moderate Task | D22: 1 | E22: The magic dust symbol is common in the AI world to mean "This is generated by AI" but may be less common in the education space. | F22: Your users, sometimes long-time teachers, may not understand this symbolism effortlessly the way the designers do, and this could perpetuate the struggle for teachers feeling they are behind the times on technology | G22: Use symbolism that is effortless for the education space, not the AI space (consider using the robot symbol) | H22: C
A23: 24 | B23: H3: User Control & Freedom | C23: 2. Moderate Task | D23: 1 | E23: One tester did not see that you can regenerate one feedback at a time | F23: Users may only want to regenerate the feedback for one question and not know to click the sparkle icon | G23: Make the regenerate button immediately visible or teach the user about the system | H23: A | I23: higher sev
A24: 49 | B24: H11: Accessible Design | C24: 3. Complex Task | D24: 1 | E24: Text size and color are the same for diagnostic questions and answers | F24: There is not a distinguishable difference of contrast and text between questions and answers | G24: Bold the questions or make the question font slightly larger or a different color | H24: D
A25: 35 | B25: H2: Match b/w System & World | C25: 3. Complex Task | D25: 1 | E25: You use the word "Quiz" in your Task 3 description, but the word "Diagnostic" in your app | F25: Someone reading your README might be confused about the difference between a "Diagnostic" and a "Quiz." Some people might not know what a Diagnostic is while others might not see that a Quiz, in this context, is not exactly same as the quizzes we think of from the classroom. | G25: Choose one word to refer to assessments generated by and explain succinctly what it is. | H25: C, B | I25: good note!
A26: 34 | B26: H4: Consistency & Standards | C26: 3. Complex Task | D26: 1 | E26: The slowed animation present at the "Generation" step of Task 2 is not present at the "Generation" step of Task 3. | F26: While the AI is loading, the user will just be sitting on the "Generate" screen, waiting for something to happen without any indication of the state of the generation process. | G26: Replicate the visual feedback from the Task 2 "Generation" step for Task 3 | H26: C
A27: 47 | B27: H4: Consistency & Standards | C27: 3. Complex Task | D27: 1 | E27: The number fill in box and the dropdown select boxes look the same | F27: It may slow a user down if they cannot immediately tell what is an uncontrolled text input and what is a drop down select input | G27: Add a symbol like a caret to the dropdown menus to signify dropdown selection | H27: B
A28: 43 | B28: H11: Accessible Design | C28: 3. Complex Task | D28: 1 | E28: Font for question number is extremely thin | F28: May be difficult for users with low vision to see | G28: Increase font weight | H28: A
A29: 44 | B29: H7: Flexibility & Efficiency of Use | C29: 3. Complex Task | D29: 1 | E29: No scroll bar to indicate there are more questions on the diagnostic | F29: Users may not realize there was more content created than what is displayed and may take longer to discover this | G29: Add scroll bar | H29: A | I29: scroll bars aren't super common in mobile, use text that 'peeks out' to indicate scrollable page
A30: 60 | B30: H12: Value Alignment & Inclusion | C30: 4. All Tasks | D30: 1 | E30: One of your values is "timeliness" and how quickly your app delivers feedback, but tasks require a lot of steps, slowing the user down | F30: Beyond increasing the responsiveness of your AI system, the design of the app itself could be more aligned with efficiency and timeliness | G30: Think about how to make navigating the app faster | H30: C | I30: lower sev, not descriptive
A31: 50 | B31: H4: Consistency & Standards | C31: 4. All Tasks | D31: 1 | E31: Sometimes headings look centered (like "English (6th)") while other times headings look off-center (like "Students") | F31: Users may wonder if a centered heading means something different than a left-aligned heading | G31: Be consistent about the alignment of your headings, or reduce the font size so that the longer headings don't appear centered | H31: C, B, D, A
A32: 53 | B32: H8: Aesthetic & Minimalist Design | C32: 4. All Tasks | D32: 1 | E32: There is not enough padding between the header and the dynamic island and in the landing screen text. | F32: The lack of padding makes the top of the page feel cluttered | G32: Increase the padding between the headers and the dynamic island | H32: C, A, B
A33: 51 | B33: H6: Recognition not Recall | C33: 4. All Tasks | D33: 1 | E33: Teachers can manually add classes to the app in addition to loading in classes from Canvas. However, there is no indication for which classes were imported and which classes were manually added. | F33: Teachers will have to remember which classes were added manually and which classes were imported in case they need to reimport | G33: Add an icon or tooltip that reminds the teacher that a class was important from Canvas/Google Classroom/etc. | H33: C | I33: How do teachers add classes?
A34: 54 | B34: H8: Aesthetic & Minimalist Design | C34: 4. All Tasks | D34: 1 | E34: The back button is not aligned vertically with the heading text | F34: The eye quickly notices that these items are not aligned and it is distracting | G34: Vertically-align the back button with the heading text | H34: C
A35: 56 | B35: H8: Aesthetic & Minimalist Design | C35: 4. All Tasks | D35: 1 | E35: None of the text is black except for the tooltip text and the question content in the Feedback section | F35: It looks more aesthetic when the text color is all matching/complementary instead of one type of text being the only black text in the whole app | G35: Make the tooltip text match the rest of the text in the app | H35: C
A36: 63 | B36: H6: Recognition not Recall | C36: 4. All Tasks | D36: 1 | E36: The navigate back button does not indicate what screen it will navigate back to | F36: A user may not remember what screen they were previously on, and this will slow down their navigation of the app | G36: Add text to the right of the navigate back button with the screen it will navigate to | H36: B | I36: higher sev
A37: 68 | B37: H8: Aesthetic & Minimalist Design | C37: 5. Extra Violations | D37: 1 | E37: There is not enough padding at the top and bottom of the first screen | F37: The logo and the "Continue" button are squished against the top and bottom of the phone | G37: Add top and bottom padding to the whole screen | H37: C, B
A38: 74 | B38: H8: Aesthetic & Minimalist Design | C38: 5. Extra Violations | D38: 1 | E38: The titles of each class should follow a size/weight hierarchy instead of being the same font as paragraph text | F38: Since class title is high up on the text hierarchy (It gets enlarged and bolded on the next screen after selecting a class) it feels odd that the font would match the level paragraph text for the titles on the Classes page | G38: Bold the titles on the Classes cards | H38: C, B
A39: 69 | B39: H8: Aesthetic & Minimalist Design | C39: 5. Extra Violations | D39: 1 | E39: There is a lot of white space on the screens detailing what each Section of the app does. | F39: You could make better use of this whitespace | G39: Center the Section buttons in the white space above the text explaining what the section is for | H39: C, A
A40: 75 | B40: H7: Flexibility & Efficiency of Use | C40: 5. Extra Violations | D40: 1 | E40: There is a lot of white space on the Diagnostic hub | F40: Since there are only two icons here, so much of the screen is just blank, and could be used better | G40: What if you unpacked these two icons "New" and "View" into one screen. Change the "Diagnostic Hub" screen to be the list of diagnostics add a plus button for adding new Diagnostics | H40: C, A
A41: 71 | B41: H11: Accessible Design | C41: 5. Extra Violations | D41: 1 | E41: The "squared" symbol in your app name could be read weirdly by a screen reader | F41: If a screen reader read "T A to the power of 2 I" it might confuse your user as to the name of the app | G41: Ensure screen readers will read the name of your app aloud correctly | H41: C
A42: 76 | B42: H8: Aesthetic & Minimalist Design | C42: 5. Extra Violations | D42: 1 | E42: The paragraph font on the "Feedback" screen is too big for the space. | F42: It feels like the paragraph text takes up too much of the space because of its size. The text could be more cleanly placed on the screen | G42: Align, pad, and shrink the text so it fits better in the space it's given | H42: C
...

Sheet Summary of Evaluations
A1: Heuristic | B1: # Viol. (sev 0) | C1: # Viol. (sev 1) | D1: # Viol. (sev 2) | E1: # Viol. (sev 3) | F1: # Viol. (sev 4) | G1: # Viol. (total)
A2: H1: Visibility of System Status | B2: =COUNTIFS('Group Heuristic Evaluation'!B:B, "H1: Visibility of System Status", 'Group Heuristic Evaluation'!D:D, 0) -> 0 | C2: =COUNTIFS('Group Heuristic Evaluation'!B:B, "H1: Visibility of System Status", 'Group Heuristic Evaluation'!D:D, 1) -> 2 | D2: =COUNTIFS('Group Heuristic Evaluation'!B:B, "H1: Visibility of System Status", 'Group Heuristic Evaluation'!D:D, 2) -> 0 | E2: =COUNTIFS('Group Heuristic Evaluation'!B:B, "H1: Visibility of System Status", 'Group Heuristic Evaluation'!D:D, 3) -> 1 | F2: =COUNTIFS('Group Heuristic Evaluation'!B:B, "H1: Visibility of System Status", 'Group Heuristic Evaluation'!D:D, 4) -> 0 | G2: =SUM(B2:F2) -> 3
A3: H2: Match b/w System & World | B3: =COUNTIFS('Group Heuristic Evaluation'!B:B, "H2: Match b/w System & World", 'Group Heuristic Evaluation'!D:D, 0) -> 1 | C3: =COUNTIFS('Group Heuristic Evaluation'!B:B, "H2: Match b/w System & World", 'Group Heuristic Evaluation'!D:D, 1) -> 1 | D3: =COUNTIFS('Group Heuristic Evaluation'!B:B, "H2: Match b/w System & World", 'Group Heuristic Evaluation'!D:D, 2) -> 1 | E3: =COUNTIFS('Group Heuristic Evaluation'!B:B, "H2: Match b/w System & World", 'Group Heuristic Evaluation'!D:D, 3) -> 0 | F3: =COUNTIFS('Group Heuristic Evaluation'!B:B, "H2: Match b/w System & World", 'Group Heuristic Evaluation'!D:D, 4) -> 0 | G3: =SUM(B3:F3) -> 3
A4: H3: User Control & Freedom | B4: =COUNTIFS('Group Heuristic Evaluation'!B:B, "H3: User Control & Freedom", 'Group Heuristic Evaluation'!D:D, 0) -> 2 | C4: =COUNTIFS('Group Heuristic Evaluation'!B:B, "H3: User Control & Freedom", 'Group Heuristic Evaluation'!D:D, 1) -> 1 | D4: =COUNTIFS('Group Heuristic Evaluation'!B:B, "H3: User Control & Freedom", 'Group Heuristic Evaluation'!D:D, 2) -> 1 | E4: =COUNTIFS('Group Heuristic Evaluation'!B:B, "H3: User Control & Freedom", 'Group Heuristic Evaluation'!D:D, 3) -> 2 | F4: =COUNTIFS('Group Heuristic Evaluation'!B:B, "H3: User Control & Freedom", 'Group Heuristic Evaluation'!D:D, 4) -> 3 | G4: =SUM(B4:F4) -> 9
A5: H4: Consistency & Standards | B5: =COUNTIFS('Group Heuristic Evaluation'!B:B, "H4: Consistency & Standards", 'Group Heuristic Evaluation'!D:D, 0) -> 0 | C5: =COUNTIFS('Group Heuristic Evaluation'!B:B, "H4: Consistency & Standards", 'Group Heuristic Evaluation'!D:D, 1) -> 7 | D5: =COUNTIFS('Group Heuristic Evaluation'!B:B, "H4: Consistency & Standards", 'Group Heuristic Evaluation'!D:D, 2) -> 2 | E5: =COUNTIFS('Group Heuristic Evaluation'!B:B, "H4: Consistency & Standards", 'Group Heuristic Evaluation'!D:D, 3) -> 0 | F5: =COUNTIFS('Group Heuristic Evaluation'!B:B, "H4: Consistency & Standards", 'Group Heuristic Evaluation'!D:D, 4) -> 0 | G5: =SUM(B5:F5) -> 9
A6: H5: Error Prevention | B6: =COUNTIFS('Group Heuristic Evaluation'!B:B, "H5: Error Prevention", 'Group Heuristic Evaluation'!D:D, 0) -> 0 | C6: =COUNTIFS('Group Heuristic Evaluation'!B:B, "H5: Error Prevention", 'Group Heuristic Evaluation'!D:D, 1) -> 0 | D6: =COUNTIFS('Group Heuristic Evaluation'!B:B, "H5: Error Prevention", 'Group Heuristic Evaluation'!D:D, 2) -> 2 | E6: =COUNTIFS('Group Heuristic Evaluation'!B:B, "H5: Error Prevention", 'Group Heuristic Evaluation'!D:D, 3) -> 2 | F6: =COUNTIFS('Group Heuristic Evaluation'!B:B, "H5: Error Prevention", 'Group Heuristic Evaluation'!D:D, 4) -> 3 | G6: =SUM(C6:F6) -> 7
A7: H6: Recognition not Recall | B7: =COUNTIFS('Group Heuristic Evaluation'!B:B, "H6: Recognition not Recall", 'Group Heuristic Evaluation'!D:D, 0) -> 0 | C7: =COUNTIFS('Group Heuristic Evaluation'!B:B, "H6: Recognition not Recall", 'Group Heuristic Evaluation'!D:D, 1) -> 3 | D7: =COUNTIFS('Group Heuristic Evaluation'!B:B, "H6: Recognition not Recall", 'Group Heuristic Evaluation'!D:D, 2) -> 3 | E7: =COUNTIFS('Group Heuristic Evaluation'!B:B, "H6: Recognition not Recall", 'Group Heuristic Evaluation'!D:D, 3) -> 0 | F7: =COUNTIFS('Group Heuristic Evaluation'!B:B, "H6: Recognition not Recall", 'Group Heuristic Evaluation'!D:D, 4) -> 2 | G7: =SUM(B7:F7) -> 8
A8: H7: Flexibility & Efficiency of Use | B8: =COUNTIFS('Group Heuristic Evaluation'!B:B, "H7: Flexibility & Efficiency of Use", 'Group Heuristic Evaluation'!D:D, 0) -> 0 | C8: =COUNTIFS('Group Heuristic Evaluation'!B:B, "H7: Flexibility & Efficiency of Use", 'Group Heuristic Evaluation'!D:D, 1) -> 2 | D8: =COUNTIFS('Group Heuristic Evaluation'!B:B, "H7: Flexibility & Efficiency of Use", 'Group Heuristic Evaluation'!D:D, 2) -> 1 | E8: =COUNTIFS('Group Heuristic Evaluation'!B:B, "H7: Flexibility & Efficiency of Use", 'Group Heuristic Evaluation'!D:D, 3) -> 3 | F8: =COUNTIFS('Group Heuristic Evaluation'!B:B, "H7: Flexibility & Efficiency of Use", 'Group Heuristic Evaluation'!D:D, 4) -> 0 | G8: =SUM(B8:F8) -> 6
A9: H8: Aesthetic & Minimalist Design | B9: =COUNTIFS('Group Heuristic Evaluation'!B:B, "H8: Aesthetic & Minimalist Design", 'Group Heuristic Evaluation'!D:D, 0) -> 2 | C9: =COUNTIFS('Group Heuristic Evaluation'!B:B, "H8: Aesthetic & Minimalist Design", 'Group Heuristic Evaluation'!D:D, 1) -> 7 | D9: =COUNTIFS('Group Heuristic Evaluation'!B:B, "H8: Aesthetic & Minimalist Design", 'Group Heuristic Evaluation'!D:D, 2) -> 1 | E9: =COUNTIFS('Group Heuristic Evaluation'!B:B, "H8: Aesthetic & Minimalist Design", 'Group Heuristic Evaluation'!D:D, 3) -> 1 | F9: =COUNTIFS('Group Heuristic Evaluation'!B:B, "H8: Aesthetic & Minimalist Design", 'Group Heuristic Evaluation'!D:D, 4) -> 0 | G9: =SUM(B9:F9) -> 11
A10: H9: Help Users with Errors | B10: =COUNTIFS('Group Heuristic Evaluation'!B:B, "H9: Help Users with Errors", 'Group Heuristic Evaluation'!D:D, 0) -> 0 | C10: =COUNTIFS('Group Heuristic Evaluation'!B:B, "H9: Help Users with Errors", 'Group Heuristic Evaluation'!D:D, 1) -> 0 | D10: =COUNTIFS('Group Heuristic Evaluation'!B:B, "H9: Help Users with Errors", 'Group Heuristic Evaluation'!D:D, 2) -> 1 | E10: =COUNTIFS('Group Heuristic Evaluation'!B:B, "H9: Help Users with Errors", 'Group Heuristic Evaluation'!D:D, 3) -> 2 | F10: =COUNTIFS('Group Heuristic Evaluation'!B:B, "H9: Help Users with Errors", 'Group Heuristic Evaluation'!D:D, 4) -> 1 | G10: =SUM(B10:F10) -> 4
A11: H10: Help & Documentation | B11: =COUNTIFS('Group Heuristic Evaluation'!B:B, "H10: Help & Documentation", 'Group Heuristic Evaluation'!D:D, 0) -> 0 | C11: =COUNTIFS('Group Heuristic Evaluation'!B:B, "H10: Help & Documentation", 'Group Heuristic Evaluation'!D:D, 1) -> 0 | D11: =COUNTIFS('Group Heuristic Evaluation'!B:B, "H10: Help & Documentation", 'Group Heuristic Evaluation'!D:D, 2) -> 1 | E11: =COUNTIFS('Group Heuristic Evaluation'!B:B, "H10: Help & Documentation", 'Group Heuristic Evaluation'!D:D, 3) -> 4 | F11: =COUNTIFS('Group Heuristic Evaluation'!B:B, "H10: Help & Documentation", 'Group Heuristic Evaluation'!D:D, 4) -> 1 | G11: =SUM(B11:F11) -> 6
A12: H11: Accessible Design | B12: =COUNTIFS('Group Heuristic Evaluation'!B:B, "H11: Accessible Design", 'Group Heuristic Evaluation'!D:D, 0) -> 0 | C12: =COUNTIFS('Group Heuristic Evaluation'!B:B, "H11: Accessible Design", 'Group Heuristic Evaluation'!D:D, 1) -> 3 | D12: =COUNTIFS('Group Heuristic Evaluation'!B:B, "H11: Accessible Design", 'Group Heuristic Evaluation'!D:D, 2) -> 3 | E12: =COUNTIFS('Group Heuristic Evaluation'!B:B, "H11: Accessible Design", 'Group Heuristic Evaluation'!D:D, 3) -> 1 | F12: =COUNTIFS('Group Heuristic Evaluation'!B:B, "H11: Accessible Design", 'Group Heuristic Evaluation'!D:D, 4) -> 0 | G12: =SUM(B12:F12) -> 7
A13: H12. ​​Value Alignment & Inclusion | B13: =COUNTIFS('Group Heuristic Evaluation'!B:B, "H12: Value Alignment & Inclusion", 'Group Heuristic Evaluation'!D:D, 0) -> 0 | C13: =COUNTIFS('Group Heuristic Evaluation'!B:B, "H12: Value Alignment & Inclusion", 'Group Heuristic Evaluation'!D:D, 1) -> 5 | D13: =COUNTIFS('Group Heuristic Evaluation'!B:B, "H12: Value Alignment & Inclusion", 'Group Heuristic Evaluation'!D:D, 2) -> 1 | E13: =COUNTIFS('Group Heuristic Evaluation'!B:B, "H12: Value Alignment & Inclusion", 'Group Heuristic Evaluation'!D:D, 3) -> 0 | F13: =COUNTIFS('Group Heuristic Evaluation'!B:B, "H12: Value Alignment & Inclusion", 'Group Heuristic Evaluation'!D:D, 4) -> 1 | G13: =SUM(B13:F13) -> 7
A14: Total Violations | B14: =SUM(B2:B13) -> 5 | C14: =SUM(C1:C13) -> 31 | D14: =SUM(D1:D13) -> 17 | E14: =SUM(E2:E13) -> 16 | F14: =SUM(F2:F13) -> 11 | G14: =SUM(G2:G13) -> 80

Sheet Evaluation Statistics
A1: * for this to calculate properly, delete any unused rows from your 'Group Heuristic Evaluation' chart!
A2: Severity | B2: Evaluator A | C2: Evaluator B | D2: Evaluator C | E2: Evaluator D
A3: 0 | B3: =COUNTIFS('Group Heuristic Evaluation'!H:H, "*A*",'Group Heuristic Evaluation'!D:D, 0)/COUNTA('Group Heuristic Evaluation'!B10:B1001) -> 0.012658228 | C3: =COUNTIFS('Group Heuristic Evaluation'!H:H, "*B*",'Group Heuristic Evaluation'!D:D, 0)/COUNTA('Group Heuristic Evaluation'!B10:B1001) -> 0.025316456 | D3: =COUNTIFS('Group Heuristic Evaluation'!H:H, "*C*",'Group Heuristic Evaluation'!D:D, 0)/COUNTA('Group Heuristic Evaluation'!B10:B1001) -> 0.050632911 | E3: =COUNTIFS('Group Heuristic Evaluation'!H:H, "*D*",'Group Heuristic Evaluation'!D:D, 0)/COUNTA('Group Heuristic Evaluation'!B10:B1001) -> 0.012658228
A4: 1 | B4: =COUNTIFS('Group Heuristic Evaluation'!H:H, "*A*",'Group Heuristic Evaluation'!D:D, 1)/COUNTA('Group Heuristic Evaluation'!B10:B1001) -> 0.15189873 | C4: =COUNTIFS('Group Heuristic Evaluation'!H:H, "*B*",'Group Heuristic Evaluation'!D:D, 1)/COUNTA('Group Heuristic Evaluation'!B10:B1001) -> 0.12658228 | D4: =COUNTIFS('Group Heuristic Evaluation'!H:H, "*C*",'Group Heuristic Evaluation'!D:D, 1)/COUNTA('Group Heuristic Evaluation'!B10:B1001) -> 0.24050633 | E4: =COUNTIFS('Group Heuristic Evaluation'!H:H, "*D*",'Group Heuristic Evaluation'!D:D, 1)/COUNTA('Group Heuristic Evaluation'!B10:B1001) -> 0.037974684
A5: 2 | B5: =COUNTIFS('Group Heuristic Evaluation'!H:H, "*A*",'Group Heuristic Evaluation'!D:D, 2)/COUNTA('Group Heuristic Evaluation'!B10:B1001) -> 0.11392405 | C5: =COUNTIFS('Group Heuristic Evaluation'!H:H, "*B*",'Group Heuristic Evaluation'!D:D, 2)/COUNTA('Group Heuristic Evaluation'!B10:B1001) -> 0.063291139 | D5: =COUNTIFS('Group Heuristic Evaluation'!H:H, "*C*",'Group Heuristic Evaluation'!D:D, 2)/COUNTA('Group Heuristic Evaluation'!B10:B1001) -> 0.12658228 | E5: =COUNTIFS('Group Heuristic Evaluation'!H:H, "*D*",'Group Heuristic Evaluation'!D:D, 2)/COUNTA('Group Heuristic Evaluation'!B10:B1001) -> 0.075949367
A6: 3 | B6: =COUNTIFS('Group Heuristic Evaluation'!H:H, "*A*",'Group Heuristic Evaluation'!D:D, 3)/COUNTA('Group Heuristic Evaluation'!B10:B1001) -> 0.10126582 | C6: =COUNTIFS('Group Heuristic Evaluation'!H:H, "*B*",'Group Heuristic Evaluation'!D:D, 3)/COUNTA('Group Heuristic Evaluation'!B10:B1001) -> 0.13924051 | D6: =COUNTIFS('Group Heuristic Evaluation'!H:H, "*C*",'Group Heuristic Evaluation'!D:D, 3)/COUNTA('Group Heuristic Evaluation'!B10:B1001) -> 0.088607595 | E6: =COUNTIFS('Group Heuristic Evaluation'!H:H, "*D*",'Group Heuristic Evaluation'!D:D, 3)/COUNTA('Group Heuristic Evaluation'!B10:B1001) -> 0.088607595
A7: 4 | B7: =COUNTIFS('Group Heuristic Evaluation'!H:H, "*A*",'Group Heuristic Evaluation'!D:D, 4)/COUNTA('Group Heuristic Evaluation'!B10:B1001) -> 0.11392405 | C7: =COUNTIFS('Group Heuristic Evaluation'!H:H, "*B*",'Group Heuristic Evaluation'!D:D, 4)/COUNTA('Group Heuristic Evaluation'!B10:B1001) -> 0.050632911 | D7: =COUNTIFS('Group Heuristic Evaluation'!H:H, "*C*",'Group Heuristic Evaluation'!D:D, 4)/COUNTA('Group Heuristic Evaluation'!B10:B1001) -> 0.050632911 | E7: =COUNTIFS('Group Heuristic Evaluation'!H:H, "*D*",'Group Heuristic Evaluation'!D:D, 4)/COUNTA('Group Heuristic Evaluation'!B10:B1001) -> 0.037974684
A8: Total (sevs. 3 & 4) | B8: =SUM(B6:B7) -> 0.21518987 | C8: =SUM(C6:C7) -> 0.18987342 | D8: =SUM(D6:D7) -> 0.13924051 | E8: =SUM(E6:E7) -> 0.12658228
A9: Total (all sevs) | B9: =SUM(B3:B7) -> 0.49367089 | C9: =SUM(C3:C7) -> 0.40506329 | D9: =SUM(D3:D7) -> 0.55696203 | E9: =SUM(E3:E7) -> 0.25316456
B11: =COUNTIF('Group Heuristic Evaluation'!H10:H89, "*A*") -> 39 | C11: =COUNTIF('Group Heuristic Evaluation'!H10:H89, "*B*") -> 32 | D11: =COUNTIF('Group Heuristic Evaluation'!H10:H89, "*C*") -> 43 | E11: =COUNTIF('Group Heuristic Evaluation'!H10:H89, "*D*") -> 20

Sheet Summary Recommendations
A1: Summary Recommendations
A2: Below are some recommendations listed under their general categories: Aesthetics and cleanliness of interface: 1. Ensure proper spacing and padding for all objects on screen 2. Use more color contrast and shades of the same color to further seperate sections/items on screen 3. Apply a consistant and standardized text hierarchy across the entire app 4. Standardize, reuse, and consistantly place components like buttons, titles, text, tooltips, in the same relative positions on screen Accesability and Use of Helpful Information: 1. Make tooltips less wordy/verbose 2. Use affordances to make it clear what object on screen the tooltip references Functionality and Navigation: 1. Ensure all buttons work 2. Include a way to return home from deep within a task flow 3. Ensure all navigation buttons move to the correct screen 4. Ensure you cannot softlock the app by making it impossible to return to particular screen 5. Add the capability to adjust the timeline on the students' progress report graphs AI Usage: 1. Add information/transparency around how AI is used, when, which models, and any other information to make it clear when AI is at work and when it is not 2. It should be more clear what AI functions are being carried out (e.g. what does "Regenerate" mean) 3. The extent of the apps flexibility of AI use (what you are actually capable of doing) should be more clear (e.g. We should clearly know you can edit individual questions that were generated by AI) 4. The same things you can do for Feedback you should be able to do for Diagnostics Additionally, outside of the heuristics listed, we recommend you consider transparency around who will be paying for the API credits - will that be visible to teachers, and will they be expected to pay for that feature? If so, that should be made clear on the app so they are not surprised.
