Workbook

Sheet Group Heuristic Evaluation
C1: Prototype Description: | D1: Revisit is a travel app that consolidates trip planning by allowing users to access peer-sourced and curated itineraries, personalize travel plans, and manage group trips seamlessly within a single platform.
F3: Your TA will remove your names before the document is given to the project team. Under the 'Found by' column, use these letters to identify yourselves
C4: Simple Task | D4: Users can search for itineraries specific to their destination and view them online. | F4: Evaluator A:
C5: Moderate Task | D5: Users can save itineraries to their devices and share them with others in their travel group. | F5: Evaluator B:
C6: Complex Task | D6: Users can customize specific activities within an itinerary and create a collaborative itinerary accessible to all group members. | F6: Evaluator C:
F7: Evaluator D:
A8: scrap the Day 1 Day 2 --> one page with all events from itineraries, everyone chooses, we generate a sample itinerary, group edits this itinerary afterwards
G10: *attach images here if helpful
A11: Effort | B11: Fix | C11: Problem # | D11: Heuristic | E11: Task | F11: Severity | G11: Description | H11: Rationale | I11: Fix | J11: Found by
A12: 0 | B12: Add share icon on itinerary | C12: =ROW() - 10 -> 2 | D12: H7: Flexibility & Efficiency of Use | E12: 4. All Tasks | F12: 4 | G12: After starring an itinerary in the search results for simple task, users cannot edit, save, or share it directly; they have to navigate back to a different screen to start over | H12: Users may want to edit, save, or share an itinerary immediately after starring it, but having to navigate to another screen interrupts the flow and adds extra steps | I12: Allow users to edit, save, or share an itinerary directly from the search results | J12: B, A, C
A13: 0 | B13: use red instead of dark grey | C13: =ROW() - 10 -> 3 | D13: H1: Visibility of System Status | E13: 1. Simple Task | F13: 3 | G13: Poor visual indicator to show when filters are being applied to search results | H13: Users may be confused if filters are applied to their search results | I13: Color the background of the filters when enabled (e.g. orange) | J13: B, A, D
A14: 0 | B14: change filters to be more broad/general for a non-expert tourist. BE COMPREHENSIVE OF FILTERS | C14: =ROW() - 10 -> 4 | D14: H2: Match b/w System & World | E14: 1. Simple Task | F14: 3 | G14: The filters under the search bar use location-specific terminology, such as "chinatown" or "pier 3." | H14: While these do match the real-world, these aren't concepts familiar to the user, as a good chunk of users will be planning itineraries to locations they've never been before and therefore not know these specific filter meanings. For example, if you've never been to San Francisco and are planning a trip, the "pier 3" filter is confusing. | I14: Provide filters that match the real-world but still are familiar to the user regardless of thier knowledge of the city. For example, instead of "pier 3" putting "waterfront experiences", giving the user the ability to filter without them needing to know the city. | J14: B, C
A15: 0 | B15: ex. itinerary for the middle of nowhere --> add "no results found" | C15: =ROW() - 10 -> 5 | D15: H9: Help Users with Errors | E15: 1. Simple Task | F15: 2 | G15: Missing feedback when users input invalid search terms | H15: Users may not know how to modify their search to get results, leading to frustration and abandonment of the search feature | I15: Add a notifaction like "No results found. Try broader keywords" | J15: B, C, A
A16: 0 | B16: make the star count clickable | C16: =ROW() - 10 -> 6 | D16: H3: User Control & Freedom | E16: 5. Extra Violations | F16: 3 | G16: No ability to undo adding an itinerary to favorites in the "starred" page | H16: Users may accidentally add an itinerary to favorites, and the inability to undo or delete itineraries from favorites clutters the favorite list | I16: Add a "X" or "Delete" button for each saved itinerary | J16: B
A17: 0 | B17: change to itineraries | C17: =ROW() - 10 -> 7 | D17: H2: Match b/w System & World | E17: 5. Extra Violations | F17: 3 | G17: "Posts" is introduced for the first time here and is a term that is normally associated with social media | H17: Users may associate the app as a social media, be confused what the social features in the app are, or what "posts" means | I17: Change the wording to resemble what the page displays | J17: B, A
A18: 0 | B18: starred | C18: =ROW() - 10 -> 8 | D18: H4: Consistency & Standards | E18: 2. Moderate Task | F18: 3 | G18: Saved tab actually means Likes, resulting in unclear definition of the star icon | H18: This inconstinency may confuse users what the meaning of the star is, because when planning a trip, we pick from the 'liked' collection of itineraries for a specific day, when in reality, the system refers to the Likes | I18: Change "Saved" to "Liked" | J18: C
A19: 0 | B19: sort itineraries by amount of stars | C19: =ROW() - 10 -> 9 | D19: H7: Flexibility & Efficiency of Use | E19: 1. Simple Task | F19: 3 | G19: The feed is randomly sorted. | H19: Users are left sifting through a plethora of itineraries without any indication of priority, decreasing efficiency. | I19: Sorting by the amount of stars an itinerary received would let expert users know that the uppermost itineraries are the most popular, giving them a speed boost in searching for plans. | J19: C
A20: 1 | B20: add reviews section under activity/day itinerary | C20: =ROW() - 10 -> 10 | D20: H12: Value Alignment & Inclusion | E20: 5. Extra Violations | F20: 3 | G20: Community is limited to user-generated trips | H20: The value proposition stated adding community to trip planning, but there deosn't seem to be a way to interact with other users other than the number of saves on a post (e.g. include user reviews), reducing the sense of community engagement | I20: Consider including the ability to give ratings or reviews, nested within the "reviews" section alongside the author's review | J20: B, A
A21: 2 | B21: drag and drop days | C21: =ROW() - 10 -> 11 | D21: H7: Flexibility & Efficiency of Use | E21: 3. Complex Task | F21: 3 | G21: When customizing itinerary, users cannot easily reorder days, seems like they would need to rewrite content to switch day order | H21: Switching between days for itinerary planning requires extra effort, as users cannot simply move or reorder days without rewriting, reducing flexibility and ease of organization | I21: Enable some way to easily rearrange days in the planning section (e.g. drag-and-drop functionality or pressable arrows) | J21: B, A
A22: 0 | B22: replace X with microphone in feed page | C22: =ROW() - 10 -> 12 | D22: H11: Accessible Design | E22: 1. Simple Task | F22: 2 | G22: Does not support voice inputs, making it challenging for visually or motor impaired people | H22: Users with limited mobility or visual abilities may struggle to search for a location | I22: Add the "microphone" option for voice inputs | J22: B
A23: 0 | B23: solo, group filter | C23: =ROW() - 10 -> 13 | D23: H12: Value Alignment & Inclusion | E23: 1. Simple Task | F23: 2 | G23: Filters do not include different modes of travel (e.g. solo, group travel), which limits the design value of personalization | H23: Users may want to travel alone but the recommended trips are for group activities, or vice versa | I23: Include a travel mode filter option | J23: B
... A37: 0 | B37: change to person icon | C37: =ROW() - 10 -> 27 | D37: H8: Aesthetic & Minimalist Design | E37: 3. Complex Task | F37: 1 | G37: Icon used to show profile details is a star. | H37: Showing a star is not intuitive to represent a profile tab. | I37: Change this icon to a more familiar profile icon, such as 👤. | J37: C

Sheet Summary of Evaluations
A1: Heuristic | B1: # Viol. (sev 0) | C1: # Viol. (sev 1) | D1: # Viol. (sev 2) | E1: # Viol. (sev 3) | F1: # Viol. (sev 4) | G1: # Viol. (total)
A2: H1: Visibility of System Status | B2: =COUNTIFS('Group Heuristic Evaluation'!D:D, "H1: Visibility of System Status", 'Group Heuristic Evaluation'!F:F, 0) -> 0 | C2: =COUNTIFS('Group Heuristic Evaluation'!D:D, "H1: Visibility of System Status", 'Group Heuristic Evaluation'!F:F, 1) -> 0 | D2: =COUNTIFS('Group Heuristic Evaluation'!D:D, "H1: Visibility of System Status", 'Group Heuristic Evaluation'!F:F, 2) -> 1 | E2: =COUNTIFS('Group Heuristic Evaluation'!D:D, "H1: Visibility of System Status", 'Group Heuristic Evaluation'!F:F, 3) -> 1 | F2: =COUNTIFS('Group Heuristic Evaluation'!D:D, "H1: Visibility of System Status", 'Group Heuristic Evaluation'!F:F, 4) -> 0 | G2: =SUM(B2:F2) -> 2
A3: H2: Match b/w System & World | B3: =COUNTIFS('Group Heuristic Evaluation'!D:D, "H2: Match b/w System & World", 'Group Heuristic Evaluation'!F:F, 0) -> 0 | C3: =COUNTIFS('Group Heuristic Evaluation'!D:D, "H2: Match b/w System & World", 'Group Heuristic Evaluation'!F:F, 1) -> 0 | D3: =COUNTIFS('Group Heuristic Evaluation'!D:D, "H2: Match b/w System & World", 'Group Heuristic Evaluation'!F:F, 2) -> 2 | E3: =COUNTIFS('Group Heuristic Evaluation'!D:D, "H2: Match b/w System & World", 'Group Heuristic Evaluation'!F:F, 3) -> 2 | F3: =COUNTIFS('Group Heuristic Evaluation'!D:D, "H2: Match b/w System & World", 'Group Heuristic Evaluation'!F:F, 4) -> 0 | G3: =SUM(B3:F3) -> 4
A4: H3: User Control & Freedom | B4: =COUNTIFS('Group Heuristic Evaluation'!D:D, "H3: User Control & Freedom", 'Group Heuristic Evaluation'!F:F, 0) -> 0 | C4: =COUNTIFS('Group Heuristic Evaluation'!D:D, "H3: User Control & Freedom", 'Group Heuristic Evaluation'!F:F, 1) -> 0 | D4: =COUNTIFS('Group Heuristic Evaluation'!D:D, "H3: User Control & Freedom", 'Group Heuristic Evaluation'!F:F, 2) -> 0 | E4: =COUNTIFS('Group Heuristic Evaluation'!D:D, "H3: User Control & Freedom", 'Group Heuristic Evaluation'!F:F, 3) -> 1 | F4: =COUNTIFS('Group Heuristic Evaluation'!D:D, "H3: User Control & Freedom", 'Group Heuristic Evaluation'!F:F, 4) -> 0 | G4: =SUM(B4:F4) -> 1
A5: H4: Consistency & Standards | B5: =COUNTIFS('Group Heuristic Evaluation'!D:D, "H4: Consistency & Standards", 'Group Heuristic Evaluation'!F:F, 0) -> 0 | C5: =COUNTIFS('Group Heuristic Evaluation'!D:D, "H4: Consistency & Standards", 'Group Heuristic Evaluation'!F:F, 1) -> 1 | D5: =COUNTIFS('Group Heuristic Evaluation'!D:D, "H4: Consistency & Standards", 'Group Heuristic Evaluation'!F:F, 2) -> 1 | E5: =COUNTIFS('Group Heuristic Evaluation'!D:D, "H4: Consistency & Standards", 'Group Heuristic Evaluation'!F:F, 3) -> 1 | F5: =COUNTIFS('Group Heuristic Evaluation'!D:D, "H4: Consistency & Standards", 'Group Heuristic Evaluation'!F:F, 4) -> 0 | G5: =SUM(B5:F5) -> 3
A6: H5: Error Prevention | B6: =COUNTIFS('Group Heuristic Evaluation'!D:D, "H5: Error Prevention", 'Group Heuristic Evaluation'!F:F, 0) -> 0 | C6: =COUNTIFS('Group Heuristic Evaluation'!D:D, "H5: Error Prevention", 'Group Heuristic Evaluation'!F:F, 1) -> 0 | D6: =COUNTIFS('Group Heuristic Evaluation'!D:D, "H5: Error Prevention", 'Group Heuristic Evaluation'!F:F, 2) -> 0 | E6: =COUNTIFS('Group Heuristic Evaluation'!D:D, "H5: Error Prevention", 'Group Heuristic Evaluation'!F:F, 3) -> 0 | F6: =COUNTIFS('Group Heuristic Evaluation'!D:D, "H5: Error Prevention", 'Group Heuristic Evaluation'!F:F, 4) -> 0 | G6: =SUM(C6:F6) -> 0
A7: H6: Recognition not Recall | B7: =COUNTIFS('Group Heuristic Evaluation'!D:D, "H6: Recognition not Recall", 'Group Heuristic Evaluation'!F:F, 0) -> 0 | C7: =COUNTIFS('Group Heuristic Evaluation'!D:D, "H6: Recognition not Recall", 'Group Heuristic Evaluation'!F:F, 1) -> 0 | D7: =COUNTIFS('Group Heuristic Evaluation'!D:D, "H6: Recognition not Recall", 'Group Heuristic Evaluation'!F:F, 2) -> 1 | E7: =COUNTIFS('Group Heuristic Evaluation'!D:D, "H6: Recognition not Recall", 'Group Heuristic Evaluation'!F:F, 3) -> 0 | F7: =COUNTIFS('Group Heuristic Evaluation'!D:D, "H6: Recognition not Recall", 'Group Heuristic Evaluation'!F:F, 4) -> 0 | G7: =SUM(B7:F7) -> 1
A8: H7: Flexibility & Efficiency of Use | B8: =COUNTIFS('Group Heuristic Evaluation'!D:D, "H7: Flexibility & Efficiency of Use", 'Group Heuristic Evaluation'!F:F, 0) -> 0 | C8: =COUNTIFS('Group Heuristic Evaluation'!D:D, "H7: Flexibility & Efficiency of Use", 'Group Heuristic Evaluation'!F:F, 1) -> 0 | D8: =COUNTIFS('Group Heuristic Evaluation'!D:D, "H7: Flexibility & Efficiency of Use", 'Group Heuristic Evaluation'!F:F, 2) -> 0 | E8: =COUNTIFS('Group Heuristic Evaluation'!D:D, "H7: Flexibility & Efficiency of Use", 'Group Heuristic Evaluation'!F:F, 3) -> 2 | F8: =COUNTIFS('Group Heuristic Evaluation'!D:D, "H7: Flexibility & Efficiency of Use", 'Group Heuristic Evaluation'!F:F, 4) -> 1 | G8: =SUM(B8:F8) -> 3
A9: H8: Aesthetic & Minimalist Design | B9: =COUNTIFS('Group Heuristic Evaluation'!D:D, "H8: Aesthetic & Minimalist Design", 'Group Heuristic Evaluation'!F:F, 0) -> 0 | C9: =COUNTIFS('Group Heuristic Evaluation'!D:D, "H8: Aesthetic & Minimalist Design", 'Group Heuristic Evaluation'!F:F, 1) -> 1 | D9: =COUNTIFS('Group Heuristic Evaluation'!D:D, "H8: Aesthetic & Minimalist Design", 'Group Heuristic Evaluation'!F:F, 2) -> 3 | E9: =COUNTIFS('Group Heuristic Evaluation'!D:D, "H8: Aesthetic & Minimalist Design", 'Group Heuristic Evaluation'!F:F, 3) -> 0 | F9: =COUNTIFS('Group Heuristic Evaluation'!D:D, "H8: Aesthetic & Minimalist Design", 'Group Heuristic Evaluation'!F:F, 4) -> 0 | G9: =SUM(B9:F9) -> 4
A10: H9: Help Users with Errors | B10: =COUNTIFS('Group Heuristic Evaluation'!D:D, "H9: Help Users with Errors", 'Group Heuristic Evaluation'!F:F, 0) -> 0 | C10: =COUNTIFS('Group Heuristic Evaluation'!D:D, "H9: Help Users with Errors", 'Group Heuristic Evaluation'!F:F, 1) -> 0 | D10: =COUNTIFS('Group Heuristic Evaluation'!D:D, "H9: Help Users with Errors", 'Group Heuristic Evaluation'!F:F, 2) -> 1 | E10: =COUNTIFS('Group Heuristic Evaluation'!D:D, "H9: Help Users with Errors", 'Group Heuristic Evaluation'!F:F, 3) -> 0 | F10: =COUNTIFS('Group Heuristic Evaluation'!D:D, "H9: Help Users with Errors", 'Group Heuristic Evaluation'!F:F, 4) -> 0 | G10: =SUM(B10:F10) -> 1
A11: H10: Help & Documentation | B11: =COUNTIFS('Group Heuristic Evaluation'!D:D, "H10: Help & Documentation", 'Group Heuristic Evaluation'!F:F, 0) -> 0 | C11: =COUNTIFS('Group Heuristic Evaluation'!D:D, "H10: Help & Documentation", 'Group Heuristic Evaluation'!F:F, 1) -> 0 | D11: =COUNTIFS('Group Heuristic Evaluation'!D:D, "H10: Help & Documentation", 'Group Heuristic Evaluation'!F:F, 2) -> 1 | E11: =COUNTIFS('Group Heuristic Evaluation'!D:D, "H10: Help & Documentation", 'Group Heuristic Evaluation'!F:F, 3) -> 0 | F11: =COUNTIFS('Group Heuristic Evaluation'!D:D, "H10: Help & Documentation", 'Group Heuristic Evaluation'!F:F, 4) -> 0 | G11: =SUM(B11:F11) -> 1
A12: H11: Accessible Design | B12: =COUNTIFS('Group Heuristic Evaluation'!D:D, "H11: Accessible Design", 'Group Heuristic Evaluation'!F:F, 0) -> 0 | C12: =COUNTIFS('Group Heuristic Evaluation'!D:D, "H11: Accessible Design", 'Group Heuristic Evaluation'!F:F, 1) -> 0 | D12: =COUNTIFS('Group Heuristic Evaluation'!D:D, "H11: Accessible Design", 'Group Heuristic Evaluation'!F:F, 2) -> 2 | E12: =COUNTIFS('Group Heuristic Evaluation'!D:D, "H11: Accessible Design", 'Group Heuristic Evaluation'!F:F, 3) -> 0 | F12: =COUNTIFS('Group Heuristic Evaluation'!D:D, "H11: Accessible Design", 'Group Heuristic Evaluation'!F:F, 4) -> 0 | G12: =SUM(B12:F12) -> 2
A13: H12. ​​Value Alignment & Inclusion | B13: =COUNTIFS('Group Heuristic Evaluation'!D:D, "H12: Value Alignment & Inclusion", 'Group Heuristic Evaluation'!F:F, 0) -> 0 | C13: =COUNTIFS('Group Heuristic Evaluation'!D:D, "H12: Value Alignment & Inclusion", 'Group Heuristic Evaluation'!F:F, 1) -> 0 | D13: =COUNTIFS('Group Heuristic Evaluation'!D:D, "H12: Value Alignment & Inclusion", 'Group Heuristic Evaluation'!F:F, 2) -> 3 | E13: =COUNTIFS('Group Heuristic Evaluation'!D:D, "H12: Value Alignment & Inclusion", 'Group Heuristic Evaluation'!F:F, 3) -> 1 | F13: =COUNTIFS('Group Heuristic Evaluation'!D:D, "H12: Value Alignment & Inclusion", 'Group Heuristic Evaluation'!F:F, 4) -> 0 | G13: =SUM(B13:F13) -> 4
A14: Total Violations | B14: =SUM(B2:B13) -> 0 | C14: =SUM(C1:C13) -> 2 | D14: =SUM(D1:D13) -> 15 | E14: =SUM(E2:E13) -> 8 | F14: =SUM(F2:F13) -> 1 | G14: =SUM(G2:G13) -> 26

Sheet Evaluation Statistics
A1: * for this to calculate properly, delete any unused rows from your 'Group Heuristic Evaluation' chart!
A2: Severity | B2: Evaluator A | C2: Evaluator B | D2: Evaluator C | E2: Evaluator D
A3: 0 | B3: =COUNTIFS('Group Heuristic Evaluation'!J:J, "*A*",'Group Heuristic Evaluation'!F:F, 0)/COUNTA('Group Heuristic Evaluation'!D:D) -> 0 | C3: =COUNTIFS('Group Heuristic Evaluation'!J:J, "*B*",'Group Heuristic Evaluation'!F:F, 0)/COUNTA('Group Heuristic Evaluation'!D:D) -> 0 | D3: =COUNTIFS('Group Heuristic Evaluation'!J:J, "*C*",'Group Heuristic Evaluation'!F:F, 0)/COUNTA('Group Heuristic Evaluation'!D:D) -> 0 | E3: =COUNTIFS('Group Heuristic Evaluation'!J:J, "*D*",'Group Heuristic Evaluation'!F:F, 0)/COUNTA('Group Heuristic Evaluation'!D:D) -> 0
A4: 1 | B4: =COUNTIFS('Group Heuristic Evaluation'!J:J, "*A*",'Group Heuristic Evaluation'!F:F, 1)/COUNTA('Group Heuristic Evaluation'!D:D) -> 0.032258065 | C4: =COUNTIFS('Group Heuristic Evaluation'!J:J, "*B*",'Group Heuristic Evaluation'!F:F, 1)/COUNTA('Group Heuristic Evaluation'!D:D) -> 0 | D4: =COUNTIFS('Group Heuristic Evaluation'!J:J, "*C*",'Group Heuristic Evaluation'!F:F, 1)/COUNTA('Group Heuristic Evaluation'!D:D) -> 0.032258065 | E4: =COUNTIFS('Group Heuristic Evaluation'!J:J, "*D*",'Group Heuristic Evaluation'!F:F, 1)/COUNTA('Group Heuristic Evaluation'!D:D) -> 0
A5: 2 | B5: =COUNTIFS('Group Heuristic Evaluation'!J:J, "*A*",'Group Heuristic Evaluation'!F:F, 2)/COUNTA('Group Heuristic Evaluation'!D:D) -> 0.19354839 | C5: =COUNTIFS('Group Heuristic Evaluation'!J:J, "*B*",'Group Heuristic Evaluation'!F:F, 2)/COUNTA('Group Heuristic Evaluation'!D:D) -> 0.22580645 | D5: =COUNTIFS('Group Heuristic Evaluation'!J:J, "*C*",'Group Heuristic Evaluation'!F:F, 2)/COUNTA('Group Heuristic Evaluation'!D:D) -> 0.22580645 | E5: =COUNTIFS('Group Heuristic Evaluation'!J:J, "*D*",'Group Heuristic Evaluation'!F:F, 2)/COUNTA('Group Heuristic Evaluation'!D:D) -> 0.12903226
A6: 3 | B6: =COUNTIFS('Group Heuristic Evaluation'!J:J, "*A*",'Group Heuristic Evaluation'!F:F, 3)/COUNTA('Group Heuristic Evaluation'!D:D) -> 0.12903226 | C6: =COUNTIFS('Group Heuristic Evaluation'!J:J, "*B*",'Group Heuristic Evaluation'!F:F, 3)/COUNTA('Group Heuristic Evaluation'!D:D) -> 0.19354839 | D6: =COUNTIFS('Group Heuristic Evaluation'!J:J, "*C*",'Group Heuristic Evaluation'!F:F, 3)/COUNTA('Group Heuristic Evaluation'!D:D) -> 0.096774194 | E6: =COUNTIFS('Group Heuristic Evaluation'!J:J, "*D*",'Group Heuristic Evaluation'!F:F, 3)/COUNTA('Group Heuristic Evaluation'!D:D) -> 0.032258065
A7: 4 | B7: =COUNTIFS('Group Heuristic Evaluation'!J:J, "*A*",'Group Heuristic Evaluation'!F:F, 4)/COUNTA('Group Heuristic Evaluation'!D:D) -> 0.032258065 | C7: =COUNTIFS('Group Heuristic Evaluation'!J:J, "*B*",'Group Heuristic Evaluation'!F:F, 4)/COUNTA('Group Heuristic Evaluation'!D:D) -> 0.032258065 | D7: =COUNTIFS('Group Heuristic Evaluation'!J:J, "*C*",'Group Heuristic Evaluation'!F:F, 4)/COUNTA('Group Heuristic Evaluation'!D:D) -> 0.032258065 | E7: =COUNTIFS('Group Heuristic Evaluation'!J:J, "*D*",'Group Heuristic Evaluation'!F:F, 4)/COUNTA('Group Heuristic Evaluation'!D:D) -> 0
A8: Total (sevs. 3 & 4) | B8: =SUM(B6:B7) -> 0.16129032 | C8: =SUM(C6:C7) -> 0.22580645 | D8: =SUM(D6:D7) -> 0.12903226 | E8: =SUM(E6:E7) -> 0.032258065
A9: Total (all sevs) | B9: =SUM(B3:B7) -> 0.38709677 | C9: =SUM(C3:C7) -> 0.4516129 | D9: =SUM(D3:D7) -> 0.38709677 | E9: =SUM(E3:E7) -> 0.16129032

Sheet Summary Recommendations
A2: Revisit's design is visually appealing and intuitive overall, but several improvements can enhance usability, streamline navigation, and strengthen focus. Here are some big themes we noticed: 1. Streamlined Navigation Users need greater control over navigation to explore and modify itineraries with ease. - Add back and undo buttons to give users flexibility in revisiting or adjusting their plans. - Ensure direct access to tasks like editing and sharing after starring an itinerary to maintain a smooth workflow. 2. Feature Clarity and Consistency Social media-inspired elements and inconsistent visual cues create confusion, making it harder for users to intuitively follow the planning process. - Remove or clarify ambiguous features (e.g., “+” button, “Posts”) that don’t align with the app’s main purpose of travel planning. - Standardize button colors, icon meanings, and layout elements for visual coherence, helping users anticipate actions and navigate seamlessly. 3. Enhanced Community and Collaboration Community and collaboration features can be strengthened to support interaction and group planning. - Allow users to leave review comments on itineraries and create predefined collaboration groups for easy, personalized trip planning. - Differentiate collaborative and sharing tasks to avoid redundancy and clarify user workflows. Overall, we really enjoyed testing out the app and think a few adjustments to increase clarity and efficiency would be game changing! Excited for the expo :)
