Workbook

Sheet Group Heuristic Evaluation
A1: Prototype Description: | B1: HireReel is a platform where people can endorse eachother's professional skills by making video referals
D3: Your TA will remove your names before the document is given to the project team. Under the 'Found by' column, use these letters to identify yourselves
A4: Simple Task | B4: Ask a friend on the platform for a shared HireReel (referral) | D4: Evaluator A:
A5: Moderate Task | B5: Sharing a HireReel to a recruiter | D5: Evaluator B:
A6: Complex Task | B6: Viewing advanced analytics on your HireReels | D6: Evaluator C:
D7: Evaluator D:
E9: *attach images here if helpful
A10: Problem # | B10: Heuristic | C10: Task | D10: Severity | E10: Description | F10: Rationale | G10: Fix | H10: Found by | I10: Comments | J10: Column 1
A11: =ROW() - 10 -> 1 | B11: H6: Recognition not Recall | C11: 1. Simple Task | D11: 2 | E11: There is a + button in the Inbox page that elludes to being able to start a conversation and request a HireReel. However, the only way to request a HireReel is through the Network page. | F11: Users might intuitively try to press the + button to request a HireReel and would have to try to remember how to do it through the Network tab | G11: There should either not be a + button there, or the plus button should link to searching through the user's network | H11: B, D | I11: Are not going to implement inbox for now. Going to have a notifications tab on account instead to not confuse the user.
A12: =ROW() - 10 -> 2 | B12: H1: Visibility of System Status | C12: 1. Simple Task | D12: 2 | E12: Requesting a HireReel does not result in any lasting feedback, only a toast | F12: Users might forget who they requested HireReels from | G12: There should be some lasting feedback or state change so that the users know who they have requested videos from | H12: B | I12: Make sure we know which connections we have already sent a hireReel request to in our network tab
A13: =ROW() - 10 -> 3 | B13: H2: Match b/w System & World | C13: 1. Simple Task | D13: 2 | E13: It is unclear whether Friends and Recruiters can overlap. Can you only sign up as a Recruiter or Employee, can you be both? | F13: Users might be confused if they want to both recruit and give HireReel | G13: Set up more rigid distinction | H13: B | I13: They're seperate lmao
A14: =ROW() - 10 -> 4 | B14: H4: Consistency & Standards | C14: 1. Simple Task | D14: 3 | E14: Icons next to the Send Request button in the New Request window are tiny | F14: I can barely tell what these icons are supposed to be, and I'm not sure what the icon from the third to the right is supposed to do. Also very worried about fat-fingering an icon I don't intend to click on (though I know these aren't intended to be clickable in the prototype). | G14: Make icons larger, maybe make them hidden behind a drawer than could be opened/closed | H14: A | I14: That screen is geting removed. If added back for something we should remove those small button (bold, italic)
A15: =ROW() - 10 -> 5 | B15: H10: Help & Documentation | C15: 1. Simple Task | D15: 1 | E15: It is a bit unclear how the user should approach their request for referals and there is not information on the recipient in the drafting screen | F15: There is only a text box prompt here; it will be hard to define or remember what necessary information should be included in this message, from HireReel or otherwise | G15: Add a quick message at the top of the screen describing what the user should do ("Draft a message reaching out . . .") or add quickly linkable info from profile | H15: D | I15: We're removing that screen for now
A16: =ROW() - 10 -> 6 | B16: H5: Error Prevention | C16: 2. Moderate Task | D16: 3 | E16: The "Send My HireReel" button immediately send hire reel to the recruiter | F16: Users may accidentally click it, or click it expecting a Yes/No prompt or a place to add a message | G16: Add emergency exit to the task by adding an extra step to the button, and maybe including a place to add a message | H16: B, D | I16: We'll add a confirmation prompt.
A17: =ROW() - 10 -> 7 | B17: H8: Aesthetic & Minimalist Design | C17: 2. Moderate Task | D17: 1 | E17: Inconsistency in the formatting of the Friends and Recruiters tabs of Your Network | F17: Inconsistency is not aesthetically pleasing but it probably will not impact functionality | G17: Ensure consistency in the formatting of the Friends and Recruiters tabs | H17: B | I17: Fix Friends/Recruiters toggle in network
A18: =ROW() - 10 -> 8 | B18: H1: Visibility of System Status | C18: 2. Moderate Task | D18: 2 | E18: Pop-up for the HireReel sent notification disappears quickly | F18: First time I sent the HireReel I didn't read the entire notification before it disappeared | G18: Make notification last longer on the screen | H18: A, B
A19: =ROW() - 10 -> 9 | B19: H6: Recognition not Recall | C19: 2. Moderate Task | D19: 3 | E19: When sending my HireReel to a recruiter, I did not understand what sending them my HireReel implied, and when it did send, it sent without giving me any recognizition as to what I just sent . | F19: Contacting a recruiter sounds like one of the more stressful or high impact activities I can do, and so I was a little cautious before pressing "Send My HIreReel" and curious as to what that was. I expected to see it or a prompt to come up when I hit the button but it just instantly sent and I became confused and nervous as to what I just sent to the recruiter | G19: Add an intermediary screen that has a draft of what it is I'm sending OR a description at least | H19: D | I19: make the send hireel to recruiter screen more intuitive; possibly bucket select which positions to apply for and allow user to select particular hirereels to send to recruiter
A20: =ROW() - 10 -> 10 | B20: H4: Consistency & Standards | C20: 3. Complex Task | D20: 2 | E20: The icons of plays/likes/comments in the Analytics page are not consistent with the ones in the Home page | F20: Users may get confused if 2 icons are used to represent the same concept | G20: The same icons should be used in both the home page and the analytics page | H20: B | I20: Fair
A21: =ROW() - 10 -> 11 | B21: H11: Accessible Design | C21: 3. Complex Task | D21: 3 | E21: The Received page of Insights only includes pictures to represent the received videos | F21: Users who use screenreaders or who have vision impairements may not be able to use the analytics feature | G21: There should be other information included in the Received page other than just the video | H21: B | I21: They don't know how a screen reader works.
A22: =ROW() - 10 -> 12 | B22: H8: Aesthetic & Minimalist Design | C22: 3. Complex Task | D22: 1 | E22: The analytics button is always visible | F22: If analytics are for power users, then they shouldn't be cluttering the screen of regular users | G22: Include analytics in the Profle section | H22: B | I22: Fair
A23: =ROW() - 10 -> 13 | B23: H6: Recognition not Recall | C23: 3. Complex Task | D23: 3 | E23: Not sure what "received", "delivered", and "account" refer to. | F23: I understand this is an analytics section, but it's unclear to me what each of these buttons refer to | G23: Increase clarity on this page... probably need descriptions or something additional to indicate what I'm clicking | H23: A | I23: We'll move the insights tab to the profile account. We'll have: HireReels received, HireReels Sent, and Profile Insights
A24: =ROW() - 10 -> 14 | B24: H2: Match b/w System & World | C24: 3. Complex Task | D24: 4 | E24: Unsure what I'm really looking at under the advanced insights header. To be honest I don't really understand what any of these metrics really are tracking. | F24: It has to be super clear what these metrics are tracking. I guess I could come to some conclusions about what they're maybe tracking but I'm just not so sure. This is a core part of your app that I think needs to be a lot clearer | G24: Add a description (maybe hidden behind a button) for each metric that you're tracking so users can understand what they're looking at | H24: D, A | I24: They don't seem to understand the instagram-like metrics (likes, views, shares, etc.) I think its pretty intuitive but we could add a description of the insights somewhere that explain what each metric calculates
A25: =ROW() - 10 -> 15 | B25: H11: Accessible Design | C25: 4. All Tasks | D25: 3 | E25: The contrast of the colors/values chosen is very low | F25: Users who are colorblind or use color filters on their phones would not be able to use the app. This is especially noticable on screens that have filters (blue-light) | G25: Colors with more contrast should be chosen for the design | H25: B, A | I25: Re-evaluate entire colour scheme; make sure it is visable to colour blind ppl
A26: =ROW() - 10 -> 16 | B26: H8: Aesthetic & Minimalist Design | C26: 4. All Tasks | D26: 1 | E26: Inconsistency in location for profile button placement | F26: Inconsistency is not aesthetically pleasing but it probably will not impact functionality | G26: Ensure location consistency of profile button (picture in top-right) | H26: B | I26: N/A
A27: =ROW() - 10 -> 17 | B27: H4: Consistency & Standards | C27: 4. All Tasks | D27: 1 | E27: Fonts, font weights and font sizes are inconsistent throughout the app (example: the font for the number of likes, the fonts in the profile tab, the font weights in the profiles of friends) | F27: This is an aesthetic issue | G27: Ensure consistency between fonts and font weights | H27: B, D, C
A28: =ROW() - 10 -> 18 | B28: H11: Accessible Design | C28: 4. All Tasks | D28: 3 | E28: Navigation bar icons don't contrast well with the background. I would anticipate this contrast is even worse for those with color vision deficiency. | F28: The icons at the bottom are hard to distinguish against the background. At best, they aren't eye-catching, and I think they sorta should be. | G28: Make icons brighter (probably whiter) and change appearance when they're selected | H28: A
A29: =ROW() - 10 -> 19 | B29: H4: Consistency & Standards | C29: 4. All Tasks | D29: 2 | E29: Expecting that, while looking at a HireReel sent to me (under the inbox tab), that clicking that inbox icon would return me to the inbox. A similar problem is present in some places in the network section, though it's not present throughout all subpages. | F29: This is something that from my understanding is pretty industry standard, so I would expect to see it in this app as well | G29: Make the selected icon clickable while navigating through its menus | H29: A
A30: =ROW() - 10 -> 20 | B30: H4: Consistency & Standards | C30: 4. All Tasks | D30: 4 | E30: The usage of the word HireReel is a bit confusing, especially in terms of what it means to request or send a HireReel to a friend vs a recruiter | F30: In my "Inbox", I have been sent a "HireReel", which I can see is a video of someone endorsing me. In my "Networks" page, I can request a HireReel, meaning I'm probably requesting them to make a video endorsing me. However, on the recruiters on the "Networks" page, I can only "Send my HireReel", but does that mean I'm sending them a video of me endorsing them? When do I make this HireReel and send it or is it my HireReel profile? | G30: Be careful about when and how you're using the word HireReel to make it easy for the user to connect what process or abstraction it is representing. Change the wording on screens using HireReel as a noun to be more specific | H30: D
A31: =ROW() - 10 -> 21 | B31: H12: Value Alignment & Inclusion | C31: 4. All Tasks | D31: 1 | E31: The people making up your problem domain are "early career applicants". The language and aesthetic you've built up aligns really well with career applicants and professionals in general, but not specifically the "early" or new career applicants | F31: The terminology and structure that is used throughout HireReel seems to best suit someone who already has a good understanding of professional culture and how to do that, but not particularly the 'early career applicant'. If they still constitute a big portion of your problem domain, then it might be good to design for them when thinking about how wording and visuals are reflecting the value alignment of HireReel | G31: It isn't urgent, but it might be interesting to see how you can use certain wording or visual design to help newer career applicants approach professionalism and interact with sending and recieving HireReels naturally. | H31: D
A32: =ROW() - 10 -> 22 | B32: H11: Accessible Design | C32: 4. All Tasks | D32: 3 | E32: The most key element to your app is sending and recieving HireReels, which are videos. The key information from those videos that are relevant to the user should also be made accessible outside of pure video format | F32: For blind or deaf users, amongst others (colorblind, etc.), the experience of interacting with each reel is different than the typical user. On the main screen for interacting with recieved HIreReels, there exists the video and some insights (stats) on the video, but no textual or non-video representation of the info in the video itself. These users will not be able to use the app since reels are a core part of it | G32: Start thinking about how accessible design features will be represented for your HIreReels. For example, a clear fix would be to create transcripts for the videos and have them accessible on each reel | H32: D
A33: =ROW() - 10 -> 23 | B33: H4: Consistency & Standards | C33: 5. Extra Violations | D33: 2 | E33: The Friends/Recruiters toggle on the Your Network page changes the order of the items so that the selected one is always on the left | F33: Users may be confused or annoyed by the inconsistency | G33: Make the Friends/Recruiters toggle match the usual toggle standards of the items staying in the same place | H33: B, A
A34: =ROW() - 10 -> 24 | B34: H4: Consistency & Standards | C34: 5. Extra Violations | D34: 1 | E34: Only the Recruiters section of the Your Network page has search functionality | F34: Users may want search functionality in the Friends tab as well as the Recruiters tab | G34: Add search functionality and icon to Friends tab | H34: B, A
A35: =ROW() - 10 -> 25 | B35: H8: Aesthetic & Minimalist Design | C35: 5. Extra Violations | D35: 1 | E35: The bottom buttons are all visible before logging in or signing up | F35: Users may get annoyed or think they should be able to access those pages before onboarding | G35: The bottom buttons should only load after onboarding tasks are completed | H35: B, A, C
A36: =ROW() - 10 -> 26 | B36: H3: User Control & Freedom | C36: 5. Extra Violations | D36: 3 | E36: Importing contacts is meant to be an optional step, but denying permission to access contacts takes the user back to the Import Contacts screen | F36: Users would feel forced to import contacts | G36: If this feature is meant to be optional, there should be a clear way to skip it | H36: B, A
A37: =ROW() - 10 -> 27 | B37: H1: Visibility of System Status | C37: 5. Extra Violations | D37: 2 | E37: Clicking on a message in the inbox does not result in any feedback that the message has now changed state/has been read | F37: Users might be confused about which messages they have viewed and responded to | G37: There should be a visible distinction between unread and read messages in the inbox | H37: B, C
A38: =ROW() - 10 -> 28 | B38: H3: User Control & Freedom | C38: 5. Extra Violations | D38: 2 | E38: The profile option is read only | F38: Users would expect to be able to edit their profiles | G38: Provide a "Settings" button | H38: B, A
... A46: =ROW() - 10 -> 36 | B46: H2: Match b/w System & World | C46: 5. Extra Violations | D46: 3 | E46: When viewing a HIreReel that has been sent (going into "Hamilton Smith sent you a HireReel"), there is no clear navigation for the user on that screen or way to respond | F46: On the screen there is a video and a large chunk of white space with a small back button on the top. I was confused as to where to go from there or how to interact with the HIreReel video that I was "viewing" | G46: Add some interactability to the video or some buttons under the video, specifically in the middle of the white space to allow me to exit or interact with the video (and then exit), OR just get rid of the white space and make the "back" button bigger on this page to signal to the user that they are meant to just quickly exit after viewing the video | H46: D, B

Sheet Summary of Evaluations
A1: Heuristic | B1: # Viol. (sev 0) | C1: # Viol. (sev 1) | D1: # Viol. (sev 2) | E1: # Viol. (sev 3) | F1: # Viol. (sev 4) | G1: # Viol. (total)
A2: H1: Visibility of System Status | B2: =COUNTIFS('Group Heuristic Evaluation'!B:B, "H1: Visibility of System Status", 'Group Heuristic Evaluation'!D:D, 0) -> 0 | C2: =COUNTIFS('Group Heuristic Evaluation'!B:B, "H1: Visibility of System Status", 'Group Heuristic Evaluation'!D:D, 1) -> 0 | D2: =COUNTIFS('Group Heuristic Evaluation'!B:B, "H1: Visibility of System Status", 'Group Heuristic Evaluation'!D:D, 2) -> 3 | E2: =COUNTIFS('Group Heuristic Evaluation'!B:B, "H1: Visibility of System Status", 'Group Heuristic Evaluation'!D:D, 3) -> 0 | F2: =COUNTIFS('Group Heuristic Evaluation'!B:B, "H1: Visibility of System Status", 'Group Heuristic Evaluation'!D:D, 4) -> 0 | G2: =SUM(B2:F2) -> 3
A3: H2: Match b/w System & World | B3: =COUNTIFS('Group Heuristic Evaluation'!B:B, "H2: Match b/w System & World", 'Group Heuristic Evaluation'!D:D, 0) -> 0 | C3: =COUNTIFS('Group Heuristic Evaluation'!B:B, "H2: Match b/w System & World", 'Group Heuristic Evaluation'!D:D, 1) -> 0 | D3: =COUNTIFS('Group Heuristic Evaluation'!B:B, "H2: Match b/w System & World", 'Group Heuristic Evaluation'!D:D, 2) -> 3 | E3: =COUNTIFS('Group Heuristic Evaluation'!B:B, "H2: Match b/w System & World", 'Group Heuristic Evaluation'!D:D, 3) -> 1 | F3: =COUNTIFS('Group Heuristic Evaluation'!B:B, "H2: Match b/w System & World", 'Group Heuristic Evaluation'!D:D, 4) -> 1 | G3: =SUM(B3:F3) -> 5
A4: H3: User Control & Freedom | B4: =COUNTIFS('Group Heuristic Evaluation'!B:B, "H3: User Control & Freedom", 'Group Heuristic Evaluation'!D:D, 0) -> 0 | C4: =COUNTIFS('Group Heuristic Evaluation'!B:B, "H3: User Control & Freedom", 'Group Heuristic Evaluation'!D:D, 1) -> 0 | D4: =COUNTIFS('Group Heuristic Evaluation'!B:B, "H3: User Control & Freedom", 'Group Heuristic Evaluation'!D:D, 2) -> 1 | E4: =COUNTIFS('Group Heuristic Evaluation'!B:B, "H3: User Control & Freedom", 'Group Heuristic Evaluation'!D:D, 3) -> 2 | F4: =COUNTIFS('Group Heuristic Evaluation'!B:B, "H3: User Control & Freedom", 'Group Heuristic Evaluation'!D:D, 4) -> 0 | G4: =SUM(B4:F4) -> 3
A5: H4: Consistency & Standards | B5: =COUNTIFS('Group Heuristic Evaluation'!B:B, "H4: Consistency & Standards", 'Group Heuristic Evaluation'!D:D, 0) -> 0 | C5: =COUNTIFS('Group Heuristic Evaluation'!B:B, "H4: Consistency & Standards", 'Group Heuristic Evaluation'!D:D, 1) -> 4 | D5: =COUNTIFS('Group Heuristic Evaluation'!B:B, "H4: Consistency & Standards", 'Group Heuristic Evaluation'!D:D, 2) -> 4 | E5: =COUNTIFS('Group Heuristic Evaluation'!B:B, "H4: Consistency & Standards", 'Group Heuristic Evaluation'!D:D, 3) -> 1 | F5: =COUNTIFS('Group Heuristic Evaluation'!B:B, "H4: Consistency & Standards", 'Group Heuristic Evaluation'!D:D, 4) -> 1 | G5: =SUM(B5:F5) -> 10
A6: H5: Error Prevention | B6: =COUNTIFS('Group Heuristic Evaluation'!B:B, "H5: Error Prevention", 'Group Heuristic Evaluation'!D:D, 0) -> 0 | C6: =COUNTIFS('Group Heuristic Evaluation'!B:B, "H5: Error Prevention", 'Group Heuristic Evaluation'!D:D, 1) -> 0 | D6: =COUNTIFS('Group Heuristic Evaluation'!B:B, "H5: Error Prevention", 'Group Heuristic Evaluation'!D:D, 2) -> 0 | E6: =COUNTIFS('Group Heuristic Evaluation'!B:B, "H5: Error Prevention", 'Group Heuristic Evaluation'!D:D, 3) -> 2 | F6: =COUNTIFS('Group Heuristic Evaluation'!B:B, "H5: Error Prevention", 'Group Heuristic Evaluation'!D:D, 4) -> 0 | G6: =SUM(C6:F6) -> 2
A7: H6: Recognition not Recall | B7: =COUNTIFS('Group Heuristic Evaluation'!B:B, "H6: Recognition not Recall", 'Group Heuristic Evaluation'!D:D, 0) -> 0 | C7: =COUNTIFS('Group Heuristic Evaluation'!B:B, "H6: Recognition not Recall", 'Group Heuristic Evaluation'!D:D, 1) -> 0 | D7: =COUNTIFS('Group Heuristic Evaluation'!B:B, "H6: Recognition not Recall", 'Group Heuristic Evaluation'!D:D, 2) -> 1 | E7: =COUNTIFS('Group Heuristic Evaluation'!B:B, "H6: Recognition not Recall", 'Group Heuristic Evaluation'!D:D, 3) -> 2 | F7: =COUNTIFS('Group Heuristic Evaluation'!B:B, "H6: Recognition not Recall", 'Group Heuristic Evaluation'!D:D, 4) -> 0 | G7: =SUM(B7:F7) -> 3
A8: H7: Flexibility & Efficiency of Use | B8: =COUNTIFS('Group Heuristic Evaluation'!B:B, "H7: Flexibility & Efficiency of Use", 'Group Heuristic Evaluation'!D:D, 0) -> 0 | C8: =COUNTIFS('Group Heuristic Evaluation'!B:B, "H7: Flexibility & Efficiency of Use", 'Group Heuristic Evaluation'!D:D, 1) -> 0 | D8: =COUNTIFS('Group Heuristic Evaluation'!B:B, "H7: Flexibility & Efficiency of Use", 'Group Heuristic Evaluation'!D:D, 2) -> 0 | E8: =COUNTIFS('Group Heuristic Evaluation'!B:B, "H7: Flexibility & Efficiency of Use", 'Group Heuristic Evaluation'!D:D, 3) -> 0 | F8: =COUNTIFS('Group Heuristic Evaluation'!B:B, "H7: Flexibility & Efficiency of Use", 'Group Heuristic Evaluation'!D:D, 4) -> 0 | G8: =SUM(B8:F8) -> 0
A9: H8: Aesthetic & Minimalist Design | B9: =COUNTIFS('Group Heuristic Evaluation'!B:B, "H8: Aesthetic & Minimalist Design", 'Group Heuristic Evaluation'!D:D, 0) -> 0 | C9: =COUNTIFS('Group Heuristic Evaluation'!B:B, "H8: Aesthetic & Minimalist Design", 'Group Heuristic Evaluation'!D:D, 1) -> 4 | D9: =COUNTIFS('Group Heuristic Evaluation'!B:B, "H8: Aesthetic & Minimalist Design", 'Group Heuristic Evaluation'!D:D, 2) -> 0 | E9: =COUNTIFS('Group Heuristic Evaluation'!B:B, "H8: Aesthetic & Minimalist Design", 'Group Heuristic Evaluation'!D:D, 3) -> 0 | F9: =COUNTIFS('Group Heuristic Evaluation'!B:B, "H8: Aesthetic & Minimalist Design", 'Group Heuristic Evaluation'!D:D, 4) -> 0 | G9: =SUM(B9:F9) -> 4
A10: H9: Help Users with Errors | B10: =COUNTIFS('Group Heuristic Evaluation'!B:B, "H9: Help Users with Errors", 'Group Heuristic Evaluation'!D:D, 0) -> 0 | C10: =COUNTIFS('Group Heuristic Evaluation'!B:B, "H9: Help Users with Errors", 'Group Heuristic Evaluation'!D:D, 1) -> 0 | D10: =COUNTIFS('Group Heuristic Evaluation'!B:B, "H9: Help Users with Errors", 'Group Heuristic Evaluation'!D:D, 2) -> 0 | E10: =COUNTIFS('Group Heuristic Evaluation'!B:B, "H9: Help Users with Errors", 'Group Heuristic Evaluation'!D:D, 3) -> 0 | F10: =COUNTIFS('Group Heuristic Evaluation'!B:B, "H9: Help Users with Errors", 'Group Heuristic Evaluation'!D:D, 4) -> 0 | G10: =SUM(B10:F10) -> 0
A11: H10: Help & Documentation | B11: =COUNTIFS('Group Heuristic Evaluation'!B:B, "H10: Help & Documentation", 'Group Heuristic Evaluation'!D:D, 0) -> 0 | C11: =COUNTIFS('Group Heuristic Evaluation'!B:B, "H10: Help & Documentation", 'Group Heuristic Evaluation'!D:D, 1) -> 1 | D11: =COUNTIFS('Group Heuristic Evaluation'!B:B, "H10: Help & Documentation", 'Group Heuristic Evaluation'!D:D, 2) -> 0 | E11: =COUNTIFS('Group Heuristic Evaluation'!B:B, "H10: Help & Documentation", 'Group Heuristic Evaluation'!D:D, 3) -> 0 | F11: =COUNTIFS('Group Heuristic Evaluation'!B:B, "H10: Help & Documentation", 'Group Heuristic Evaluation'!D:D, 4) -> 0 | G11: =SUM(B11:F11) -> 1
A12: H11: Accessible Design | B12: =COUNTIFS('Group Heuristic Evaluation'!B:B, "H11: Accessible Design", 'Group Heuristic Evaluation'!D:D, 0) -> 0 | C12: =COUNTIFS('Group Heuristic Evaluation'!B:B, "H11: Accessible Design", 'Group Heuristic Evaluation'!D:D, 1) -> 0 | D12: =COUNTIFS('Group Heuristic Evaluation'!B:B, "H11: Accessible Design", 'Group Heuristic Evaluation'!D:D, 2) -> 0 | E12: =COUNTIFS('Group Heuristic Evaluation'!B:B, "H11: Accessible Design", 'Group Heuristic Evaluation'!D:D, 3) -> 4 | F12: =COUNTIFS('Group Heuristic Evaluation'!B:B, "H11: Accessible Design", 'Group Heuristic Evaluation'!D:D, 4) -> 0 | G12: =SUM(B12:F12) -> 4
A13: H12. ​​Value Alignment & Inclusion | B13: =COUNTIFS('Group Heuristic Evaluation'!B:B, "H12: Value Alignment & Inclusion", 'Group Heuristic Evaluation'!D:D, 0) -> 0 | C13: =COUNTIFS('Group Heuristic Evaluation'!B:B, "H12: Value Alignment & Inclusion", 'Group Heuristic Evaluation'!D:D, 1) -> 1 | D13: =COUNTIFS('Group Heuristic Evaluation'!B:B, "H12: Value Alignment & Inclusion", 'Group Heuristic Evaluation'!D:D, 2) -> 0 | E13: =COUNTIFS('Group Heuristic Evaluation'!B:B, "H12: Value Alignment & Inclusion", 'Group Heuristic Evaluation'!D:D, 3) -> 0 | F13: =COUNTIFS('Group Heuristic Evaluation'!B:B, "H12: Value Alignment & Inclusion", 'Group Heuristic Evaluation'!D:D, 4) -> 0 | G13: =SUM(B13:F13) -> 1
A14: Total Violations | B14: =SUM(B2:B13) -> 0 | C14: =SUM(C1:C13) -> 10 | D14: =SUM(D1:D13) -> 12 | E14: =SUM(E2:E13) -> 12 | F14: =SUM(F2:F13) -> 2 | G14: =SUM(G2:G13) -> 36

Sheet Evaluation Statistics
A1: * for this to calculate properly, delete any unused rows from your 'Group Heuristic Evaluation' chart!
A2: Severity | B2: Evaluator A | C2: Evaluator B | D2: Evaluator C | E2: Evaluator D
A3: 0 | B3: =COUNTIFS('Group Heuristic Evaluation'!H:H, "*A*",'Group Heuristic Evaluation'!D:D, 0)/COUNTA('Group Heuristic Evaluation'!B:B) -> 0 | C3: =COUNTIFS('Group Heuristic Evaluation'!H:H, "*B*",'Group Heuristic Evaluation'!D:D, 0)/COUNTA('Group Heuristic Evaluation'!B:B) -> 0 | D3: =COUNTIFS('Group Heuristic Evaluation'!H:H, "*C*",'Group Heuristic Evaluation'!D:D, 0)/COUNTA('Group Heuristic Evaluation'!B11:B1001) -> 0 | E3: =COUNTIFS('Group Heuristic Evaluation'!H:H, "*D*",'Group Heuristic Evaluation'!D:D, 0)/COUNTA('Group Heuristic Evaluation'!B11:B1001) -> 0
A4: 1 | B4: =COUNTIFS('Group Heuristic Evaluation'!H:H, "*A*",'Group Heuristic Evaluation'!D:D, 1)/COUNTA('Group Heuristic Evaluation'!B11:B1001) -> 0.11111111 | C4: =COUNTIFS('Group Heuristic Evaluation'!H:H, "*B*",'Group Heuristic Evaluation'!D:D, 1)/COUNTA('Group Heuristic Evaluation'!B11:B1001) -> 0.16666667 | D4: =COUNTIFS('Group Heuristic Evaluation'!H:H, "*C*",'Group Heuristic Evaluation'!D:D, 1)/COUNTA('Group Heuristic Evaluation'!B11:B1001) -> 0.055555556 | E4: =COUNTIFS('Group Heuristic Evaluation'!H:H, "*D*",'Group Heuristic Evaluation'!D:D, 1)/COUNTA('Group Heuristic Evaluation'!B11:B1001) -> 0.083333333
A5: 2 | B5: =COUNTIFS('Group Heuristic Evaluation'!H:H, "*A*",'Group Heuristic Evaluation'!D:D, 2)/COUNTA('Group Heuristic Evaluation'!B11:B1001) -> 0.16666667 | C5: =COUNTIFS('Group Heuristic Evaluation'!H:H, "*B*",'Group Heuristic Evaluation'!D:D, 2)/COUNTA('Group Heuristic Evaluation'!B11:B1001) -> 0.25 | D5: =COUNTIFS('Group Heuristic Evaluation'!H:H, "*C*",'Group Heuristic Evaluation'!D:D, 2)/COUNTA('Group Heuristic Evaluation'!B11:B1001) -> 0.027777778 | E5: =COUNTIFS('Group Heuristic Evaluation'!H:H, "*D*",'Group Heuristic Evaluation'!D:D, 2)/COUNTA('Group Heuristic Evaluation'!B11:B1001) -> 0.027777778
A6: 3 | B6: =COUNTIFS('Group Heuristic Evaluation'!H:H, "*A*",'Group Heuristic Evaluation'!D:D, 3)/COUNTA('Group Heuristic Evaluation'!B11:B1001) -> 0.19444444 | C6: =COUNTIFS('Group Heuristic Evaluation'!H:H, "*B*",'Group Heuristic Evaluation'!D:D, 3)/COUNTA('Group Heuristic Evaluation'!B11:B1001) -> 0.19444444 | D6: =COUNTIFS('Group Heuristic Evaluation'!H:H, "*C*",'Group Heuristic Evaluation'!D:D, 3)/COUNTA('Group Heuristic Evaluation'!B11:B1001) -> 0 | E6: =COUNTIFS('Group Heuristic Evaluation'!H:H, "*D*",'Group Heuristic Evaluation'!D:D, 3)/COUNTA('Group Heuristic Evaluation'!B11:B1001) -> 0.11111111
A7: 4 | B7: =COUNTIFS('Group Heuristic Evaluation'!H:H, "*A*",'Group Heuristic Evaluation'!D:D, 4)/COUNTA('Group Heuristic Evaluation'!B11:B1001) -> 0.027777778 | C7: =COUNTIFS('Group Heuristic Evaluation'!H:H, "*B*",'Group Heuristic Evaluation'!D:D, 4)/COUNTA('Group Heuristic Evaluation'!B11:B1001) -> 0 | D7: =COUNTIFS('Group Heuristic Evaluation'!H:H, "*C*",'Group Heuristic Evaluation'!D:D, 4)/COUNTA('Group Heuristic Evaluation'!B11:B1001) -> 0 | E7: =COUNTIFS('Group Heuristic Evaluation'!H:H, "*D*",'Group Heuristic Evaluation'!D:D, 4)/COUNTA('Group Heuristic Evaluation'!B11:B1001) -> 0.055555556
A8: Total (sevs. 3 & 4) | B8: =SUM(B6:B7) -> 0.22222222 | C8: =SUM(C6:C7) -> 0.19444444 | D8: =SUM(D6:D7) -> 0 | E8: =SUM(E6:E7) -> 0.16666667
A9: Total (all sevs) | B9: =SUM(B3:B7) -> 0.5 | C9: =SUM(C3:C7) -> 0.61111111 | D9: =SUM(D3:D7) -> 0.083333333 | E9: =SUM(E3:E7) -> 0.27777778

Sheet Summary Recommendations
A1: Summary Recommendations
A2: Overall we thought you guys did a good job on your app! We liked how it was laid out and organized and think the idea is quite novel and the design is a good starting point. Here's a summary of our main takeaways from our heuristic evaluation and things we think you should consider. Defining HireReels: I think on the homepage or somewhere on your app, you could A) Define what a HireReel is, and B) Define how a HireReel is supposed to be used (what is it's purpose). That way you can better leverage your abstraction and create a system where user's can also leverage it. Defining how a HireReel is supposed to be used is more complicated and you could instead let user's develop their own way of using them, but you as designers can help shape it to better align on your values. For example, maybe helping shape or define HireReel usage so that people dress in business-casual would help early applicants approach this system as opposed to business-formal being the norm. However, the main reason this would be useful is just to give user's a concrete understanding of what it is they are making and sharing and how it benefits them. This definition would also help alleviate a good chunk of the confusion we ran into when evaluating various heuristics (this fix would solve a good chunk of them). The biggest case of this confusion would be on messaging a recruiter; what does it mean to send them my HireReel? Task Flow: Probably my biggest piece of advice would be to go over how the user interacts with the complex task. There were a few instances where I was just left confused. What do the separate buttons refer to? And when I navigate to a certain HireReel, I'm not sure what the metrics I'm looking at actually refer to, so some description somewhere would be useful. I would also generally say I wasn't a fan of the very text-based UI. I would love to see one or two graphics even if just to make the page a little easier on the eye. Additionally, I feel like the "daily stat changes" could use a little bit of an overhaul. That data wouldn't be useful to me unless I could see trends over time, not just over the past 24 hours. Maybe a graph to show trends? I guess that would be harder to implement but I think it's worth consideration. Visual design thoughts and inconsistencies: A trend I noticed throughout was inconsistencies in icons used, or the same icon used for different purposes. I would suggest making sure each button has its own purpose and its own unique icon and purposeful location. The latter is particularly important, as there are a few + buttons that I am not sure what functionality they would be tied to or if that functionality is even necessary in the design. This also ties into the User Control and Freedom violations, which included a lot of actions that users were forced to take. I would advise making sure there are "emergency exits" built into every action and that a user can bail at any point in the task flow. Lastly, I would take a close look at the aesthetics of the app, and especially how those aesthetics impact the accessibility of the design. I would suggest really prioritizing accessibility and thinking about the Curb-Cut effect. I suspect the changes to the accessibility violations will in turn be beneficial for the aesthetics violations as well. One other piece of advice I have that doesn't really fit into any of the heuristics is that I think you guys should consider changing the colors you're using in your app. Right now it's pretty much just three shades of orange that make up the entire app. And this maybe is just my opinion but I'm just not really a fan of like the "burnt" orange shade that you guys have made your primary color, and I think it's worth considering adding some other colors to accent certain parts of your app. (maybe buttons?) There are color templates in lecture slides from a week or two where James talked about using like three or four different colors in your app, and I honestly think you guys should definitely consider doing that as well, or at the very least cut down on just the amount of orange.
