Workbook

Sheet Group Heuristic Evaluation
A1: Prototype Description: | B1: An app to help grieving individuals memorialize their lost loved ones and find community
A4: Simple Task | B4: Upload a memory to your garden
A5: Moderate Task | B5: Interact with friend's gardens
A6: Complex Task | B6: Join a Superbloom
E9: *attach images here if helpful
A10: Problem # | B10: Heuristic | C10: Task | D10: Severity | E10: Description | F10: Rationale | G10: Fix | H10: Found by
A11: =ROW() - 10 -> 1 | B11: H6: Recognition not Recall | C11: 1. Simple Task | D11: 1 | E11: It's unclear if the arrow resets prompts or shuffles through prompts. If it generates different prompts, there could be a case where the user wants to go back to an old one. | F11: Users might not understand the function of the button leading them to not clicking it or them losing a previous prompt that they like. | G11: Add a text label or a different button that says "generate more prompts" or something along those lines. | H11: C
A12: =ROW() - 10 -> 2 | B12: H4: Consistency & Standards | C12: 1. Simple Task | D12: 1 | E12: The back button on the third screen of the plant a memory page isn't consistent with the first two screens (the first two have the back button on the bottom corner, while the third screen has it on the top corner, likely cause it's a scrollable page). | F12: Users expect a consistent location for the back button across similar pages. Inconsistent placement disrupts navigation flow and can lead to confusion as users search for familiar controls. | G12: Align the back button placement across all screens to maintain a consistent layout. | H12: C
A13: =ROW() - 10 -> 3 | B13: H2: Match b/w System & World | C13: 1. Simple Task | D13: 1 | E13: The grayed out flowers look like their locked rather than it being an uncolored silhouette. | F13: Grayed-out flowers resemble a locked or disabled state (much like most designs in the real world), which might mislead users into thinking they are inaccessible. | G13: Add a default color to all flowers to signify they can be clicked on. | H13: C
A14: =ROW() - 10 -> 4 | B14: H2: Match b/w System & World | C14: 1. Simple Task | D14: 1 | E14: No memories planted yet might indicate that you can click on the grass area rather than the flower button to make a new post. | F14: Usually when there's text that indicates there are no posts or entries, it will also prompt the user to start a new post. The user might get confused and think that you can plant a memory by clicking the grass area since that's where the text is. | G14: Add more explicit text on the grass to indicate that users should press the flower button to start a new post. | H14: C
A15: =ROW() - 10 -> 5 | B15: H4: Consistency & Standards | C15: 1. Simple Task | D15: 1 | E15: The back and next buttons are different sizes than the confirm and plant buttons | F15: When the "back" and "next" buttons are noticeably different sizes compared to the "confirm" and "plant" buttons, it can create a visual inconsistency that disrupts the user experience. | G15: Standardize the button sizes across the interface to ensure that the "back," "next," "confirm," and "plant" buttons have the same sizes. | H15: C, D, B
A16: =ROW() - 10 -> 6 | B16: H11: Accessible Design | C16: 1. Simple Task | D16: 1 | E16: Small font on public/privacy signs | F16: The small font makes it difficult for vision-impaired users, and status is also not very apparent at first glance (especially if a user hasn't already switched between modes), making the app less accessible. | G16: Enlarge font on private/public sign | H16: D, A, B
A17: =ROW() - 10 -> 7 | B17: H7: Flexibility & Efficiency of Use | C17: 1. Simple Task | D17: 1 | E17: No ability to customize Mary's tombstone | F17: Again, in order to increase the flexibility of the system, the app could offer the ability to edit Mary's profile / tombstone. I understand that the rest of the user/garden creation was not implemented yet, but users cannot edit tombstones once they're created, which might be something to consider just in case they want to update the photo or the name | G17: Add a customization option (ability to change picture or edit name) | H17: D
A18: =ROW() - 10 -> 8 | B18: H11: Accessible Design | C18: 1. Simple Task | D18: 1 | E18: No memories planted yet' text with low contrast | F18: With the low contrast, the text can be difficult to see for those with low vision / vision impairments, making the app less accessible. | G18: Create higher contrast or slightly bigger text | H18: D
A19: =ROW() - 10 -> 9 | B19: H6: Recognition not Recall | C19: 1. Simple Task | D19: 1 | E19: Monument click feature doesn't feel particularly intuitive/compatible with the app's toggle, click-through design style | F19: Clicking monuments to switch between gardens might take users a few minutes to figure out with no documentation/explanation | G19: Switch between gardens with arrows or a visually engaging menu (preferred), or add monument click feature to brief onboarding tutorial | H19: A
A20: =ROW() - 10 -> 10 | B20: H8: Aesthetic & Minimalist Design | C20: 2. Moderate Task | D20: 1 | E20: The contrast with the purple back button and blue background makes it a little hard to see. | F20: The purple back button on a blue background lacks sufficient contrast, making it difficult for users to see and interact with. | G20: Adjust the color of the back button to create a stronger contrast against the background. | H20: C, B
A21: =ROW() - 10 -> 11 | B21: H4: Consistency & Standards | C21: 2. Moderate Task | D21: 1 | E21: The door is clickable/a sign to users that it can be entered in the first screen (in your own garden), but it is also featured in other people's garden. | F21: Inconsistent behavior of elements across different contexts can confuse users. The clickable door in the first screen (your own garden) signals interactivity, but when the same door appears in other people’s gardens, it may not behave the same way. | G21: Perhaps remove the door of other people's private gardens (since you can't access them anyway). | H21: C
A22: =ROW() - 10 -> 12 | B22: H2: Match b/w System & World | C22: 3. Complex Task | D22: 1 | E22: The area of the circle to select the image is slightly small. Clicking on the image itself doesn't check the box. | F22: A small selection area can lead to missed interactions, especially if users attempt to click on the image itself and find it unresponsive. | G22: Make it so when you click on any part of the post, it selects it. | H22: B
... A85: =ROW() - 10 -> 75 | B85: H12: Value Alignment & Inclusion | C85: 5. Extra Violations | D85: 4 | E85: No guard against possible triggers | F85: It is difficult to account for, but nevertheless, the app does not account for those who might be suffering with depression or other mental illness as a result of loss, which seems to be at conflict with the app's values and a portion of its target audience, causing the app to seem unempathetic and inconsistent with its values. | G85: Add a disclaimer or warning during onboarding that the app will ask them to reflect— get confirmation that they're ready to do so. Also potential implementation of a help button for counseling / advice on grief management | H85: D

Sheet Summary of Evaluations
A1: Heuristic | B1: # Viol. (sev 0) | C1: # Viol. (sev 1) | D1: # Viol. (sev 2) | E1: # Viol. (sev 3) | F1: # Viol. (sev 4) | G1: # Viol. (total)
A2: H1: Visibility of System Status | B2: =COUNTIFS('Group Heuristic Evaluation'!B:B, "H1: Visibility of System Status", 'Group Heuristic Evaluation'!D:D, 0) -> 0 | C2: =COUNTIFS('Group Heuristic Evaluation'!B:B, "H1: Visibility of System Status", 'Group Heuristic Evaluation'!D:D, 1) -> 0 | D2: =COUNTIFS('Group Heuristic Evaluation'!B:B, "H1: Visibility of System Status", 'Group Heuristic Evaluation'!D:D, 2) -> 2 | E2: =COUNTIFS('Group Heuristic Evaluation'!B:B, "H1: Visibility of System Status", 'Group Heuristic Evaluation'!D:D, 3) -> 3 | F2: =COUNTIFS('Group Heuristic Evaluation'!B:B, "H1: Visibility of System Status", 'Group Heuristic Evaluation'!D:D, 4) -> 2 | G2: =SUM(B2:F2) -> 7
A3: H2: Match b/w System & World | B3: =COUNTIFS('Group Heuristic Evaluation'!B:B, "H2: Match b/w System & World", 'Group Heuristic Evaluation'!D:D, 0) -> 0 | C3: =COUNTIFS('Group Heuristic Evaluation'!B:B, "H2: Match b/w System & World", 'Group Heuristic Evaluation'!D:D, 1) -> 4 | D3: =COUNTIFS('Group Heuristic Evaluation'!B:B, "H2: Match b/w System & World", 'Group Heuristic Evaluation'!D:D, 2) -> 3 | E3: =COUNTIFS('Group Heuristic Evaluation'!B:B, "H2: Match b/w System & World", 'Group Heuristic Evaluation'!D:D, 3) -> 0 | F3: =COUNTIFS('Group Heuristic Evaluation'!B:B, "H2: Match b/w System & World", 'Group Heuristic Evaluation'!D:D, 4) -> 0 | G3: =SUM(B3:F3) -> 7
A4: H3: User Control & Freedom | B4: =COUNTIFS('Group Heuristic Evaluation'!B:B, "H3: User Control & Freedom", 'Group Heuristic Evaluation'!D:D, 0) -> 0 | C4: =COUNTIFS('Group Heuristic Evaluation'!B:B, "H3: User Control & Freedom", 'Group Heuristic Evaluation'!D:D, 1) -> 1 | D4: =COUNTIFS('Group Heuristic Evaluation'!B:B, "H3: User Control & Freedom", 'Group Heuristic Evaluation'!D:D, 2) -> 3 | E4: =COUNTIFS('Group Heuristic Evaluation'!B:B, "H3: User Control & Freedom", 'Group Heuristic Evaluation'!D:D, 3) -> 0 | F4: =COUNTIFS('Group Heuristic Evaluation'!B:B, "H3: User Control & Freedom", 'Group Heuristic Evaluation'!D:D, 4) -> 1 | G4: =SUM(B4:F4) -> 5
A5: H4: Consistency & Standards | B5: =COUNTIFS('Group Heuristic Evaluation'!B:B, "H4: Consistency & Standards", 'Group Heuristic Evaluation'!D:D, 0) -> 0 | C5: =COUNTIFS('Group Heuristic Evaluation'!B:B, "H4: Consistency & Standards", 'Group Heuristic Evaluation'!D:D, 1) -> 7 | D5: =COUNTIFS('Group Heuristic Evaluation'!B:B, "H4: Consistency & Standards", 'Group Heuristic Evaluation'!D:D, 2) -> 4 | E5: =COUNTIFS('Group Heuristic Evaluation'!B:B, "H4: Consistency & Standards", 'Group Heuristic Evaluation'!D:D, 3) -> 3 | F5: =COUNTIFS('Group Heuristic Evaluation'!B:B, "H4: Consistency & Standards", 'Group Heuristic Evaluation'!D:D, 4) -> 0 | G5: =SUM(B5:F5) -> 14
A6: H5: Error Prevention | B6: =COUNTIFS('Group Heuristic Evaluation'!B:B, "H5: Error Prevention", 'Group Heuristic Evaluation'!D:D, 0) -> 0 | C6: =COUNTIFS('Group Heuristic Evaluation'!B:B, "H5: Error Prevention", 'Group Heuristic Evaluation'!D:D, 1) -> 2 | D6: =COUNTIFS('Group Heuristic Evaluation'!B:B, "H5: Error Prevention", 'Group Heuristic Evaluation'!D:D, 2) -> 1 | E6: =COUNTIFS('Group Heuristic Evaluation'!B:B, "H5: Error Prevention", 'Group Heuristic Evaluation'!D:D, 3) -> 3 | F6: =COUNTIFS('Group Heuristic Evaluation'!B:B, "H5: Error Prevention", 'Group Heuristic Evaluation'!D:D, 4) -> 0 | G6: =SUM(C6:F6) -> 6
A7: H6: Recognition not Recall | B7: =COUNTIFS('Group Heuristic Evaluation'!B:B, "H6: Recognition not Recall", 'Group Heuristic Evaluation'!D:D, 0) -> 0 | C7: =COUNTIFS('Group Heuristic Evaluation'!B:B, "H6: Recognition not Recall", 'Group Heuristic Evaluation'!D:D, 1) -> 4 | D7: =COUNTIFS('Group Heuristic Evaluation'!B:B, "H6: Recognition not Recall", 'Group Heuristic Evaluation'!D:D, 2) -> 1 | E7: =COUNTIFS('Group Heuristic Evaluation'!B:B, "H6: Recognition not Recall", 'Group Heuristic Evaluation'!D:D, 3) -> 1 | F7: =COUNTIFS('Group Heuristic Evaluation'!B:B, "H6: Recognition not Recall", 'Group Heuristic Evaluation'!D:D, 4) -> 1 | G7: =SUM(B7:F7) -> 7
A8: H7: Flexibility & Efficiency of Use | B8: =COUNTIFS('Group Heuristic Evaluation'!B:B, "H7: Flexibility & Efficiency of Use", 'Group Heuristic Evaluation'!D:D, 0) -> 0 | C8: =COUNTIFS('Group Heuristic Evaluation'!B:B, "H7: Flexibility & Efficiency of Use", 'Group Heuristic Evaluation'!D:D, 1) -> 1 | D8: =COUNTIFS('Group Heuristic Evaluation'!B:B, "H7: Flexibility & Efficiency of Use", 'Group Heuristic Evaluation'!D:D, 2) -> 9 | E8: =COUNTIFS('Group Heuristic Evaluation'!B:B, "H7: Flexibility & Efficiency of Use", 'Group Heuristic Evaluation'!D:D, 3) -> 1 | F8: =COUNTIFS('Group Heuristic Evaluation'!B:B, "H7: Flexibility & Efficiency of Use", 'Group Heuristic Evaluation'!D:D, 4) -> 1 | G8: =SUM(B8:F8) -> 12
A9: H8: Aesthetic & Minimalist Design | B9: =COUNTIFS('Group Heuristic Evaluation'!B:B, "H8: Aesthetic & Minimalist Design", 'Group Heuristic Evaluation'!D:D, 0) -> 0 | C9: =COUNTIFS('Group Heuristic Evaluation'!B:B, "H8: Aesthetic & Minimalist Design", 'Group Heuristic Evaluation'!D:D, 1) -> 1 | D9: =COUNTIFS('Group Heuristic Evaluation'!B:B, "H8: Aesthetic & Minimalist Design", 'Group Heuristic Evaluation'!D:D, 2) -> 1 | E9: =COUNTIFS('Group Heuristic Evaluation'!B:B, "H8: Aesthetic & Minimalist Design", 'Group Heuristic Evaluation'!D:D, 3) -> 1 | F9: =COUNTIFS('Group Heuristic Evaluation'!B:B, "H8: Aesthetic & Minimalist Design", 'Group Heuristic Evaluation'!D:D, 4) -> 0 | G9: =SUM(B9:F9) -> 3
A10: H9: Help Users with Errors | B10: =COUNTIFS('Group Heuristic Evaluation'!B:B, "H9: Help Users with Errors", 'Group Heuristic Evaluation'!D:D, 0) -> 0 | C10: =COUNTIFS('Group Heuristic Evaluation'!B:B, "H9: Help Users with Errors", 'Group Heuristic Evaluation'!D:D, 1) -> 0 | D10: =COUNTIFS('Group Heuristic Evaluation'!B:B, "H9: Help Users with Errors", 'Group Heuristic Evaluation'!D:D, 2) -> 1 | E10: =COUNTIFS('Group Heuristic Evaluation'!B:B, "H9: Help Users with Errors", 'Group Heuristic Evaluation'!D:D, 3) -> 0 | F10: =COUNTIFS('Group Heuristic Evaluation'!B:B, "H9: Help Users with Errors", 'Group Heuristic Evaluation'!D:D, 4) -> 0 | G10: =SUM(B10:F10) -> 1
A11: H10: Help & Documentation | B11: =COUNTIFS('Group Heuristic Evaluation'!B:B, "H10: Help & Documentation", 'Group Heuristic Evaluation'!D:D, 0) -> 0 | C11: =COUNTIFS('Group Heuristic Evaluation'!B:B, "H10: Help & Documentation", 'Group Heuristic Evaluation'!D:D, 1) -> 1 | D11: =COUNTIFS('Group Heuristic Evaluation'!B:B, "H10: Help & Documentation", 'Group Heuristic Evaluation'!D:D, 2) -> 1 | E11: =COUNTIFS('Group Heuristic Evaluation'!B:B, "H10: Help & Documentation", 'Group Heuristic Evaluation'!D:D, 3) -> 0 | F11: =COUNTIFS('Group Heuristic Evaluation'!B:B, "H10: Help & Documentation", 'Group Heuristic Evaluation'!D:D, 4) -> 0 | G11: =SUM(B11:F11) -> 2
A12: H11: Accessible Design | B12: =COUNTIFS('Group Heuristic Evaluation'!B:B, "H11: Accessible Design", 'Group Heuristic Evaluation'!D:D, 0) -> 0 | C12: =COUNTIFS('Group Heuristic Evaluation'!B:B, "H11: Accessible Design", 'Group Heuristic Evaluation'!D:D, 1) -> 2 | D12: =COUNTIFS('Group Heuristic Evaluation'!B:B, "H11: Accessible Design", 'Group Heuristic Evaluation'!D:D, 2) -> 5 | E12: =COUNTIFS('Group Heuristic Evaluation'!B:B, "H11: Accessible Design", 'Group Heuristic Evaluation'!D:D, 3) -> 1 | F12: =COUNTIFS('Group Heuristic Evaluation'!B:B, "H11: Accessible Design", 'Group Heuristic Evaluation'!D:D, 4) -> 0 | G12: =SUM(B12:F12) -> 8
A13: H12. ​​Value Alignment & Inclusion | B13: =COUNTIFS('Group Heuristic Evaluation'!B:B, "H12: Value Alignment & Inclusion", 'Group Heuristic Evaluation'!D:D, 0) -> 0 | C13: =COUNTIFS('Group Heuristic Evaluation'!B:B, "H12: Value Alignment & Inclusion", 'Group Heuristic Evaluation'!D:D, 1) -> 0 | D13: =COUNTIFS('Group Heuristic Evaluation'!B:B, "H12: Value Alignment & Inclusion", 'Group Heuristic Evaluation'!D:D, 2) -> 1 | E13: =COUNTIFS('Group Heuristic Evaluation'!B:B, "H12: Value Alignment & Inclusion", 'Group Heuristic Evaluation'!D:D, 3) -> 0 | F13: =COUNTIFS('Group Heuristic Evaluation'!B:B, "H12: Value Alignment & Inclusion", 'Group Heuristic Evaluation'!D:D, 4) -> 2 | G13: =SUM(B13:F13) -> 3
A14: Total Violations | B14: =SUM(B2:B13) -> 0 | C14: =SUM(C1:C13) -> 23 | D14: =SUM(D1:D13) -> 32 | E14: =SUM(E2:E13) -> 13 | F14: =SUM(F2:F13) -> 7 | G14: =SUM(G2:G13) -> 75

Sheet Evaluation Statistics
A1: * for this to calculate properly, delete any unused rows from your 'Group Heuristic Evaluation' chart!
A2: Severity | B2: A | C2: B | D2: C | E2: D
A3: 0 | B3: =COUNTIFS('Group Heuristic Evaluation'!H:H, "*A*",'Group Heuristic Evaluation'!D:D, 0)/COUNTA('Group Heuristic Evaluation'!B:B) -> 0 | C3: =COUNTIFS('Group Heuristic Evaluation'!H:H, "*B*",'Group Heuristic Evaluation'!D:D, 0)/COUNTA('Group Heuristic Evaluation'!B:B) -> 0 | D3: =COUNTIFS('Group Heuristic Evaluation'!H:H, "*C*",'Group Heuristic Evaluation'!D:D, 0)/COUNTA('Group Heuristic Evaluation'!B:B) -> 0 | E3: =COUNTIFS('Group Heuristic Evaluation'!H:H, "*D*",'Group Heuristic Evaluation'!D:D, 0)/COUNTA('Group Heuristic Evaluation'!B:B) -> 0
A4: 1 | B4: =COUNTIFS('Group Heuristic Evaluation'!H:H, "*A*",'Group Heuristic Evaluation'!D:D, 1)/COUNTA('Group Heuristic Evaluation'!B:B) -> 0.05 | C4: =COUNTIFS('Group Heuristic Evaluation'!H:H, "*B*",'Group Heuristic Evaluation'!D:D, 1)/COUNTA('Group Heuristic Evaluation'!B:B) -> 0.0875 | D4: =COUNTIFS('Group Heuristic Evaluation'!H:H, "*C*",'Group Heuristic Evaluation'!D:D, 1)/COUNTA('Group Heuristic Evaluation'!B:B) -> 0.15 | E4: =COUNTIFS('Group Heuristic Evaluation'!H:H, "*D*",'Group Heuristic Evaluation'!D:D, 1)/COUNTA('Group Heuristic Evaluation'!B:B) -> 0.1
A5: 2 | B5: =COUNTIFS('Group Heuristic Evaluation'!H:H, "*A*",'Group Heuristic Evaluation'!D:D, 2)/COUNTA('Group Heuristic Evaluation'!B:B) -> 0.1 | C5: =COUNTIFS('Group Heuristic Evaluation'!H:H, "*B*",'Group Heuristic Evaluation'!D:D, 2)/COUNTA('Group Heuristic Evaluation'!B:B) -> 0.1 | D5: =COUNTIFS('Group Heuristic Evaluation'!H:H, "*C*",'Group Heuristic Evaluation'!D:D, 2)/COUNTA('Group Heuristic Evaluation'!B:B) -> 0.175 | E5: =COUNTIFS('Group Heuristic Evaluation'!H:H, "*D*",'Group Heuristic Evaluation'!D:D, 2)/COUNTA('Group Heuristic Evaluation'!B:B) -> 0.175
A6: 3 | B6: =COUNTIFS('Group Heuristic Evaluation'!H:H, "*A*",'Group Heuristic Evaluation'!D:D, 3)/COUNTA('Group Heuristic Evaluation'!B:B) -> 0.025 | C6: =COUNTIFS('Group Heuristic Evaluation'!H:H, "*B*",'Group Heuristic Evaluation'!D:D, 3)/COUNTA('Group Heuristic Evaluation'!B:B) -> 0.0125 | D6: =COUNTIFS('Group Heuristic Evaluation'!H:H, "*C*",'Group Heuristic Evaluation'!D:D, 3)/COUNTA('Group Heuristic Evaluation'!B:B) -> 0.0625 | E6: =COUNTIFS('Group Heuristic Evaluation'!H:H, "*D*",'Group Heuristic Evaluation'!D:D, 3)/COUNTA('Group Heuristic Evaluation'!B:B) -> 0.0875
A7: 4 | B7: =COUNTIFS('Group Heuristic Evaluation'!H:H, "*A*",'Group Heuristic Evaluation'!D:D, 4)/COUNTA('Group Heuristic Evaluation'!B:B) -> 0.0375 | C7: =COUNTIFS('Group Heuristic Evaluation'!H:H, "*B*",'Group Heuristic Evaluation'!D:D, 4)/COUNTA('Group Heuristic Evaluation'!B:B) -> 0 | D7: =COUNTIFS('Group Heuristic Evaluation'!H:H, "*C*",'Group Heuristic Evaluation'!D:D, 4)/COUNTA('Group Heuristic Evaluation'!B:B) -> 0 | E7: =COUNTIFS('Group Heuristic Evaluation'!H:H, "*D*",'Group Heuristic Evaluation'!D:D, 4)/COUNTA('Group Heuristic Evaluation'!B:B) -> 0.0625
A8: Total (sevs. 3 & 4) | B8: =SUM(B6:B7) -> 0.0625 | C8: =SUM(C6:C7) -> 0.0125 | D8: =SUM(D6:D7) -> 0.0625 | E8: =SUM(E6:E7) -> 0.15
A9: Total (all sevs) | B9: =SUM(B3:B7) -> 0.2125 | C9: =SUM(C3:C7) -> 0.2 | D9: =SUM(D3:D7) -> 0.3875 | E9: =SUM(E3:E7) -> 0.425

Sheet Summary Recommendations
A1: Summary Recommendations [merge the general recommendations you made here]
A2: Because your design is so original, users aren't likely to be familiar with the baseline concepts (especially what a memory should look like, and what a superbloom is). As a result, maybe consider incorporating an extremely simple, what's-what tour of the app's functionality when the user first opens it. Additionally, our group found some issues with icon choice and found buttons hard to navigate using just the visuals provided--maybe consider addressing this either with an onboarding tutorial or by making visuals more distinct from one another. Specific examples of this are listed in our individual heuristic evals. We ran into a few issues with navigation. Primarily, we noticed a lack of search functions, especially for searching within memories in a garden and searching for memories to upload from your gardens to a superbloom. Additionally, there are three buttons you use in the app to navigate back or to a new place: the back button, the X button, and the > and < buttons on the home page. It could help to standardize these, since they're used in different situations. Additionally, when a pop-up page would come up, the buttons in the background were still functional--consider making it so that these buttons can't be pressed until the pop-up is closed. Finally, it might be worthwhile to consider in greater detail how the app would appear to a more sensitive audience, such as those suffering deeply or those who are struggling with depression as a result of loss.
