Workbook
Name Data: Results!$A$1:$M$6605

Sheet Results
A1: Model | B1: Scenario | C1: Region | D1: Variable | E1: Units | F1: y2015 | G1: y2020 | H1: y2025 | I1: y2030 | J1: y2035 | K1: y2040 | L1: y2045 | M1: y2050
A2: ARTIMAS | B2: Reference | C2: USA | D2: Crude Oil Total Exports | E2: Million barrels per day | F2: 1.3119307 | G2: 1.0729193 | H2: 0.9228169 | I2: 0.94987996 | J2: 0.92147868 | K2: 0.9546657 | L2: 0.9552942 | M2: 0.99690335
A3: ARTIMAS | B3: Reference | C3: USA | D3: Electric Production by Oil | E3: Terawatt hours | F3: 21.405722 | G3: 22.354451 | H3: 19.51867 | I3: 17.558451 | J3: 14.751333 | K3: 12.147886 | L3: 9.0518062 | M3: 6.2263149
A4: ARTIMAS | B4: Reference | C4: USA | D4: Electric Production by Coal | E4: Terawatt hours | F4: 1339.6907 | G4: 1338.6128 | H4: 1292.0519 | I4: 1264.7592 | J4: 1281.8504 | K4: 1291.7996 | L4: 1310.5779 | M4: 1317.7343
A5: ARTIMAS | B5: Reference | C5: USA | D5: Crude Oil Total Imports | E5: Million barrels per day | F5: 20.037646 | G5: 15.681674 | H5: 14.754168 | I5: 13.372348 | J5: 12.621382 | K5: 11.658512 | L5: 11.072263 | M5: 10.641652
A6: ARTIMAS | B6: Reference | C6: USA | D6: Electric Production by Wind | E6: Terawatt hours | F6: 172.96649 | G6: 283.54096 | H6: 368.9824 | I6: 400.78035 | J6: 438.93753 | K6: 477.34987 | L6: 526.17482 | M6: 587.00082
A7: ARTIMAS | B7: Reference | C7: USA | D7: Natural Gas Total Imports | E7: Billion cubic feet per day | F7: 4.1856303 | G7: 5.4648025 | H7: 6.1755498 | I7: 6.1376083 | J7: 7.3674703 | K7: 7.6123074 | L7: 9.7016224 | M7: 10.083725
A8: ARTIMAS | B8: Reference | C8: USA | D8: Oil Product Total Imports | E8: Million barrels per day | F8: 1.3251081 | G8: 1.3570453 | H8: 1.4323287 | I8: 1.7263554 | J8: 2.1899446 | K8: 2.8569861 | L8: 3.8355522 | M8: 4.3262089
A9: ARTIMAS | B9: Reference | C9: USA | D9: Natural Gas Consumption | E9: Billion cubic feet per day | F9: 101.51489 | G9: 128.69092 | H9: 124.51153 | I9: 125.6424 | J9: 124.36975 | K9: 128.2583 | L9: 126.09148 | M9: 122.02071
A10: ARTIMAS | B10: Reference | C10: USA | D10: Electric Production by Hydroelectric | E10: Terawatt hours | F10: 351.4935 | G10: 418.25863 | H10: 420.5696 | I10: 439.06633 | J10: 459.88596 | K10: 479.68319 | L10: 503.0269 | M10: 518.89404
A11: ARTIMAS | B11: Reference | C11: USA | D11: Electricity Total Exports | E11: Terawatt hours | F11: 7.4436218 | G11: 8.0129508 | H11: 8.1856015 | I11: 9.3196784 | J11: 10.855223 | K11: 10.734338 | L11: 12.478615 | M11: 14.144695
A12: ARTIMAS | B12: Reference | C12: USA | D12: Electric Production by Solar | E12: Terawatt hours | F12: 8.6956439 | G12: 24.938057 | H12: 51.687193 | I12: 75.972539 | J12: 97.348113 | K12: 130.90771 | L12: 167.87293 | M12: 205.15687
A13: ARTIMAS | B13: Reference | C13: USA | D13: Electric Production by Nuclear | E13: Terawatt hours | F13: 754.84965 | G13: 777.30911 | H13: 667.32844 | I13: 611.69444 | J13: 617.45758 | K13: 620.59905 | L13: 637.1521 | M13: 648.97233
... A548: DIEM | B548: Crude_Infrastructure | C548: Mexico | D548: Electricity Exports to USA | E548: Terawatt hours | F548: 6.64 | G548: 6.94 | H548: 6.72 | I548: 6.72 | J548: 6.72 | K548: 6.44 | L548: 6.44 | M548: 6.44
A549: =[1]Notes!$B$1 -> EC-MSMR | B549: Reference | C549: International | D549: Brent Oil Price | E549: Constant 2015 US$/barrel | F549: 52.0999 | G549: 48.672276 | H549: 53.813716 | I549: 58.406737 | J549: 61.011734 | K549: 63.822387 | L549: 64.43936 | M549: 64.43936
A550: =[1]Notes!$B$1 -> EC-MSMR | B550: Reference | C550: International | D550: Henry Hub Price | E550: Constant 2015 US$/1000cf | F550: 2.525644 | G550: 2.7943786 | H550: 2.9916068 | I550: 2.9401251 | J550: 2.838324 | K550: 2.8009049 | L550: 2.7659412 | M550: 2.7212517
A551: =[1]Notes!$B$1 -> EC-MSMR | B551: Reference | C551: International | D551: Can-US Exchange Rate | E551: CN$/US$ | F551: 0.782992 | G551: 0.782992 | H551: 0.782992 | I551: 0.782992 | J551: 0.782992 | K551: 0.782992 | L551: 0.782992 | M551: 0.782992
A552: =[1]Notes!$B$1 -> EC-MSMR | B552: Reference | C552: International | D552: Mex-US Exchange Rate | E552: MX pesos/US$ | F552: 0.085766 | G552: 0.085766 | H552: 0.085766 | I552: 0.085766 | J552: 0.085766 | K552: 0.085766 | L552: 0.085766 | M552: 0.085766
A553: =[1]Notes!$B$1 -> EC-MSMR | B553: Reference | C553: Canada | D553: Real GDP | E553: Constant 2015 CN$ (Billions) | F553: 2245.7444 | G553: 2501.3645 | H553: 2722.9367 | I553: 2942.4294 | J553: 3214.9323 | K553: 3496.2257 | L553: 3787.6616 | M553: 4093.4947
A554: =[1]Notes!$B$1 -> EC-MSMR | B554: Reference | C554: Canada | D554: Oil Product Consumption | E554: Million barrels per day | F554: 2.0048 | G554: 1.9571416 | H554: 1.9306417 | I554: 1.9030738 | J554: 1.9250395 | K554: 1.97861 | L554: 2.0512531 | M554: 2.1424643
A555: =[1]Notes!$B$1 -> EC-MSMR | B555: Reference | C555: Canada | D555: Natural Gas Consumption | E555: Billion cubic feet per day | F555: 9.6841 | G555: 10.739777 | H555: 11.706666 | I555: 12.610411 | J555: 13.296681 | K555: 13.895849 | L555: 14.406685 | M555: 15.008735
A556: =[1]Notes!$B$1 -> EC-MSMR | B556: Reference | C556: Canada | D556: Coal Consumption | E556: Million short tons | F556: 38.5176 | G556: 29.928396 | H556: 21.915141 | I556: 5.3281709 | J556: 5.6895887 | K556: 5.9231495 | L556: 6.2713448 | M556: 6.6644782
A557: =[1]Notes!$B$1 -> EC-MSMR | B557: Reference | C557: Canada | D557: Electricity Consumption | E557: Terawatt hours | F557: 566.1755 | G557: 567.28105 | H557: 582.99814 | I557: 621.9787 | J557: 639.90086 | K557: 656.11782 | L557: 677.43858 | M557: 688.78245
A558: =[1]Notes!$B$1 -> EC-MSMR | B558: Reference | C558: Canada | D558: Electricity Production | E558: Terawatt hours | F558: 620.9079 | G558: 619.83173 | H558: 637.2776 | I558: 677.75852 | J558: 697.08601 | K558: 714.76397 | L558: 738.46287 | M558: 752.01478
A559: =[1]Notes!$B$1 -> EC-MSMR | B559: Reference | C559: Canada | D559: Electric Production by Oil | E559: Terawatt hours | F559: 7.2941 | G559: 2.3598768 | H559: 2.6963776 | I559: 1.5938301 | J559: 1.717379 | K559: 1.792274 | L559: 1.7471655 | M559: 1.7550711
A560: =[1]Notes!$B$1 -> EC-MSMR | B560: Reference | C560: Canada | D560: Electric Production by Natural Gas | E560: Terawatt hours | F560: 39.4418 | G560: 61.574479 | H560: 89.411423 | I560: 129.91947 | J560: 133.38852 | K560: 141.81193 | L560: 164.97046 | M560: 183.00916
... A1686: =[1]Notes!$B$1 -> EC-MSMR | B1686: Carbon_xUSA | C1686: USA | D1686: Electricity Net Exports | E1686: Terawatt hours | F1686: -54.574 | G1686: -46.029252 | H1686: -20.787682 | I1686: -12.281868 | J1686: -1.7013361 | K1686: 10.119751 | L1686: 21.173804 | M1686: 28.919732
A1687: ENERGY2020 | B1687: Reference | C1687: International | D1687: Brent Oil Price | E1687: Constant 2015 US$/barrel | F1687: ='[2]Data (1)'!AB$9 -> 51.2523 | G1687: ='[2]Data (1)'!AG$9 -> 71.0714 | H1687: ='[2]Data (1)'!AL$9 -> 79.4195 | I1687: ='[2]Data (1)'!AQ$9 -> 89.0322 | J1687: ='[2]Data (1)'!AV$9 -> 97.0359 | K1687: ='[2]Data (1)'!BA$9 -> 102.1184 | L1687: ='[2]Data (1)'!BF$9 -> 105.5265 | M1687: ='[2]Data (1)'!BK$9 -> 106.5418
A1688: ENERGY2020 | B1688: Reference | C1688: International | D1688: Henry Hub Price | E1688: Constant 2015 US$/1000cf | F1688: ='[2]Data (1)'!AB$12 -> 2.695 | G1688: ='[2]Data (1)'!AG$12 -> 3.0271 | H1688: ='[2]Data (1)'!AL$12 -> 3.4678 | I1688: ='[2]Data (1)'!AQ$12 -> 3.6926 | J1688: ='[2]Data (1)'!AV$12 -> 3.9478 | K1688: ='[2]Data (1)'!BA$12 -> 4.1314 | L1688: ='[2]Data (1)'!BF$12 -> 4.3669 | M1688: ='[2]Data (1)'!BK$12 -> 4.7762
A1689: ENERGY2020 | B1689: Reference | C1689: International | D1689: Can-US Exchange Rate | E1689: CN$/US$ | F1689: ='[2]Data (1)'!AB$15 -> 1.2788 | G1689: ='[2]Data (1)'!AG$15 -> 1.2453 | H1689: ='[2]Data (1)'!AL$15 -> 1.2315 | I1689: ='[2]Data (1)'!AQ$15 -> 1.2315 | J1689: ='[2]Data (1)'!AV$15 -> 1.2315 | K1689: ='[2]Data (1)'!BA$15 -> 1.2315 | L1689: ='[2]Data (1)'!BF$15 -> 1.2315 | M1689: ='[2]Data (1)'!BK$15 -> 1.2315
A1690: ENERGY2020 | B1690: Reference | C1690: International | D1690: Mex-US Exchange Rate | E1690: MX pesos/US$ | F1690: ='[2]Data (1)'!AB$18 -> 1 | G1690: ='[2]Data (1)'!AG$18 -> 1 | H1690: ='[2]Data (1)'!AL$18 -> 1 | I1690: ='[2]Data (1)'!AQ$18 -> 1 | J1690: ='[2]Data (1)'!AV$18 -> 1 | K1690: ='[2]Data (1)'!BA$18 -> 1 | L1690: ='[2]Data (1)'!BF$18 -> 1 | M1690: ='[2]Data (1)'!BK$18 -> 1
A1691: ENERGY2020 | B1691: Reference | C1691: Canada | D1691: Real GDP | E1691: Constant 2015 CN$ (Billions) | F1691: ='[2]Data (1)'!AB$21 -> 1827.09 | G1691: ='[2]Data (1)'!AG$21 -> 2005.917 | H1691: ='[2]Data (1)'!AL$21 -> 2181.105 | I1691: ='[2]Data (1)'!AQ$21 -> 2370.001 | J1691: ='[2]Data (1)'!AV$21 -> 2582.634 | K1691: ='[2]Data (1)'!BA$21 -> 2812.549 | L1691: ='[2]Data (1)'!BF$21 -> 3063.231 | M1691: ='[2]Data (1)'!BK$21 -> 3336.574
A1692: ENERGY2020 | B1692: Reference | C1692: Canada | D1692: Oil Product Consumption | E1692: Million barrels per day | F1692: ='[2]Data (1)'!AB$27 -> 2.0043 | G1692: ='[2]Data (1)'!AG$27 -> 2.0156 | H1692: ='[2]Data (1)'!AL$27 -> 2.0193 | I1692: ='[2]Data (1)'!AQ$27 -> 2.0183 | J1692: ='[2]Data (1)'!AV$27 -> 2.0639 | K1692: ='[2]Data (1)'!BA$27 -> 2.1321 | L1692: ='[2]Data (1)'!BF$27 -> 2.2394 | M1692: ='[2]Data (1)'!BK$27 -> 2.3601
A1693: ENERGY2020 | B1693: Reference | C1693: Canada | D1693: Natural Gas Consumption | E1693: Billion cubic feet per day | F1693: ='[2]Data (1)'!AB$30 -> 9.1295 | G1693: ='[2]Data (1)'!AG$30 -> 9.7349 | H1693: ='[2]Data (1)'!AL$30 -> 10.6241 | I1693: ='[2]Data (1)'!AQ$30 -> 11.6589 | J1693: ='[2]Data (1)'!AV$30 -> 12.5276 | K1693: ='[2]Data (1)'!BA$30 -> 13.2961 | L1693: ='[2]Data (1)'!BF$30 -> 14.0645 | M1693: ='[2]Data (1)'!BK$30 -> 14.653
A1694: ENERGY2020 | B1694: Reference | C1694: Canada | D1694: Coal Consumption | E1694: Million short tons | F1694: ='[2]Data (1)'!AB$33 -> 37.3417 | G1694: ='[2]Data (1)'!AG$33 -> 28.2047 | H1694: ='[2]Data (1)'!AL$33 -> 20.8038 | I1694: ='[2]Data (1)'!AQ$33 -> 3.7875 | J1694: ='[2]Data (1)'!AV$33 -> 4.0531 | K1694: ='[2]Data (1)'!BA$33 -> 4.3291 | L1694: ='[2]Data (1)'!BF$33 -> 4.622 | M1694: ='[2]Data (1)'!BK$33 -> 4.9421
A1695: ENERGY2020 | B1695: Reference | C1695: Canada | D1695: Electricity Consumption | E1695: Terawatt hours | F1695: ='[2]Data (1)'!AB$36 -> 551.9028 | G1695: ='[2]Data (1)'!AG$36 -> 554.5244 | H1695: ='[2]Data (1)'!AL$36 -> 573.1794 | I1695: ='[2]Data (1)'!AQ$36 -> 596.2873 | J1695: ='[2]Data (1)'!AV$36 -> 619.6157 | K1695: ='[2]Data (1)'!BA$36 -> 644.6233 | L1695: ='[2]Data (1)'!BF$36 -> 672.3449 | M1695: ='[2]Data (1)'!BK$36 -> 702.7914
A1696: ENERGY2020 | B1696: Reference | C1696: Canada | D1696: Electricity Production | E1696: Terawatt hours | F1696: ='[2]Data (1)'!AB$39 -> 662.7604 | G1696: ='[2]Data (1)'!AG$39 -> 682.3674 | H1696: ='[2]Data (1)'!AL$39 -> 681.0698 | I1696: ='[2]Data (1)'!AQ$39 -> 692.9644 | J1696: ='[2]Data (1)'!AV$39 -> 716.0977 | K1696: ='[2]Data (1)'!BA$39 -> 733.9145 | L1696: ='[2]Data (1)'!BF$39 -> 761.0802 | M1696: ='[2]Data (1)'!BK$39 -> 781.8217
A1697: ENERGY2020 | B1697: Reference | C1697: Canada | D1697: Electric Production by Oil | E1697: Terawatt hours | F1697: ='[2]Data (1)'!AB$42 -> 7.0183 | G1697: ='[2]Data (1)'!AG$42 -> 3.0686 | H1697: ='[2]Data (1)'!AL$42 -> 3.0028 | I1697: ='[2]Data (1)'!AQ$42 -> 1.7708 | J1697: ='[2]Data (1)'!AV$42 -> 1.8409 | K1697: ='[2]Data (1)'!BA$42 -> 1.9434 | L1697: ='[2]Data (1)'!BF$42 -> 2.2557 | M1697: ='[2]Data (1)'!BK$42 -> 2.3135
A1698: ENERGY2020 | B1698: Reference | C1698: Canada | D1698: Electric Production by Natural Gas | E1698: Terawatt hours | F1698: ='[2]Data (1)'!AB$45 -> 65.664 | G1698: ='[2]Data (1)'!AG$45 -> 79.1022 | H1698: ='[2]Data (1)'!AL$45 -> 96.7648 | I1698: ='[2]Data (1)'!AQ$45 -> 119.4366 | J1698: ='[2]Data (1)'!AV$45 -> 122.9489 | K1698: ='[2]Data (1)'!BA$45 -> 129.7827 | L1698: ='[2]Data (1)'!BF$45 -> 148.9165 | M1698: ='[2]Data (1)'!BK$45 -> 160.7064
A1699: ENERGY2020 | B1699: Reference | C1699: Canada | D1699: Electric Production by Coal | E1699: Terawatt hours | F1699: ='[2]Data (1)'!AB$48 -> 63.6805 | G1699: ='[2]Data (1)'!AG$48 -> 51.7295 | H1699: ='[2]Data (1)'!AL$48 -> 35.4645 | I1699: ='[2]Data (1)'!AQ$48 -> 0.9337 | J1699: ='[2]Data (1)'!AV$48 -> 0.9337 | K1699: ='[2]Data (1)'!BA$48 -> 0.9337 | L1699: ='[2]Data (1)'!BF$48 -> 0.9337 | M1699: ='[2]Data (1)'!BK$48 -> 0.9337
A1700: ENERGY2020 | B1700: Reference | C1700: Canada | D1700: Electric Production by Nuclear | E1700: Terawatt hours | F1700: ='[2]Data (1)'!AB$51 -> 96.0458 | G1700: ='[2]Data (1)'!AG$51 -> 88.4543 | H1700: ='[2]Data (1)'!AL$51 -> 62.3317 | I1700: ='[2]Data (1)'!AQ$51 -> 71.6326 | J1700: ='[2]Data (1)'!AV$51 -> 80.4627 | K1700: ='[2]Data (1)'!BA$51 -> 80.4627 | L1700: ='[2]Data (1)'!BF$51 -> 75.9178 | M1700: ='[2]Data (1)'!BK$51 -> 75.9178
A1701: ENERGY2020 | B1701: Reference | C1701: Canada | D1701: Electric Production by Hydroelectric | E1701: Terawatt hours | F1701: ='[2]Data (1)'!AB$54 -> 376.1895 | G1701: ='[2]Data (1)'!AG$54 -> 390.7165 | H1701: ='[2]Data (1)'!AL$54 -> 401.6905 | I1701: ='[2]Data (1)'!AQ$54 -> 405.1925 | J1701: ='[2]Data (1)'!AV$54 -> 407.4981 | K1701: ='[2]Data (1)'!BA$54 -> 409.1172 | L1701: ='[2]Data (1)'!BF$54 -> 410.7354 | M1701: ='[2]Data (1)'!BK$54 -> 411.1202
A1702: ENERGY2020 | B1702: Reference | C1702: Canada | D1702: Electric Production by Other Renewables | E1702: Terawatt hours | F1702: ='[2]Data (1)'!AB$57 -> 51.5746 | G1702: ='[2]Data (1)'!AG$57 -> 66.7085 | H1702: ='[2]Data (1)'!AL$57 -> 79.2276 | I1702: ='[2]Data (1)'!AQ$57 -> 91.4103 | J1702: ='[2]Data (1)'!AV$57 -> 99.8255 | K1702: ='[2]Data (1)'!BA$57 -> 109.087 | L1702: ='[2]Data (1)'!BF$57 -> 119.7332 | M1702: ='[2]Data (1)'!BK$57 -> 128.2422
A1703: ENERGY2020 | B1703: Reference | C1703: Canada | D1703: Crude Oil Production | E1703: Million barrels per day | F1703: ='[2]Data (1)'!AB$60 -> 3.8299 | G1703: ='[2]Data (1)'!AG$60 -> 4.8511 | H1703: ='[2]Data (1)'!AL$60 -> 5.3997 | I1703: ='[2]Data (1)'!AQ$60 -> 5.843 | J1703: ='[2]Data (1)'!AV$60 -> 6.3646 | K1703: ='[2]Data (1)'!BA$60 -> 6.7937 | L1703: ='[2]Data (1)'!BF$60 -> 7.1947 | M1703: ='[2]Data (1)'!BK$60 -> 7.5891
A1704: ENERGY2020 | B1704: Reference | C1704: Canada | D1704: Natural Gas Production | E1704: Billion cubic feet per day | F1704: ='[2]Data (1)'!AB$63 -> 14.9011 | G1704: ='[2]Data (1)'!AG$63 -> 15.9454 | H1704: ='[2]Data (1)'!AL$63 -> 16.8772 | I1704: ='[2]Data (1)'!AQ$63 -> 18.4361 | J1704: ='[2]Data (1)'!AV$63 -> 19.1017 | K1704: ='[2]Data (1)'!BA$63 -> 20.5002 | L1704: ='[2]Data (1)'!BF$63 -> 21.9527 | M1704: ='[2]Data (1)'!BK$63 -> 23.6025
A1705: ENERGY2020 | B1705: Reference | C1705: Canada | D1705: Coal Production | E1705: Million short tons | F1705: ='[2]Data (1)'!AB$66 -> 68.3417 | G1705: ='[2]Data (1)'!AG$66 -> 64.5203 | H1705: ='[2]Data (1)'!AL$66 -> 57.2881 | I1705: ='[2]Data (1)'!AQ$66 -> 41.7009 | J1705: ='[2]Data (1)'!AV$66 -> 41.7002 | K1705: ='[2]Data (1)'!BA$66 -> 41.7023 | L1705: ='[2]Data (1)'!BF$66 -> 41.7041 | M1705: ='[2]Data (1)'!BK$66 -> 41.7113
A1706: ENERGY2020 | B1706: Reference | C1706: Canada | D1706: Crude Oil Total Exports | E1706: Million barrels per day | F1706: ='[2]Data (1)'!AB$69 -> 3.1032 | G1706: ='[2]Data (1)'!AG$69 -> 4.374 | H1706: ='[2]Data (1)'!AL$69 -> 4.969 | I1706: ='[2]Data (1)'!AQ$69 -> 5.4658 | J1706: ='[2]Data (1)'!AV$69 -> 6.0572 | K1706: ='[2]Data (1)'!BA$69 -> 6.5486 | L1706: ='[2]Data (1)'!BF$69 -> 7.0175 | M1706: ='[2]Data (1)'!BK$69 -> 7.4826
A1707: ENERGY2020 | B1707: Reference | C1707: Canada | D1707: Oil Product Total Exports | E1707: Million barrels per day | F1707: ='[2]Data (1)'!AB$72 -> 0.4515 | G1707: ='[2]Data (1)'!AG$72 -> 0.4302 | H1707: ='[2]Data (1)'!AL$72 -> 0.4325 | I1707: ='[2]Data (1)'!AQ$72 -> 0.4332 | J1707: ='[2]Data (1)'!AV$72 -> 0.444 | K1707: ='[2]Data (1)'!BA$72 -> 0.4594 | L1707: ='[2]Data (1)'!BF$72 -> 0.4829 | M1707: ='[2]Data (1)'!BK$72 -> 0.509
A1708: ENERGY2020 | B1708: Reference | C1708: Canada | D1708: Natural Gas Total Exports | E1708: Billion cubic feet per day | F1708: ='[2]Data (1)'!AB$75 -> 7.7223 | G1708: ='[2]Data (1)'!AG$75 -> 7.8435 | H1708: ='[2]Data (1)'!AL$75 -> 7.5002 | I1708: ='[2]Data (1)'!AQ$75 -> 7.7234 | J1708: ='[2]Data (1)'!AV$75 -> 7.287 | K1708: ='[2]Data (1)'!BA$75 -> 7.7343 | L1708: ='[2]Data (1)'!BF$75 -> 8.3209 | M1708: ='[2]Data (1)'!BK$75 -> 9.3691
A1709: ENERGY2020 | B1709: Reference | C1709: Canada | D1709: Electricity Total Exports | E1709: Terawatt hours | F1709: ='[2]Data (1)'!AB$78 -> 83.1668 | G1709: ='[2]Data (1)'!AG$78 -> 89.4093 | H1709: ='[2]Data (1)'!AL$78 -> 76.1245 | I1709: ='[2]Data (1)'!AQ$78 -> 69.8574 | J1709: ='[2]Data (1)'!AV$78 -> 73.3124 | K1709: ='[2]Data (1)'!BA$78 -> 69.2359 | L1709: ='[2]Data (1)'!BF$78 -> 72.0246 | M1709: ='[2]Data (1)'!BK$78 -> 65.1547
A1710: ENERGY2020 | B1710: Reference | C1710: Canada | D1710: Crude Oil Total Imports | E1710: Million barrels per day | F1710: ='[2]Data (1)'!AB$81 -> 0.7779 | G1710: ='[2]Data (1)'!AG$81 -> 0.8389 | H1710: ='[2]Data (1)'!AL$81 -> 0.8389 | I1710: ='[2]Data (1)'!AQ$81 -> 0.8389 | J1710: ='[2]Data (1)'!AV$81 -> 0.8389 | K1710: ='[2]Data (1)'!BA$81 -> 0.8389 | L1710: ='[2]Data (1)'!BF$81 -> 0.8389 | M1710: ='[2]Data (1)'!BK$81 -> 0.8389
A1711: ENERGY2020 | B1711: Reference | C1711: Canada | D1711: Oil Product Total Imports | E1711: Million barrels per day | F1711: ='[2]Data (1)'!AB$84 -> 0.2929 | G1711: ='[2]Data (1)'!AG$84 -> 0.295 | H1711: ='[2]Data (1)'!AL$84 -> 0.3069 | I1711: ='[2]Data (1)'!AQ$84 -> 0.3105 | J1711: ='[2]Data (1)'!AV$84 -> 0.3676 | K1711: ='[2]Data (1)'!BA$84 -> 0.4482 | L1711: ='[2]Data (1)'!BF$84 -> 0.5718 | M1711: ='[2]Data (1)'!BK$84 -> 0.7088
A1712: ENERGY2020 | B1712: Reference | C1712: Canada | D1712: Natural Gas Total Imports | E1712: Billion cubic feet per day | F1712: ='[2]Data (1)'!AB$87 -> 1.9368 | G1712: ='[2]Data (1)'!AG$87 -> 1.628 | H1712: ='[2]Data (1)'!AL$87 -> 1.4032 | I1712: ='[2]Data (1)'!AQ$87 -> 0.9748 | J1712: ='[2]Data (1)'!AV$87 -> 0.7543 | K1712: ='[2]Data (1)'!BA$87 -> 0.5836 | L1712: ='[2]Data (1)'!BF$87 -> 0.4997 | M1712: ='[2]Data (1)'!BK$87 -> 0.4997
A1713: ENERGY2020 | B1713: Reference | C1713: Canada | D1713: Electricity Total Imports | E1713: Terawatt hours | F1713: ='[2]Data (1)'!AB$90 -> 3.5396 | G1713: ='[2]Data (1)'!AG$90 -> 4.6185 | H1713: ='[2]Data (1)'!AL$90 -> 5.9022 | I1713: ='[2]Data (1)'!AQ$90 -> 4.658 | J1713: ='[2]Data (1)'!AV$90 -> 4.2879 | K1713: ='[2]Data (1)'!BA$90 -> 4.5583 | L1713: ='[2]Data (1)'!BF$90 -> 4.5551 | M1713: ='[2]Data (1)'!BK$90 -> 4.5232
A1714: ENERGY2020 | B1714: Reference | C1714: Canada | D1714: Oil Product Exports to Mexico | E1714: Million barrels per day | F1714: ='[2]Data (1)'!AB$96 -> 0.0009 | G1714: ='[2]Data (1)'!AG$96 -> 0.0009 | H1714: ='[2]Data (1)'!AL$96 -> 0.0009 | I1714: ='[2]Data (1)'!AQ$96 -> 0.0009 | J1714: ='[2]Data (1)'!AV$96 -> 0.0009 | K1714: ='[2]Data (1)'!BA$96 -> 0.0009 | L1714: ='[2]Data (1)'!BF$96 -> 0 | M1714: ='[2]Data (1)'!BK$96 -> 0
A1715: ENERGY2020 | B1715: Reference | C1715: Canada | D1715: Crude Oil Exports to USA | E1715: Million barrels per day | F1715: ='[2]Data (1)'!AB$105 -> 3.0443 | G1715: ='[2]Data (1)'!AG$105 -> 4.2909 | H1715: ='[2]Data (1)'!AL$105 -> 4.8746 | I1715: ='[2]Data (1)'!AQ$105 -> 4.3486 | J1715: ='[2]Data (1)'!AV$105 -> 4.502 | K1715: ='[2]Data (1)'!BA$105 -> 3.1043 | L1715: ='[2]Data (1)'!BF$105 -> 0 | M1715: ='[2]Data (1)'!BK$105 -> 0
A1716: ENERGY2020 | B1716: Reference | C1716: Canada | D1716: Oil Product Exports to USA | E1716: Million barrels per day | F1716: ='[2]Data (1)'!AB$108 -> 0.3995 | G1716: ='[2]Data (1)'!AG$108 -> 0.3807 | H1716: ='[2]Data (1)'!AL$108 -> 0.3827 | I1716: ='[2]Data (1)'!AQ$108 -> 0.3834 | J1716: ='[2]Data (1)'!AV$108 -> 0.393 | K1716: ='[2]Data (1)'!BA$108 -> 0.4065 | L1716: ='[2]Data (1)'!BF$108 -> 0.4273 | M1716: ='[2]Data (1)'!BK$108 -> 0.4504
A1717: ENERGY2020 | B1717: Reference | C1717: Canada | D1717: Natural Gas Exports to USA | E1717: Billion cubic feet per day | F1717: ='[2]Data (1)'!AB$111 -> 7.3758 | G1717: ='[2]Data (1)'!AG$111 -> 7.1663 | H1717: ='[2]Data (1)'!AL$111 -> 7.6437 | I1717: ='[2]Data (1)'!AQ$111 -> 7.206 | J1717: ='[2]Data (1)'!AV$111 -> 7.0151 | K1717: ='[2]Data (1)'!BA$111 -> 6.482 | L1717: ='[2]Data (1)'!BF$111 -> 5.7871 | M1717: ='[2]Data (1)'!BK$111 -> 4.7952
A1718: ENERGY2020 | B1718: Reference | C1718: Canada | D1718: Electricity Exports to USA | E1718: Terawatt hours | F1718: ='[2]Data (1)'!AB$114 -> 83.1668 | G1718: ='[2]Data (1)'!AG$114 -> 89.4093 | H1718: ='[2]Data (1)'!AL$114 -> 76.1245 | I1718: ='[2]Data (1)'!AQ$114 -> 69.8574 | J1718: ='[2]Data (1)'!AV$114 -> 73.3124 | K1718: ='[2]Data (1)'!BA$114 -> 69.2359 | L1718: ='[2]Data (1)'!BF$114 -> 72.0246 | M1718: ='[2]Data (1)'!BK$114 -> 65.1547
A1719: ENERGY2020 | B1719: Reference | C1719: Canada | D1719: Gasoline Price | E1719: Constant 2015 CN$/US gallon | F1719: ='[2]Data (1)'!AB$117 -> 4.3012 | G1719: ='[2]Data (1)'!AG$117 -> 4.7019 | H1719: ='[2]Data (1)'!AL$117 -> 4.7698 | I1719: ='[2]Data (1)'!AQ$117 -> 4.9123 | J1719: ='[2]Data (1)'!AV$117 -> 5.0219 | K1719: ='[2]Data (1)'!BA$117 -> 5.1602 | L1719: ='[2]Data (1)'!BF$117 -> 5.2523 | M1719: ='[2]Data (1)'!BK$117 -> 5.2782
A1720: ENERGY2020 | B1720: Reference | C1720: Canada | D1720: Utility Gas Price | E1720: Constant 2015 CN$/1000cf | F1720: ='[2]Data (1)'!AB$120 -> 3.8083 | G1720: ='[2]Data (1)'!AG$120 -> 3.4317 | H1720: ='[2]Data (1)'!AL$120 -> 3.5713 | I1720: ='[2]Data (1)'!AQ$120 -> 3.6672 | J1720: ='[2]Data (1)'!AV$120 -> 3.9126 | K1720: ='[2]Data (1)'!BA$120 -> 4.0862 | L1720: ='[2]Data (1)'!BF$120 -> 4.7713 | M1720: ='[2]Data (1)'!BK$120 -> 5.2449
A1721: ENERGY2020 | B1721: Reference | C1721: Canada | D1721: Utility Coal Price | E1721: Constant 2015 CN$/short ton | F1721: ='[2]Data (1)'!AB$123 -> 28.9147 | G1721: ='[2]Data (1)'!AG$123 -> 32.7012 | H1721: ='[2]Data (1)'!AL$123 -> 34.6706 | I1721: ='[2]Data (1)'!AQ$123 -> 27.0742 | J1721: ='[2]Data (1)'!AV$123 -> 27.8927 | K1721: ='[2]Data (1)'!BA$123 -> 28.9396 | L1721: ='[2]Data (1)'!BF$123 -> 29.1072 | M1721: ='[2]Data (1)'!BK$123 -> 29.1352
A1722: ENERGY2020 | B1722: Reference | C1722: Canada | D1722: Electricity Price | E1722: Constant 2015 CN cents/kwh | F1722: ='[2]Data (1)'!AB$126 -> 0.0942 | G1722: ='[2]Data (1)'!AG$126 -> 0.1078 | H1722: ='[2]Data (1)'!AL$126 -> 0.1108 | I1722: ='[2]Data (1)'!AQ$126 -> 0.1185 | J1722: ='[2]Data (1)'!AV$126 -> 0.1259 | K1722: ='[2]Data (1)'!BA$126 -> 0.1339 | L1722: ='[2]Data (1)'!BF$126 -> 0.1438 | M1722: ='[2]Data (1)'!BK$126 -> 0.1533
A1723: ENERGY2020 | B1723: Reference | C1723: Canada | D1723: Crude Oil Net Exports | E1723: Million barrels per day | F1723: ='[2]Data (1)'!AB$129 -> 2.3253 | G1723: ='[2]Data (1)'!AG$129 -> 3.5351 | H1723: ='[2]Data (1)'!AL$129 -> 4.13 | I1723: ='[2]Data (1)'!AQ$129 -> 4.6268 | J1723: ='[2]Data (1)'!AV$129 -> 5.2183 | K1723: ='[2]Data (1)'!BA$129 -> 5.7096 | L1723: ='[2]Data (1)'!BF$129 -> 6.1786 | M1723: ='[2]Data (1)'!BK$129 -> 6.6436
A1724: ENERGY2020 | B1724: Reference | C1724: Canada | D1724: Oil Product Net Exports | E1724: Million barrels per day | F1724: ='[2]Data (1)'!AB$132 -> 0.1585 | G1724: ='[2]Data (1)'!AG$132 -> 0.1352 | H1724: ='[2]Data (1)'!AL$132 -> 0.1256 | I1724: ='[2]Data (1)'!AQ$132 -> 0.1227 | J1724: ='[2]Data (1)'!AV$132 -> 0.0764 | K1724: ='[2]Data (1)'!BA$132 -> 0.0111 | L1724: ='[2]Data (1)'!BF$132 -> -0.0889 | M1724: ='[2]Data (1)'!BK$132 -> -0.1999
A1725: ENERGY2020 | B1725: Reference | C1725: Canada | D1725: Natural Gas Net Exports | E1725: Billion cubic feet per day | F1725: ='[2]Data (1)'!AB$135 -> 5.7855 | G1725: ='[2]Data (1)'!AG$135 -> 6.2155 | H1725: ='[2]Data (1)'!AL$135 -> 6.0971 | I1725: ='[2]Data (1)'!AQ$135 -> 6.7486 | J1725: ='[2]Data (1)'!AV$135 -> 6.5328 | K1725: ='[2]Data (1)'!BA$135 -> 7.1507 | L1725: ='[2]Data (1)'!BF$135 -> 7.8212 | M1725: ='[2]Data (1)'!BK$135 -> 8.8694
A1726: ENERGY2020 | B1726: Reference | C1726: Canada | D1726: Electricity Net Exports | E1726: Terawatt hours | F1726: ='[2]Data (1)'!AB$138 -> 79.6272 | G1726: ='[2]Data (1)'!AG$138 -> 84.7908 | H1726: ='[2]Data (1)'!AL$138 -> 70.2223 | I1726: ='[2]Data (1)'!AQ$138 -> 65.1994 | J1726: ='[2]Data (1)'!AV$138 -> 69.0245 | K1726: ='[2]Data (1)'!BA$138 -> 64.6776 | L1726: ='[2]Data (1)'!BF$138 -> 67.4696 | M1726: ='[2]Data (1)'!BK$138 -> 60.6315
A1727: ENERGY2020 | B1727: Reference | C1727: Canada | D1727: Electricity Transmission to USA | E1727: Capacity utilization (percent) | F1727: ='[2]Data (1)'!AB$150 -> 0.4449 | G1727: ='[2]Data (1)'!AG$150 -> 0.4751 | H1727: ='[2]Data (1)'!AL$150 -> 0.4045 | I1727: ='[2]Data (1)'!AQ$150 -> 0.3712 | J1727: ='[2]Data (1)'!AV$150 -> 0.3895 | K1727: ='[2]Data (1)'!BA$150 -> 0.3679 | L1727: ='[2]Data (1)'!BF$150 -> 0.3827 | M1727: ='[2]Data (1)'!BK$150 -> 0.3462
A1728: ENERGY2020 | B1728: Reference | C1728: Canada | D1728: Electricity Capacity to USA | E1728: Terawatts | F1728: ='[2]Data (1)'!AB$162 -> 0.0213 | G1728: ='[2]Data (1)'!AG$162 -> 0.0215 | H1728: ='[2]Data (1)'!AL$162 -> 0.0215 | I1728: ='[2]Data (1)'!AQ$162 -> 0.0215 | J1728: ='[2]Data (1)'!AV$162 -> 0.0215 | K1728: ='[2]Data (1)'!BA$162 -> 0.0215 | L1728: ='[2]Data (1)'!BF$162 -> 0.0215 | M1728: ='[2]Data (1)'!BK$162 -> 0.0215
A1729: ENERGY2020 | B1729: Reference | C1729: Mexico | D1729: Real GDP | E1729: Constant 2015 Pesos (Billions) | F1729: ='[2]Data (1)'!AB$165 -> 19164.47 | G1729: ='[2]Data (1)'!AG$165 -> 22497.71 | H1729: ='[2]Data (1)'!AL$165 -> 27206.41 | I1729: ='[2]Data (1)'!AQ$165 -> 32900.62 | J1729: ='[2]Data (1)'!AV$165 -> 39786.61 | K1729: ='[2]Data (1)'!BA$165 -> 48113.82 | L1729: ='[2]Data (1)'!BF$165 -> 58183.88 | M1729: ='[2]Data (1)'!BK$165 -> 70361.58
A1730: ENERGY2020 | B1730: Reference | C1730: Mexico | D1730: Oil Product Consumption | E1730: Million barrels per day | F1730: ='[2]Data (1)'!AB$171 -> 1.7755 | G1730: ='[2]Data (1)'!AG$171 -> 1.6454 | H1730: ='[2]Data (1)'!AL$171 -> 1.6853 | I1730: ='[2]Data (1)'!AQ$171 -> 1.678 | J1730: ='[2]Data (1)'!AV$171 -> 1.7702 | K1730: ='[2]Data (1)'!BA$171 -> 1.8464 | L1730: ='[2]Data (1)'!BF$171 -> 1.9102 | M1730: ='[2]Data (1)'!BK$171 -> 1.9855
A1731: ENERGY2020 | B1731: Reference | C1731: Mexico | D1731: Natural Gas Consumption | E1731: Billion cubic feet per day | F1731: ='[2]Data (1)'!AB$174 -> 7.4017 | G1731: ='[2]Data (1)'!AG$174 -> 2.5757 | H1731: ='[2]Data (1)'!AL$174 -> 2.7018 | I1731: ='[2]Data (1)'!AQ$174 -> 3.3118 | J1731: ='[2]Data (1)'!AV$174 -> 4.9166 | K1731: ='[2]Data (1)'!BA$174 -> 5.154 | L1731: ='[2]Data (1)'!BF$174 -> 6.216 | M1731: ='[2]Data (1)'!BK$174 -> 6.6196
A1732: ENERGY2020 | B1732: Reference | C1732: Mexico | D1732: Coal Consumption | E1732: Million short tons | F1732: ='[2]Data (1)'!AB$177 -> 25.3178 | G1732: ='[2]Data (1)'!AG$177 -> 4.5832 | H1732: ='[2]Data (1)'!AL$177 -> 4.5534 | I1732: ='[2]Data (1)'!AQ$177 -> 4.514 | J1732: ='[2]Data (1)'!AV$177 -> 4.4721 | K1732: ='[2]Data (1)'!BA$177 -> 4.448 | L1732: ='[2]Data (1)'!BF$177 -> 4.4279 | M1732: ='[2]Data (1)'!BK$177 -> 4.4536
A1733: ENERGY2020 | B1733: Reference | C1733: Mexico | D1733: Electricity Consumption | E1733: Terawatt hours | F1733: ='[2]Data (1)'!AB$180 -> 248.5634 | G1733: ='[2]Data (1)'!AG$180 -> 274.3391 | H1733: ='[2]Data (1)'!AL$180 -> 276.3532 | I1733: ='[2]Data (1)'!AQ$180 -> 304.2256 | J1733: ='[2]Data (1)'!AV$180 -> 383.8559 | K1733: ='[2]Data (1)'!BA$180 -> 383.0248 | L1733: ='[2]Data (1)'!BF$180 -> 430.7614 | M1733: ='[2]Data (1)'!BK$180 -> 450.0279
A1734: ENERGY2020 | B1734: Reference | C1734: Mexico | D1734: Electricity Production | E1734: Terawatt hours | F1734: ='[2]Data (1)'!AB$183 -> 294.818 | G1734: ='[2]Data (1)'!AG$183 -> 354.9068 | H1734: ='[2]Data (1)'!AL$183 -> 353.7549 | I1734: ='[2]Data (1)'!AQ$183 -> 388.3748 | J1734: ='[2]Data (1)'!AV$183 -> 482.8639 | K1734: ='[2]Data (1)'!BA$183 -> 481.5939 | L1734: ='[2]Data (1)'!BF$183 -> 540.9968 | M1734: ='[2]Data (1)'!BK$183 -> 569.6265
A1735: ENERGY2020 | B1735: Reference | C1735: Mexico | D1735: Electric Production by Oil | E1735: Terawatt hours | F1735: ='[2]Data (1)'!AB$186 -> 43.806 | G1735: ='[2]Data (1)'!AG$186 -> 2.6438 | H1735: ='[2]Data (1)'!AL$186 -> 2.6438 | I1735: ='[2]Data (1)'!AQ$186 -> 2.6438 | J1735: ='[2]Data (1)'!AV$186 -> 2.6438 | K1735: ='[2]Data (1)'!BA$186 -> 2.6438 | L1735: ='[2]Data (1)'!BF$186 -> 2.6438 | M1735: ='[2]Data (1)'!BK$186 -> 2.6438
A1736: ENERGY2020 | B1736: Reference | C1736: Mexico | D1736: Electric Production by Natural Gas | E1736: Terawatt hours | F1736: ='[2]Data (1)'!AB$189 -> 154.447 | G1736: ='[2]Data (1)'!AG$189 -> 259.5284 | H1736: ='[2]Data (1)'!AL$189 -> 265.6125 | I1736: ='[2]Data (1)'!AQ$189 -> 308.2035 | J1736: ='[2]Data (1)'!AV$189 -> 410.5734 | K1736: ='[2]Data (1)'!BA$189 -> 417.1616 | L1736: ='[2]Data (1)'!BF$189 -> 476.5647 | M1736: ='[2]Data (1)'!BK$189 -> 505.1945
A1737: ENERGY2020 | B1737: Reference | C1737: Mexico | D1737: Electric Production by Coal | E1737: Terawatt hours | F1737: ='[2]Data (1)'!AB$192 -> 38.285 | G1737: ='[2]Data (1)'!AG$192 -> 32.7585 | H1737: ='[2]Data (1)'!AL$192 -> 25.5226 | I1737: ='[2]Data (1)'!AQ$192 -> 17.5514 | J1737: ='[2]Data (1)'!AV$192 -> 9.6707 | K1737: ='[2]Data (1)'!BA$192 -> 1.8125 | L1737: ='[2]Data (1)'!BF$192 -> 1.8122 | M1737: ='[2]Data (1)'!BK$192 -> 1.8121
A1738: ENERGY2020 | B1738: Reference | C1738: Mexico | D1738: Electric Production by Nuclear | E1738: Terawatt hours | F1738: ='[2]Data (1)'!AB$195 -> 11.185 | G1738: ='[2]Data (1)'!AG$195 -> 12.6642 | H1738: ='[2]Data (1)'!AL$195 -> 12.6642 | I1738: ='[2]Data (1)'!AQ$195 -> 12.6642 | J1738: ='[2]Data (1)'!AV$195 -> 12.6642 | K1738: ='[2]Data (1)'!BA$195 -> 12.6642 | L1738: ='[2]Data (1)'!BF$195 -> 12.6642 | M1738: ='[2]Data (1)'!BK$195 -> 12.6642
A1739: ENERGY2020 | B1739: Reference | C1739: Mexico | D1739: Electric Production by Hydroelectric | E1739: Terawatt hours | F1739: ='[2]Data (1)'!AB$198 -> 30.614 | G1739: ='[2]Data (1)'!AG$198 -> 30.6322 | H1739: ='[2]Data (1)'!AL$198 -> 30.6322 | I1739: ='[2]Data (1)'!AQ$198 -> 30.6322 | J1739: ='[2]Data (1)'!AV$198 -> 30.6322 | K1739: ='[2]Data (1)'!BA$198 -> 30.6322 | L1739: ='[2]Data (1)'!BF$198 -> 30.6322 | M1739: ='[2]Data (1)'!BK$198 -> 30.6322
A1740: ENERGY2020 | B1740: Reference | C1740: Mexico | D1740: Electric Production by Other Renewables | E1740: Terawatt hours | F1740: ='[2]Data (1)'!AB$201 -> 16.481 | G1740: ='[2]Data (1)'!AG$201 -> 16.6797 | H1740: ='[2]Data (1)'!AL$201 -> 16.6797 | I1740: ='[2]Data (1)'!AQ$201 -> 16.6797 | J1740: ='[2]Data (1)'!AV$201 -> 16.6797 | K1740: ='[2]Data (1)'!BA$201 -> 16.6797 | L1740: ='[2]Data (1)'!BF$201 -> 16.6797 | M1740: ='[2]Data (1)'!BK$201 -> 16.6797
A1741: ENERGY2020 | B1741: Reference | C1741: Mexico | D1741: Crude Oil Production | E1741: Million barrels per day | F1741: ='[2]Data (1)'!AB$204 -> 2.3194 | G1741: ='[2]Data (1)'!AG$204 -> 2.1705 | H1741: ='[2]Data (1)'!AL$204 -> 2.2028 | I1741: ='[2]Data (1)'!AQ$204 -> 2.36 | J1741: ='[2]Data (1)'!AV$204 -> 2.9598 | K1741: ='[2]Data (1)'!BA$204 -> 8.2789 | L1741: ='[2]Data (1)'!BF$204 -> 30.0597 | M1741: ='[2]Data (1)'!BK$204 -> 52.8211
A1742: ENERGY2020 | B1742: Reference | C1742: Mexico | D1742: Natural Gas Production | E1742: Billion cubic feet per day | F1742: ='[2]Data (1)'!AB$207 -> 3.7317 | G1742: ='[2]Data (1)'!AG$207 -> 2.0187 | H1742: ='[2]Data (1)'!AL$207 -> 2.9922 | I1742: ='[2]Data (1)'!AQ$207 -> 4.2344 | J1742: ='[2]Data (1)'!AV$207 -> 4.542 | K1742: ='[2]Data (1)'!BA$207 -> 5.1659 | L1742: ='[2]Data (1)'!BF$207 -> 5.9177 | M1742: ='[2]Data (1)'!BK$207 -> 6.7579
A1743: ENERGY2020 | B1743: Reference | C1743: Mexico | D1743: Crude Oil Total Exports | E1743: Million barrels per day | F1743: ='[2]Data (1)'!AB$213 -> 1.1731 | G1743: ='[2]Data (1)'!AG$213 -> 1.0862 | H1743: ='[2]Data (1)'!AL$213 -> 1.0823 | I1743: ='[2]Data (1)'!AQ$213 -> 1.244 | J1743: ='[2]Data (1)'!AV$213 -> 1.7648 | K1743: ='[2]Data (1)'!BA$213 -> 7.0487 | L1743: ='[2]Data (1)'!BF$213 -> 28.9082 | M1743: ='[2]Data (1)'!BK$213 -> 51.7431
A1744: ENERGY2020 | B1744: Reference | C1744: Mexico | D1744: Oil Product Total Exports | E1744: Million barrels per day | F1744: ='[2]Data (1)'!AB$216 -> 0.1615 | G1744: ='[2]Data (1)'!AG$216 -> 0.1574 | H1744: ='[2]Data (1)'!AL$216 -> 0.1616 | I1744: ='[2]Data (1)'!AQ$216 -> 0.1612 | J1744: ='[2]Data (1)'!AV$216 -> 0.1709 | K1744: ='[2]Data (1)'!BA$216 -> 0.1788 | L1744: ='[2]Data (1)'!BF$216 -> 0.1852 | M1744: ='[2]Data (1)'!BK$216 -> 0.193
A1745: ENERGY2020 | B1745: Reference | C1745: Mexico | D1745: Natural Gas Total Exports | E1745: Billion cubic feet per day | F1745: ='[2]Data (1)'!AB$219 -> 0.0133 | G1745: ='[2]Data (1)'!AG$219 -> 0.0133 | H1745: ='[2]Data (1)'!AL$219 -> 0.0133 | I1745: ='[2]Data (1)'!AQ$219 -> 0.0133 | J1745: ='[2]Data (1)'!AV$219 -> 0.0133 | K1745: ='[2]Data (1)'!BA$219 -> 0.0133 | L1745: ='[2]Data (1)'!BF$219 -> 0.0133 | M1745: ='[2]Data (1)'!BK$219 -> 0.0133
A1746: ENERGY2020 | B1746: Reference | C1746: Mexico | D1746: Electricity Total Exports | E1746: Terawatt hours | F1746: ='[2]Data (1)'!AB$222 -> 10.6627 | G1746: ='[2]Data (1)'!AG$222 -> 13.14 | H1746: ='[2]Data (1)'!AL$222 -> 9.9874 | I1746: ='[2]Data (1)'!AQ$222 -> 9.9874 | J1746: ='[2]Data (1)'!AV$222 -> 6.0346 | K1746: ='[2]Data (1)'!BA$222 -> 5.815 | L1746: ='[2]Data (1)'!BF$222 -> 5.7602 | M1746: ='[2]Data (1)'!BK$222 -> 9.636
A1747: ENERGY2020 | B1747: Reference | C1747: Mexico | D1747: Crude Oil Total Imports | E1747: Million barrels per day | F1747: ='[2]Data (1)'!AB$225 -> 0.009 | G1747: ='[2]Data (1)'!AG$225 -> 0.009 | H1747: ='[2]Data (1)'!AL$225 -> 0.009 | I1747: ='[2]Data (1)'!AQ$225 -> 0.009 | J1747: ='[2]Data (1)'!AV$225 -> 0.009 | K1747: ='[2]Data (1)'!BA$225 -> 0.009 | L1747: ='[2]Data (1)'!BF$225 -> 0.009 | M1747: ='[2]Data (1)'!BK$225 -> 0.009
A1748: ENERGY2020 | B1748: Reference | C1748: Mexico | D1748: Oil Product Total Imports | E1748: Million barrels per day | F1748: ='[2]Data (1)'!AB$228 -> 0.5311 | G1748: ='[2]Data (1)'!AG$228 -> 0.5241 | H1748: ='[2]Data (1)'!AL$228 -> 0.5314 | I1748: ='[2]Data (1)'!AQ$228 -> 0.5307 | J1748: ='[2]Data (1)'!AV$228 -> 0.5471 | K1748: ='[2]Data (1)'!BA$228 -> 0.5606 | L1748: ='[2]Data (1)'!BF$228 -> 0.5716 | M1748: ='[2]Data (1)'!BK$228 -> 0.5848
A1749: ENERGY2020 | B1749: Reference | C1749: Mexico | D1749: Natural Gas Total Imports | E1749: Billion cubic feet per day | F1749: ='[2]Data (1)'!AB$231 -> 2.6283 | G1749: ='[2]Data (1)'!AG$231 -> 5.6036 | H1749: ='[2]Data (1)'!AL$231 -> 3.6176 | I1749: ='[2]Data (1)'!AQ$231 -> 2.1056 | J1749: ='[2]Data (1)'!AV$231 -> 2.7242 | K1749: ='[2]Data (1)'!BA$231 -> 1.8103 | L1749: ='[2]Data (1)'!BF$231 -> 1.7144 | M1749: ='[2]Data (1)'!BK$231 -> 0.9625
A1750: ENERGY2020 | B1750: Reference | C1750: Mexico | D1750: Electricity Total Imports | E1750: Terawatt hours | F1750: ='[2]Data (1)'!AB$234 -> 0.4749 | G1750: ='[2]Data (1)'!AG$234 -> 0 | H1750: ='[2]Data (1)'!AL$234 -> 0.512 | I1750: ='[2]Data (1)'!AQ$234 -> 0.6148 | J1750: ='[2]Data (1)'!AV$234 -> 1.3856 | K1750: ='[2]Data (1)'!BA$234 -> 1.4027 | L1750: ='[2]Data (1)'!BF$234 -> 1.4284 | M1750: ='[2]Data (1)'!BK$234 -> 0.6833
A1751: ENERGY2020 | B1751: Reference | C1751: Mexico | D1751: Crude Oil Exports to Canada | E1751: Million barrels per day | F1751: ='[2]Data (1)'!AB$237 -> 0.0117 | G1751: ='[2]Data (1)'!AG$237 -> 0.0109 | H1751: ='[2]Data (1)'!AL$237 -> 0.0108 | I1751: ='[2]Data (1)'!AQ$237 -> 0.0124 | J1751: ='[2]Data (1)'!AV$237 -> 0.0176 | K1751: ='[2]Data (1)'!BA$237 -> 0.0705 | L1751: ='[2]Data (1)'!BF$237 -> 0.2891 | M1751: ='[2]Data (1)'!BK$237 -> 0.5174
A1752: ENERGY2020 | B1752: Reference | C1752: Mexico | D1752: Crude Oil Exports to USA | E1752: Million barrels per day | F1752: ='[2]Data (1)'!AB$249 -> 0.4516 | G1752: ='[2]Data (1)'!AG$249 -> 0.4182 | H1752: ='[2]Data (1)'!AL$249 -> 0.4167 | I1752: ='[2]Data (1)'!AQ$249 -> 0.479 | J1752: ='[2]Data (1)'!AV$249 -> 0.6794 | K1752: ='[2]Data (1)'!BA$249 -> 2.7138 | L1752: ='[2]Data (1)'!BF$249 -> 11.1297 | M1752: ='[2]Data (1)'!BK$249 -> 19.9211
A1753: ENERGY2020 | B1753: Reference | C1753: Mexico | D1753: Oil Product Exports to USA | E1753: Million barrels per day | F1753: ='[2]Data (1)'!AB$252 -> 0.0622 | G1753: ='[2]Data (1)'!AG$252 -> 0.0606 | H1753: ='[2]Data (1)'!AL$252 -> 0.0622 | I1753: ='[2]Data (1)'!AQ$252 -> 0.0621 | J1753: ='[2]Data (1)'!AV$252 -> 0.0658 | K1753: ='[2]Data (1)'!BA$252 -> 0.0688 | L1753: ='[2]Data (1)'!BF$252 -> 0.0713 | M1753: ='[2]Data (1)'!BK$252 -> 0.0743
A1754: ENERGY2020 | B1754: Reference | C1754: Mexico | D1754: Natural Gas Exports to USA | E1754: Billion cubic feet per day | F1754: ='[2]Data (1)'!AB$255 -> 0.0133 | G1754: ='[2]Data (1)'!AG$255 -> 0.0133 | H1754: ='[2]Data (1)'!AL$255 -> 0.0133 | I1754: ='[2]Data (1)'!AQ$255 -> 0.0133 | J1754: ='[2]Data (1)'!AV$255 -> 0.0133 | K1754: ='[2]Data (1)'!BA$255 -> 0.0133 | L1754: ='[2]Data (1)'!BF$255 -> 0.0133 | M1754: ='[2]Data (1)'!BK$255 -> 0.0133
A1755: ENERGY2020 | B1755: Reference | C1755: Mexico | D1755: Electricity Exports to USA | E1755: Terawatt hours | F1755: ='[2]Data (1)'!AB$258 -> 10.6627 | G1755: ='[2]Data (1)'!AG$258 -> 13.14 | H1755: ='[2]Data (1)'!AL$258 -> 9.9874 | I1755: ='[2]Data (1)'!AQ$258 -> 9.9874 | J1755: ='[2]Data (1)'!AV$258 -> 6.0346 | K1755: ='[2]Data (1)'!BA$258 -> 5.815 | L1755: ='[2]Data (1)'!BF$258 -> 5.7602 | M1755: ='[2]Data (1)'!BK$258 -> 9.636
A1756: ENERGY2020 | B1756: Reference | C1756: Mexico | D1756: Gasoline Price | E1756: Constant 2015 pesos/US gallon | F1756: ='[2]Data (1)'!AB$261 -> 2.2901 | G1756: ='[2]Data (1)'!AG$261 -> 2.4406 | H1756: ='[2]Data (1)'!AL$261 -> 2.4778 | I1756: ='[2]Data (1)'!AQ$261 -> 2.6194 | J1756: ='[2]Data (1)'!AV$261 -> 2.7236 | K1756: ='[2]Data (1)'!BA$261 -> 2.7998 | L1756: ='[2]Data (1)'!BF$261 -> 2.8466 | M1756: ='[2]Data (1)'!BK$261 -> 2.8819
A1757: ENERGY2020 | B1757: Reference | C1757: Mexico | D1757: Utility Gas Price | E1757: Constant 2015 pesos/1000cf | F1757: ='[2]Data (1)'!AB$264 -> 2.948 | G1757: ='[2]Data (1)'!AG$264 -> 3.324 | H1757: ='[2]Data (1)'!AL$264 -> 4.1158 | I1757: ='[2]Data (1)'!AQ$264 -> 4.3889 | J1757: ='[2]Data (1)'!AV$264 -> 4.7058 | K1757: ='[2]Data (1)'!BA$264 -> 4.9241 | L1757: ='[2]Data (1)'!BF$264 -> 5.1857 | M1757: ='[2]Data (1)'!BK$264 -> 5.6437
A1758: ENERGY2020 | B1758: Reference | C1758: Mexico | D1758: Electricity Price | E1758: Constant 2015 pesos/kwh | F1758: ='[2]Data (1)'!AB$270 -> 0.0723 | G1758: ='[2]Data (1)'!AG$270 -> 0.0706 | H1758: ='[2]Data (1)'!AL$270 -> 0.0672 | I1758: ='[2]Data (1)'!AQ$270 -> 0.0683 | J1758: ='[2]Data (1)'!AV$270 -> 0.0722 | K1758: ='[2]Data (1)'!BA$270 -> 0.074 | L1758: ='[2]Data (1)'!BF$270 -> 0.0771 | M1758: ='[2]Data (1)'!BK$270 -> 0.0812
A1759: ENERGY2020 | B1759: Reference | C1759: Mexico | D1759: Crude Oil Net Exports | E1759: Million barrels per day | F1759: ='[2]Data (1)'!AB$273 -> 1.1416 | G1759: ='[2]Data (1)'!AG$273 -> 1.0564 | H1759: ='[2]Data (1)'!AL$273 -> 1.0525 | I1759: ='[2]Data (1)'!AQ$273 -> 1.2112 | J1759: ='[2]Data (1)'!AV$273 -> 1.7222 | K1759: ='[2]Data (1)'!BA$273 -> 6.9069 | L1759: ='[2]Data (1)'!BF$273 -> 28.3559 | M1759: ='[2]Data (1)'!BK$273 -> 50.7619
...

Sheet Variables
A1: # | B1: Variable | C1: Units
A2: 1 | B2: Brent Oil Price | C2: =VLOOKUP(B2,Results!$D$157:$E$6605,2,FALSE) -> Constant 2015 US$/barrel
A3: 2 | B3: Can-US Exchange Rate | C3: =VLOOKUP(B3,Results!$D$157:$E$6605,2,FALSE) -> CN$/US$
A4: 3 | B4: Coal Consumption | C4: =VLOOKUP(B4,Results!$D$157:$E$6605,2,FALSE) -> Million short tons
A5: 4 | B5: Coal Production | C5: =VLOOKUP(B5,Results!$D$157:$E$6605,2,FALSE) -> Million short tons
A6: 5 | B6: Crude Oil Capacity to USA | C6: =VLOOKUP(B6,Results!$D$157:$E$6605,2,FALSE) -> Million barrels per day
A7: 6 | B7: Crude Oil Exports to Canada | C7: =VLOOKUP(B7,Results!$D$157:$E$6605,2,FALSE) -> Million barrels per day
A8: 7 | B8: Crude Oil Exports to Mexico | C8: =VLOOKUP(B8,Results!$D$157:$E$6605,2,FALSE) -> Million barrels per day
A9: 8 | B9: Crude Oil Exports to USA | C9: =VLOOKUP(B9,Results!$D$157:$E$6605,2,FALSE) -> Million barrels per day
A10: 9 | B10: Crude Oil Net Exports | C10: =VLOOKUP(B10,Results!$D$157:$E$6605,2,FALSE) -> Million barrels per day
A11: 10 | B11: Crude Oil Production | C11: =VLOOKUP(B11,Results!$D$157:$E$6605,2,FALSE) -> Million barrels per day
A12: 11 | B12: Crude Oil Total Exports | C12: =VLOOKUP(B12,Results!$D$157:$E$6605,2,FALSE) -> Million barrels per day
A13: 12 | B13: Crude Oil Total Imports | C13: =VLOOKUP(B13,Results!$D$157:$E$6605,2,FALSE) -> Million barrels per day
... A64: 63 | B64: Utility Gas Price | C64: =VLOOKUP(B64,Results!$D$157:$E$6605,2,FALSE) -> Constant 2015 US$/1000cf
