Workbook
Name Data: Results!$A$1:$M$6605

Sheet Results
A1: Model | B1: Scenario | C1: Region | D1: Variable | E1: Units | F1: y2015 | G1: y2020 | H1: y2025 | I1: y2030 | J1: y2035 | K1: y2040 | L1: y2045 | M1: y2050
A2: ARTIMAS | B2: Reference | C2: USA | D2: Crude Oil Total Exports | E2: Million barrels per day | F2: 1.3119307 | G2: 1.0729193 | H2: 0.9228169 | I2: 0.94987996 | J2: 0.92147868 | K2: 0.9546657 | L2: 0.9552942 | M2: 0.99690335
A3: ARTIMAS | B3: Reference | C3: USA | D3: Electric Production by Oil | E3: Terawatt hours | F3: 21.405722 | G3: 22.354451 | H3: 19.51867 | I3: 17.558451 | J3: 14.751333 | K3: 12.147886 | L3: 9.0518062 | M3: 6.2263149
A4: ARTIMAS | B4: Reference | C4: USA | D4: Electric Production by Coal | E4: Terawatt hours | F4: 1339.6907 | G4: 1338.6128 | H4: 1292.0519 | I4: 1264.7592 | J4: 1281.8504 | K4: 1291.7996 | L4: 1310.5779 | M4: 1317.7343
A5: ARTIMAS | B5: Reference | C5: USA | D5: Crude Oil Total Imports | E5: Million barrels per day | F5: 20.037646 | G5: 15.681674 | H5: 14.754168 | I5: 13.372348 | J5: 12.621382 | K5: 11.658512 | L5: 11.072263 | M5: 10.641652
A6: ARTIMAS | B6: Reference | C6: USA | D6: Electric Production by Wind | E6: Terawatt hours | F6: 172.96649 | G6: 283.54096 | H6: 368.9824 | I6: 400.78035 | J6: 438.93753 | K6: 477.34987 | L6: 526.17482 | M6: 587.00082
A7: ARTIMAS | B7: Reference | C7: USA | D7: Natural Gas Total Imports | E7: Billion cubic feet per day | F7: 4.1856303 | G7: 5.4648025 | H7: 6.1755498 | I7: 6.1376083 | J7: 7.3674703 | K7: 7.6123074 | L7: 9.7016224 | M7: 10.083725
A8: ARTIMAS | B8: Reference | C8: USA | D8: Oil Product Total Imports | E8: Million barrels per day | F8: 1.3251081 | G8: 1.3570453 | H8: 1.4323287 | I8: 1.7263554 | J8: 2.1899446 | K8: 2.8569861 | L8: 3.8355522 | M8: 4.3262089
A9: ARTIMAS | B9: Reference | C9: USA | D9: Natural Gas Consumption | E9: Billion cubic feet per day | F9: 101.51489 | G9: 128.69092 | H9: 124.51153 | I9: 125.6424 | J9: 124.36975 | K9: 128.2583 | L9: 126.09148 | M9: 122.02071
A10: ARTIMAS | B10: Reference | C10: USA | D10: Electric Production by Hydroelectric | E10: Terawatt hours | F10: 351.4935 | G10: 418.25863 | H10: 420.5696 | I10: 439.06633 | J10: 459.88596 | K10: 479.68319 | L10: 503.0269 | M10: 518.89404
A11: ARTIMAS | B11: Reference | C11: USA | D11: Electricity Total Exports | E11: Terawatt hours | F11: 7.4436218 | G11: 8.0129508 | H11: 8.1856015 | I11: 9.3196784 | J11: 10.855223 | K11: 10.734338 | L11: 12.478615 | M11: 14.144695
A12: ARTIMAS | B12: Reference | C12: USA | D12: Electric Production by Solar | E12: Terawatt hours | F12: 8.6956439 | G12: 24.938057 | H12: 51.687193 | I12: 75.972539 | J12: 97.348113 | K12: 130.90771 | L12: 167.87293 | M12: 205.15687
A13: ARTIMAS | B13: Reference | C13: USA | D13: Electric Production by Nuclear | E13: Terawatt hours | F13: 754.84965 | G13: 777.30911 | H13: 667.32844 | I13: 611.69444 | J13: 617.45758 | K13: 620.59905 | L13: 637.1521 | M13: 648.97233
... A548: DIEM | B548: Crude_Infrastructure | C548: Mexico | D548: Electricity Exports to USA | E548: Terawatt hours | F548: 6.64 | G548: 6.94 | H548: 6.72 | I548: 6.72 | J548: 6.72 | K548: 6.44 | L548: 6.44 | M548: 6.44
A549: =[1]Notes!$B$1 -> EC-MSMR | B549: Reference | C549: International | D549: Brent Oil Price | E549: Constant 2015 US$/barrel | F549: 52.0999 | G549: 48.672276 | H549: 53.813716 | I549: 58.406737 | J549: 61.011734 | K549: 63.822387 | L549: 64.43936 | M549: 64.43936
A550: =[1]Notes!$B$1 -> EC-MSMR | B550: Reference | C550: International | D550: Henry Hub Price | E550: Constant 2015 US$/1000cf | F550: 2.525644 | G550: 2.7943786 | H550: 2.9916068 | I550: 2.9401251 | J550: 2.838324 | K550: 2.8009049 | L550: 2.7659412 | M550: 2.7212517
A551: =[1]Notes!$B$1 -> EC-MSMR | B551: Reference | C551: International | D551: Can-US Exchange Rate | E551: CN$/US$ | F551: 0.782992 | G551: 0.782992 | H551: 0.782992 | I551: 0.782992 | J551: 0.782992 | K551: 0.782992 | L551: 0.782992 | M551: 0.782992
A552: =[1]Notes!$B$1 -> EC-MSMR | B552: Reference | C552: International | D552: Mex-US Exchange Rate | E552: MX pesos/US$ | F552: 0.085766 | G552: 0.085766 | H552: 0.085766 | I552: 0.085766 | J552: 0.085766 | K552: 0.085766 | L552: 0.085766 | M552: 0.085766
A553: =[1]Notes!$B$1 -> EC-MSMR | B553: Reference | C553: Canada | D553: Real GDP | E553: Constant 2015 CN$ (Billions) | F553: 2245.7444 | G553: 2501.3645 | H553: 2722.9367 | I553: 2942.4294 | J553: 3214.9323 | K553: 3496.2257 | L553: 3787.6616 | M553: 4093.4947
A554: =[1]Notes!$B$1 -> EC-MSMR | B554: Reference | C554: Canada | D554: Oil Product Consumption | E554: Million barrels per day | F554: 2.0048 | G554: 1.9571416 | H554: 1.9306417 | I554: 1.9030738 | J554: 1.9250395 | K554: 1.97861 | L554: 2.0512531 | M554: 2.1424643
A555: =[1]Notes!$B$1 -> EC-MSMR | B555: Reference | C555: Canada | D555: Natural Gas Consumption | E555: Billion cubic feet per day | F555: 9.6841 | G555: 10.739777 | H555: 11.706666 | I555: 12.610411 | J555: 13.296681 | K555: 13.895849 | L555: 14.406685 | M555: 15.008735
A556: =[1]Notes!$B$1 -> EC-MSMR | B556: Reference | C556: Canada | D556: Coal Consumption | E556: Million short tons | F556: 38.5176 | G556: 29.928396 | H556: 21.915141 | I556: 5.3281709 | J556: 5.6895887 | K556: 5.9231495 | L556: 6.2713448 | M556: 6.6644782
A557: =[1]Notes!$B$1 -> EC-MSMR | B557: Reference | C557: Canada | D557: Electricity Consumption | E557: Terawatt hours | F557: 566.1755 | G557: 567.28105 | H557: 582.99814 | I557: 621.9787 | J557: 639.90086 | K557: 656.11782 | L557: 677.43858 | M557: 688.78245
A558: =[1]Notes!$B$1 -> EC-MSMR | B558: Reference | C558: Canada | D558: Electricity Production | E558: Terawatt hours | F558: 620.9079 | G558: 619.83173 | H558: 637.2776 | I558: 677.75852 | J558: 697.08601 | K558: 714.76397 | L558: 738.46287 | M558: 752.01478
A559: =[1]Notes!$B$1 -> EC-MSMR | B559: Reference | C559: Canada | D559: Electric Production by Oil | E559: Terawatt hours | F559: 7.2941 | G559: 2.3598768 | H559: 2.6963776 | I559: 1.5938301 | J559: 1.717379 | K559: 1.792274 | L559: 1.7471655 | M559: 1.7550711
A560: =[1]Notes!$B$1 -> EC-MSMR | B560: Reference | C560: Canada | D560: Electric Production by Natural Gas | E560: Terawatt hours | F560: 39.4418 | G560: 61.574479 | H560: 89.411423 | I560: 129.91947 | J560: 133.38852 | K560: 141.81193 | L560: 164.97046 | M560: 183.00916
... A1686: =[1]Notes!$B$1 -> EC-MSMR | B1686: Carbon_xUSA | C1686: USA | D1686: Electricity Net Exports | E1686: Terawatt hours | F1686: -54.574 | G1686: -46.029252 | H1686: -20.787682 | I1686: -12.281868 | J1686: -1.7013361 | K1686: 10.119751 | L1686: 21.173804 | M1686: 28.919732
A1687: ENERGY2020 | B1687: Reference | C1687: International | D1687: Brent Oil Price | E1687: Constant 2015 US$/barrel | F1687: ='[2]Data (1)'!AB$9 -> 51.2523 | G1687: ='[2]Data (1)'!AG$9 -> 71.0714 | H1687: ='[2]Data (1)'!AL$9 -> 79.4195 | I1687: ='[2]Data (1)'!AQ$9 -> 89.0322 | J1687: ='[2]Data (1)'!AV$9 -> 97.0359 | K1687: ='[2]Data (1)'!BA$9 -> 102.1184 | L1687: ='[2]Data (1)'!BF$9 -> 105.5265 | M1687: ='[2]Data (1)'!BK$9 -> 106.5418
A1688: ENERGY2020 | B1688: Reference | C1688: International | D1688: Henry Hub Price | E1688: Constant 2015 US$/1000cf | F1688: ='[2]Data (1)'!AB$12 -> 2.695 | G1688: ='[2]Data (1)'!AG$12 -> 3.0271 | H1688: ='[2]Data (1)'!AL$12 -> 3.4678 | I1688: ='[2]Data (1)'!AQ$12 -> 3.6926 | J1688: ='[2]Data (1)'!AV$12 -> 3.9478 | K1688: ='[2]Data (1)'!BA$12 -> 4.1314 | L1688: ='[2]Data (1)'!BF$12 -> 4.3669 | M1688: ='[2]Data (1)'!BK$12 -> 4.7762
A1689: ENERGY2020 | B1689: Reference | C1689: International | D1689: Can-US Exchange Rate | E1689: CN$/US$ | F1689: ='[2]Data (1)'!AB$15 -> 1.2788 | G1689: ='[2]Data (1)'!AG$15 -> 1.2453 | H1689: ='[2]Data (1)'!AL$15 -> 1.2315 | I1689: ='[2]Data (1)'!AQ$15 -> 1.2315 | J1689: ='[2]Data (1)'!AV$15 -> 1.2315 | K1689: ='[2]Data (1)'!BA$15 -> 1.2315 | L1689: ='[2]Data (1)'!BF$15 -> 1.2315 | M1689: ='[2]Data (1)'!BK$15 -> 1.2315
A1690: ENERGY2020 | B1690: Reference | C1690: International | D1690: Mex-US Exchange Rate | E1690: MX pesos/US$ | F1690: ='[2]Data (1)'!AB$18 -> 1 | G1690: ='[2]Data (1)'!AG$18 -> 1 | H1690: ='[2]Data (1)'!AL$18 -> 1 | I1690: ='[2]Data (1)'!AQ$18 -> 1 | J1690: ='[2]Data (1)'!AV$18 -> 1 | K1690: ='[2]Data (1)'!BA$18 -> 1 | L1690: ='[2]Data (1)'!BF$18 -> 1 | M1690: ='[2]Data (1)'!BK$18 -> 1
A1691: ENERGY2020 | B1691: Reference | C1691: Canada | D1691: Real GDP | E1691: Constant 2015 CN$ (Billions) | F1691: ='[2]Data (1)'!AB$21 -> 1827.09 | G1691: ='[2]Data (1)'!AG$21 -> 2005.917 | H1691: ='[2]Data (1)'!AL$21 -> 2181.105 | I1691: ='[2]Data (1)'!AQ$21 -> 2370.001 | J1691: ='[2]Data (1)'!AV$21 -> 2582.634 | K1691: ='[2]Data (1)'!BA$21 -> 2812.549 | L1691: ='[2]Data (1)'!BF$21 -> 3063.231 | M1691: ='[2]Data (1)'!BK$21 -> 3336.574
A1692: ENERGY2020 | B1692: Reference | C1692: Canada | D1692: Oil Product Consumption | E1692: Million barrels per day | F1692: ='[2]Data (1)'!AB$27 -> 2.0043 | G1692: ='[2]Data (1)'!AG$27 -> 2.0156 | H1692: ='[2]Data (1)'!AL$27 -> 2.0193 | I1692: ='[2]Data (1)'!AQ$27 -> 2.0183 | J1692: ='[2]Data (1)'!AV$27 -> 2.0639 | K1692: ='[2]Data (1)'!BA$27 -> 2.1321 | L1692: ='[2]Data (1)'!BF$27 -> 2.2394 | M1692: ='[2]Data (1)'!BK$27 -> 2.3601
A1693: ENERGY2020 | B1693: Reference | C1693: Canada | D1693: Natural Gas Consumption | E1693: Billion cubic feet per day | F1693: ='[2]Data (1)'!AB$30 -> 9.1295 | G1693: ='[2]Data (1)'!AG$30 -> 9.7349 | H1693: ='[2]Data (1)'!AL$30 -> 10.6241 | I1693: ='[2]Data (1)'!AQ$30 -> 11.6589 | J1693: ='[2]Data (1)'!AV$30 -> 12.5276 | K1693: ='[2]Data (1)'!BA$30 -> 13.2961 | L1693: ='[2]Data (1)'!BF$30 -> 14.0645 | M1693: ='[2]Data (1)'!BK$30 -> 14.653
A1694: ENERGY2020 | B1694: Reference | C1694: Canada | D1694: Coal Consumption | E1694: Million short tons | F1694: ='[2]Data (1)'!AB$33 -> 37.3417 | G1694: ='[2]Data (1)'!AG$33 -> 28.2047 | H1694: ='[2]Data (1)'!AL$33 -> 20.8038 | I1694: ='[2]Data (1)'!AQ$33 -> 3.7875 | J1694: ='[2]Data (1)'!AV$33 -> 4.0531 | K1694: ='[2]Data (1)'!BA$33 -> 4.3291 | L1694: ='[2]Data (1)'!BF$33 -> 4.622 | M1694: ='[2]Data (1)'!BK$33 -> 4.9421
A1695: ENERGY2020 | B1695: Reference | C1695: Canada | D1695: Electricity Consumption | E1695: Terawatt hours | F1695: ='[2]Data (1)'!AB$36 -> 551.9028 | G1695: ='[2]Data (1)'!AG$36 -> 554.5244 | H1695: ='[2]Data (1)'!AL$36 -> 573.1794 | I1695: ='[2]Data (1)'!AQ$36 -> 596.2873 | J1695: ='[2]Data (1)'!AV$36 -> 619.6157 | K1695: ='[2]Data (1)'!BA$36 -> 644.6233 | L1695: ='[2]Data (1)'!BF$36 -> 672.3449 | M1695: ='[2]Data (1)'!BK$36 -> 702.7914
A1696: ENERGY2020 | B1696: Reference | C1696: Canada | D1696: Electricity Production | E1696: Terawatt hours | F1696: ='[2]Data (1)'!AB$39 -> 662.7604 | G1696: ='[2]Data (1)'!AG$39 -> 682.3674 | H1696: ='[2]Data (1)'!AL$39 -> 681.0698 | I1696: ='[2]Data (1)'!AQ$39 -> 692.9644 | J1696: ='[2]Data (1)'!AV$39 -> 716.0977 | K1696: ='[2]Data (1)'!BA$39 -> 733.9145 | L1696: ='[2]Data (1)'!BF$39 -> 761.0802 | M1696: ='[2]Data (1)'!BK$39 -> 781.8217
A1697: ENERGY2020 | B1697: Reference | C1697: Canada | D1697: Electric Production by Oil | E1697: Terawatt hours | F1697: ='[2]Data (1)'!AB$42 -> 7.0183 | G1697: ='[2]Data (1)'!AG$42 -> 3.0686 | H1697: ='[2]Data (1)'!AL$42 -> 3.0028 | I1697: ='[2]Data (1)'!AQ$42 -> 1.7708 | J1697: ='[2]Data (1)'!AV$42 -> 1.8409 | K1697: ='[2]Data (1)'!BA$42 -> 1.9434 | L1697: ='[2]Data (1)'!BF$42 -> 2.2557 | M1697: ='[2]Data (1)'!BK$42 -> 2.3135
A1698: ENERGY2020 | B1698: Reference | C1698: Canada | D1698: Electric Production by Natural Gas | E1698: Terawatt hours | F1698: ='[2]Data (1)'!AB$45 -> 65.664 | G1698: ='[2]Data (1)'!AG$45 -> 79.1022 | H1698: ='[2]Data (1)'!AL$45 -> 96.7648 | I1698: ='[2]Data (1)'!AQ$45 -> 119.4366 | J1698: ='[2]Data (1)'!AV$45 -> 122.9489 | K1698: ='[2]Data (1)'!BA$45 -> 129.7827 | L1698: ='[2]Data (1)'!BF$45 -> 148.9165 | M1698: ='[2]Data (1)'!BK$45 -> 160.7064
A1699: ENERGY2020 | B1699: Reference | C1699: Canada | D1699: Electric Production by Coal | E1699: Terawatt hours | F1699: ='[2]Data (1)'!AB$48 -> 63.6805 | G1699: ='[2]Data (1)'!AG$48 -> 51.7295 | H1699: ='[2]Data (1)'!AL$48 -> 35.4645 | I1699: ='[2]Data (1)'!AQ$48 -> 0.9337 | J1699: ='[2]Data (1)'!AV$48 -> 0.9337 | K1699: ='[2]Data (1)'!BA$48 -> 0.9337 | L1699: ='[2]Data (1)'!BF$48 -> 0.9337 | M1699: ='[2]Data (1)'!BK$48 -> 0.9337
...

Sheet Variables
A1: # | B1: Variable | C1: Units
A2: 1 | B2: Brent Oil Price | C2: =VLOOKUP(B2,Results!$D$157:$E$6605,2,FALSE) -> Constant 2015 US$/barrel
A3: 2 | B3: Can-US Exchange Rate | C3: =VLOOKUP(B3,Results!$D$157:$E$6605,2,FALSE) -> CN$/US$
A4: 3 | B4: Coal Consumption | C4: =VLOOKUP(B4,Results!$D$157:$E$6605,2,FALSE) -> Million short tons
A5: 4 | B5: Coal Production | C5: =VLOOKUP(B5,Results!$D$157:$E$6605,2,FALSE) -> Million short tons
A6: 5 | B6: Crude Oil Capacity to USA | C6: =VLOOKUP(B6,Results!$D$157:$E$6605,2,FALSE) -> Million barrels per day
A7: 6 | B7: Crude Oil Exports to Canada | C7: =VLOOKUP(B7,Results!$D$157:$E$6605,2,FALSE) -> Million barrels per day
A8: 7 | B8: Crude Oil Exports to Mexico | C8: =VLOOKUP(B8,Results!$D$157:$E$6605,2,FALSE) -> Million barrels per day
A9: 8 | B9: Crude Oil Exports to USA | C9: =VLOOKUP(B9,Results!$D$157:$E$6605,2,FALSE) -> Million barrels per day
A10: 9 | B10: Crude Oil Net Exports | C10: =VLOOKUP(B10,Results!$D$157:$E$6605,2,FALSE) -> Million barrels per day
A11: 10 | B11: Crude Oil Production | C11: =VLOOKUP(B11,Results!$D$157:$E$6605,2,FALSE) -> Million barrels per day
A12: 11 | B12: Crude Oil Total Exports | C12: =VLOOKUP(B12,Results!$D$157:$E$6605,2,FALSE) -> Million barrels per day
A13: 12 | B13: Crude Oil Total Imports | C13: =VLOOKUP(B13,Results!$D$157:$E$6605,2,FALSE) -> Million barrels per day
... A64: 63 | B64: Utility Gas Price | C64: =VLOOKUP(B64,Results!$D$157:$E$6605,2,FALSE) -> Constant 2015 US$/1000cf
